BEGIN:VCALENDAR
VERSION:2.0
PRODID:-//La Casa Vecchia &amp; The Grey Lady - ECPv6.15.18//NONSGML v1.0//EN
CALSCALE:GREGORIAN
METHOD:PUBLISH
X-ORIGINAL-URL:https://www.70-72thepantiles.co.uk
X-WR-CALDESC:Events for La Casa Vecchia &amp; The Grey Lady
REFRESH-INTERVAL;VALUE=DURATION:PT1H
X-Robots-Tag:noindex
X-PUBLISHED-TTL:PT1H
BEGIN:VTIMEZONE
TZID:Europe/London
BEGIN:DAYLIGHT
TZOFFSETFROM:+0000
TZOFFSETTO:+0100
TZNAME:BST
DTSTART:20230326T010000
END:DAYLIGHT
BEGIN:STANDARD
TZOFFSETFROM:+0100
TZOFFSETTO:+0000
TZNAME:GMT
DTSTART:20231029T010000
END:STANDARD
BEGIN:DAYLIGHT
TZOFFSETFROM:+0000
TZOFFSETTO:+0100
TZNAME:BST
DTSTART:20240331T010000
END:DAYLIGHT
BEGIN:STANDARD
TZOFFSETFROM:+0100
TZOFFSETTO:+0000
TZNAME:GMT
DTSTART:20241027T010000
END:STANDARD
BEGIN:DAYLIGHT
TZOFFSETFROM:+0000
TZOFFSETTO:+0100
TZNAME:BST
DTSTART:20250330T010000
END:DAYLIGHT
BEGIN:STANDARD
TZOFFSETFROM:+0100
TZOFFSETTO:+0000
TZNAME:GMT
DTSTART:20251026T010000
END:STANDARD
END:VTIMEZONE
BEGIN:VEVENT
DTSTART;TZID=Europe/London:20241101T190000
DTEND;TZID=Europe/London:20241102T010000
DTSTAMP:20260426T020529
CREATED:20240627T181803Z
LAST-MODIFIED:20241128T201539Z
UID:10000450-1730487600-1730509200@www.70-72thepantiles.co.uk
SUMMARY:Fiesta Latina Night
DESCRIPTION:Welcome to the Fiesta Latina Night! Join us for a sizzling evening filled with Latin music\, mouth-watering tapas\, exotic cocktails\, and plenty of dancing. \n 
URL:https://www.70-72thepantiles.co.uk/event/fiesta-latina-night-5/
LOCATION:Kent
ORGANIZER;CN="Yanina Ferrandi":MAILTO:Yanina Fit Classes Ferrandi
END:VEVENT
BEGIN:VEVENT
DTSTART;TZID=Europe/London:20241102T190000
DTEND;TZID=Europe/London:20241102T230000
DTSTAMP:20260426T020529
CREATED:20240923T203103Z
LAST-MODIFIED:20241007T202709Z
UID:10000480-1730574000-1730588400@www.70-72thepantiles.co.uk
SUMMARY:The Grey Lady Sessions: THE RECKOSTACKS + ROB PICAZO (+band)
DESCRIPTION:Experience the magic of Grey Lady Sessions\, a cherished tradition at our venue since August 2005! Our intimate\, candlelit shows offer an exceptional live music experience steeped in atmosphere and ambience. Enjoy the best local original acts all in one bill\, carefully curated just for you. \nPlease note that tickets must be purchased in advance\, and we kindly request a listening etiquette during performances to ensure the music remains centre stage. Doors open at 7:15 pm\, and the music starts at 8 pm sharp. Join us as we celebrate new\, original music and support local artists. We are incredibly grateful for your continued support! \nTickets can be purchased by clicking here. 
URL:https://www.70-72thepantiles.co.uk/event/the-grey-lady-sessions-the-reckostacks-rob-picazo-band/
LOCATION:The Grey Lady\, 70-72 The Pantiles\, Tunbridge Wells\, Kent\, TN2 5TW\, United Kingdom
ATTACH;FMTTYPE=image/png:https://media.70-72thepantiles.co.uk/wp-content/uploads/2024/09/07212701/TGL-2Nov24.png
ORGANIZER;CN="Paul Dunton":MAILTO:paul@pauldunton.co.uk
END:VEVENT
BEGIN:VEVENT
DTSTART;TZID=Europe/London:20241107T190000
DTEND;TZID=Europe/London:20241107T230000
DTSTAMP:20260426T020529
CREATED:20241105T223737Z
LAST-MODIFIED:20241105T223821Z
UID:10000494-1731006000-1731020400@www.70-72thepantiles.co.uk
SUMMARY:David Migden & The Twisted Roots + The Anna Howie Band
DESCRIPTION:Experience the magic of Grey Lady Sessions\, a cherished tradition at our venue since August 2005! Our intimate\, candlelit shows offer an exceptional live music experience steeped in atmosphere and ambience. Enjoy the best local original acts all in one bill\, carefully curated just for you. \nPlease note that tickets must be purchased in advance\, and we kindly request a listening etiquette during performances to ensure the music remains centre stage. Doors open at 7:15 pm\, and the music starts at 8 pm sharp. Join us as we celebrate new\, original music and support local artists. We are incredibly grateful for your continued support! \nTickets can be purchased by clicking here. 
URL:https://www.70-72thepantiles.co.uk/event/david-migden-the-twisted-roots-the-anna-howie-band/
LOCATION:The Grey Lady\, 70-72 The Pantiles\, Tunbridge Wells\, Kent\, TN2 5TW\, United Kingdom
ATTACH;FMTTYPE=image/jpeg:https://media.70-72thepantiles.co.uk/wp-content/uploads/2024/11/05223727/TGL-7Nov24.jpg
ORGANIZER;CN="Paul Dunton":MAILTO:paul@pauldunton.co.uk
END:VEVENT
BEGIN:VEVENT
DTSTART;TZID=Europe/London:20241108T190000
DTEND;TZID=Europe/London:20241109T003000
DTSTAMP:20260426T020529
CREATED:20240917T195135Z
LAST-MODIFIED:20241220T201804Z
UID:10000479-1731092400-1731112200@www.70-72thepantiles.co.uk
SUMMARY:Laura & Co Jazz Quartet
DESCRIPTION:Enjoy an evening of jazz with ‘Laura & Co’\, an ensemble of talented musicians featuring vocalist Laura Lawton\, Roger Lewin on keys\, Paul Beeching on bass\, James Chapman on drums and Dan Foster on sax. \n\n\nYou’ll get to enjoy a wonderful mix of jazz standards recorded over the years by the likes of Ella Fitzgerald\, Billie Holliday\, Sarah Vaughan\, Peggy Lee\, Etta James\, Nina Simone and many more . Anything from ‘Fly Me To The Moon’\, to latin jazz with ‘Girl From Ipanema’ and ‘Desafinado’ \n\n\nIndulge in our delicious Mediterranean A La Carte menu or unwind with a drink from our bar while enjoying the performance. Join us for this memorable night of music and get your tickets now for only £10 per ticket. Don’t miss out on this chance to experience Laura & Co’s unique blend of jazz styles!
URL:https://www.70-72thepantiles.co.uk/event/laura-co-jazz-quartet-3/
LOCATION:The Grey Lady\, 70-72 The Pantiles\, Tunbridge Wells\, Kent\, TN2 5TW\, United Kingdom
CATEGORIES:Promote
ATTACH;FMTTYPE=image/jpeg:https://media.70-72thepantiles.co.uk/wp-content/uploads/2024/09/20201700/IMG_5262-scaled.jpg
END:VEVENT
BEGIN:VEVENT
DTSTART;TZID=Europe/London:20241129T193000
DTEND;TZID=Europe/London:20241130T013000
DTSTAMP:20260426T020529
CREATED:20240907T192959Z
LAST-MODIFIED:20240925T055223Z
UID:10000473-1732908600-1732930200@www.70-72thepantiles.co.uk
SUMMARY:SOLD OUT: Christmas Party Nights with Live Music
DESCRIPTION:WEEKEND CHRISTMAS PARTY\n\n\n\n\n2 COURSES £40.00 PER PERSON | 3 COURSES £45.00 PER PERSON \nIncludes a live band and dancing until half midnight. Available for groups of up to 80 guests. \n \nIf you would like to book or have any questions\, please email us at hello@70-72thepantiles.co.uk
URL:https://www.70-72thepantiles.co.uk/event/christmas-party-nights-with-live-music/
LOCATION:The Grey Lady\, 70-72 The Pantiles\, Tunbridge Wells\, Kent\, TN2 5TW\, United Kingdom
CATEGORIES:Christmas
ATTACH;FMTTYPE=image/webp:https://media.70-72thepantiles.co.uk/wp-content/uploads/2023/09/10132645/depositphotos_64982379-stock-photo-sold-out.webp
END:VEVENT
BEGIN:VEVENT
DTSTART;TZID=Europe/London:20241130T193000
DTEND;TZID=Europe/London:20241201T013000
DTSTAMP:20260426T020529
CREATED:20240907T193206Z
LAST-MODIFIED:20241127T194155Z
UID:10000475-1732995000-1733016600@www.70-72thepantiles.co.uk
SUMMARY:Shay & The Monks of Funk: Christmas Party Nights with Live Music
DESCRIPTION:Celebrate Christmas with Shay and the Monks of Funk! Bringing classic funk\, soul\, and party hits\, this high-energy band will keep your guests dancing all night. Get ready to groove into the season with Shay and the Monks of Funk!\n\nWEEKEND CHRISTMAS PARTY\n\n\n\n\n2 COURSES £40.00 PER PERSON | 3 COURSES £45.00 PER PERSON \nIncludes a live band and dancing until half midnight. Available for groups of up to 80 guests. \n \nIf you would like to book or have any questions\, please email us at hello@70-72thepantiles.co.uk
URL:https://www.70-72thepantiles.co.uk/event/christmas-party-nights-with-live-music-2/
LOCATION:The Grey Lady\, 70-72 The Pantiles\, Tunbridge Wells\, Kent\, TN2 5TW\, United Kingdom
CATEGORIES:Christmas
ATTACH;FMTTYPE=image/jpeg:https://media.70-72thepantiles.co.uk/wp-content/uploads/2023/08/05224245/christmas_party-1.jpg
END:VEVENT
END:VCALENDAR