BEGIN:VCALENDAR
VERSION:2.0
PRODID:-//La Casa Vecchia &amp; The Grey Lady - ECPv6.15.18//NONSGML v1.0//EN
CALSCALE:GREGORIAN
METHOD:PUBLISH
X-WR-CALNAME:La Casa Vecchia &amp; The Grey Lady
X-ORIGINAL-URL:https://www.70-72thepantiles.co.uk
X-WR-CALDESC:Events for La Casa Vecchia &amp; The Grey Lady
REFRESH-INTERVAL;VALUE=DURATION:PT1H
X-Robots-Tag:noindex
X-PUBLISHED-TTL:PT1H
BEGIN:VTIMEZONE
TZID:Europe/London
BEGIN:DAYLIGHT
TZOFFSETFROM:+0000
TZOFFSETTO:+0100
TZNAME:BST
DTSTART:20240331T010000
END:DAYLIGHT
BEGIN:STANDARD
TZOFFSETFROM:+0100
TZOFFSETTO:+0000
TZNAME:GMT
DTSTART:20241027T010000
END:STANDARD
BEGIN:DAYLIGHT
TZOFFSETFROM:+0000
TZOFFSETTO:+0100
TZNAME:BST
DTSTART:20250330T010000
END:DAYLIGHT
BEGIN:STANDARD
TZOFFSETFROM:+0100
TZOFFSETTO:+0000
TZNAME:GMT
DTSTART:20251026T010000
END:STANDARD
BEGIN:DAYLIGHT
TZOFFSETFROM:+0000
TZOFFSETTO:+0100
TZNAME:BST
DTSTART:20260329T010000
END:DAYLIGHT
BEGIN:STANDARD
TZOFFSETFROM:+0100
TZOFFSETTO:+0000
TZNAME:GMT
DTSTART:20261025T010000
END:STANDARD
END:VTIMEZONE
BEGIN:VEVENT
DTSTART;TZID=Europe/London:20250603T190000
DTEND;TZID=Europe/London:20250603T230000
DTSTAMP:20260424T224654
CREATED:20250325T195306Z
LAST-MODIFIED:20250514T092005Z
UID:10000555-1748977200-1748991600@www.70-72thepantiles.co.uk
SUMMARY:Open Mic Singers Night
DESCRIPTION:Join us for an unforgettable evening of live music\, hosted in the warm and welcoming atmosphere of The Grey Lady. Whether you’re a seasoned performer or just starting out\, our Open Mic Singers’ Night is the perfect opportunity to take the stage! \n🎹 Perform alongside the brilliant pianist Roger Lewin📄 Bring your own sheet music or iReal Pro charts — backing tracks welcome!🎶 Songbooks provided on the night🎤 Original material and singer-songwriters welcome \nEnjoy our dedicated bar\, and treat yourself to delicious tapas or full menu dining before or during the show. Tables can be booked for diners\, so why not make a night of it? \n💷 Entry: £5 on the door (for both singers and listeners)☎️ Call us on 01892 544700 to book your table. \nCome and experience the magic of live music in a fun\, friendly\, and supportive setting!
URL:https://www.70-72thepantiles.co.uk/event/open-mic-singers-night/
LOCATION:The Grey Lady\, 70-72 The Pantiles\, Tunbridge Wells\, Kent\, TN2 5TW\, United Kingdom
ATTACH;FMTTYPE=image/jpeg:https://media.70-72thepantiles.co.uk/wp-content/uploads/2025/03/14101918/284129CB-70BF-4A72-9BBA-C6CF8C4BE1FF.jpeg
END:VEVENT
END:VCALENDAR