BEGIN:VCALENDAR
VERSION:2.0
PRODID:-//La Casa Vecchia &amp; The Grey Lady - ECPv6.15.18//NONSGML v1.0//EN
CALSCALE:GREGORIAN
METHOD:PUBLISH
X-ORIGINAL-URL:https://www.70-72thepantiles.co.uk
X-WR-CALDESC:Events for La Casa Vecchia &amp; The Grey Lady
REFRESH-INTERVAL;VALUE=DURATION:PT1H
X-Robots-Tag:noindex
X-PUBLISHED-TTL:PT1H
BEGIN:VTIMEZONE
TZID:Europe/London
BEGIN:DAYLIGHT
TZOFFSETFROM:+0000
TZOFFSETTO:+0100
TZNAME:BST
DTSTART:20240331T010000
END:DAYLIGHT
BEGIN:STANDARD
TZOFFSETFROM:+0100
TZOFFSETTO:+0000
TZNAME:GMT
DTSTART:20241027T010000
END:STANDARD
BEGIN:DAYLIGHT
TZOFFSETFROM:+0000
TZOFFSETTO:+0100
TZNAME:BST
DTSTART:20250330T010000
END:DAYLIGHT
BEGIN:STANDARD
TZOFFSETFROM:+0100
TZOFFSETTO:+0000
TZNAME:GMT
DTSTART:20251026T010000
END:STANDARD
BEGIN:DAYLIGHT
TZOFFSETFROM:+0000
TZOFFSETTO:+0100
TZNAME:BST
DTSTART:20260329T010000
END:DAYLIGHT
BEGIN:STANDARD
TZOFFSETFROM:+0100
TZOFFSETTO:+0000
TZNAME:GMT
DTSTART:20261025T010000
END:STANDARD
END:VTIMEZONE
BEGIN:VEVENT
DTSTART;TZID=Europe/London:20250606T190000
DTEND;TZID=Europe/London:20250606T233000
DTSTAMP:20260424T224644
CREATED:20250521T053759Z
LAST-MODIFIED:20250521T054129Z
UID:10000623-1749236400-1749252600@www.70-72thepantiles.co.uk
SUMMARY:Laura & Co
DESCRIPTION:Enjoy an evening of jazz with ‘Laura & Co’\, an ensemble of talented musicians featuring vocalist Laura Lawton\, John Harriman on keys\, Shura Greenberg on bass\, Lionel Shell on drums and Nick Beston on sax.   \n You’ll experience a wonderful mix of jazz standards recorded over the years by the likes of Ella Fitzgerald\, Billie Holliday\, Sarah Vaughan\, Peggy Lee\, Etta James\, Nina Simone and many more.  Anything from ‘Fly Me To The Moon’\, to latin jazz with ‘Girl From Ipanema’ and ‘Desafinado’.
URL:https://www.70-72thepantiles.co.uk/event/laura-co-2/
LOCATION:The Grey Lady\, 70-72 The Pantiles\, Tunbridge Wells\, Kent\, TN2 5TW\, United Kingdom
ATTACH;FMTTYPE=image/jpeg:https://media.70-72thepantiles.co.uk/wp-content/uploads/2025/05/21063720/IMG_6855.jpg
END:VEVENT
END:VCALENDAR