BEGIN:VCALENDAR
VERSION:2.0
PRODID:-//La Casa Vecchia &amp; The Grey Lady - ECPv6.15.18//NONSGML v1.0//EN
CALSCALE:GREGORIAN
METHOD:PUBLISH
X-ORIGINAL-URL:https://www.70-72thepantiles.co.uk
X-WR-CALDESC:Events for La Casa Vecchia &amp; The Grey Lady
REFRESH-INTERVAL;VALUE=DURATION:PT1H
X-Robots-Tag:noindex
X-PUBLISHED-TTL:PT1H
BEGIN:VTIMEZONE
TZID:Europe/London
BEGIN:DAYLIGHT
TZOFFSETFROM:+0000
TZOFFSETTO:+0100
TZNAME:BST
DTSTART:20240331T010000
END:DAYLIGHT
BEGIN:STANDARD
TZOFFSETFROM:+0100
TZOFFSETTO:+0000
TZNAME:GMT
DTSTART:20241027T010000
END:STANDARD
BEGIN:DAYLIGHT
TZOFFSETFROM:+0000
TZOFFSETTO:+0100
TZNAME:BST
DTSTART:20250330T010000
END:DAYLIGHT
BEGIN:STANDARD
TZOFFSETFROM:+0100
TZOFFSETTO:+0000
TZNAME:GMT
DTSTART:20251026T010000
END:STANDARD
BEGIN:DAYLIGHT
TZOFFSETFROM:+0000
TZOFFSETTO:+0100
TZNAME:BST
DTSTART:20260329T010000
END:DAYLIGHT
BEGIN:STANDARD
TZOFFSETFROM:+0100
TZOFFSETTO:+0000
TZNAME:GMT
DTSTART:20261025T010000
END:STANDARD
END:VTIMEZONE
BEGIN:VEVENT
DTSTART;TZID=Europe/London:20250630T193000
DTEND;TZID=Europe/London:20250630T220000
DTSTAMP:20260424T201622
CREATED:20250205T212130Z
LAST-MODIFIED:20250603T192908Z
UID:10000540-1751311800-1751320800@www.70-72thepantiles.co.uk
SUMMARY:Blood Me Up Marjorie
DESCRIPTION:Join us on Sunday June 29 or Monday June 30 (8pm) for a comedy double bill. Project M Productions bring their hilarious behind the scenes look at a murder mystery ‘Blood Me Up Marjorie!’ to The Grey Lady\, fresh from The Brighton Fringe. This two-hander is perfect Tunbridge Wells Fringe material. Also on the bill is comedian Gorden Stegall. \nTickets can be be purchased on the TW Fringe website by clicking here.
URL:https://www.70-72thepantiles.co.uk/event/blood-me-up-marjorie-2/
LOCATION:The Grey Lady\, 70-72 The Pantiles\, Tunbridge Wells\, Kent\, TN2 5TW\, United Kingdom
ATTACH;FMTTYPE=image/jpeg:https://media.70-72thepantiles.co.uk/wp-content/uploads/2025/01/05212004/TW-Fringe-9.jpg
END:VEVENT
END:VCALENDAR