BEGIN:VCALENDAR
VERSION:2.0
PRODID:-//La Casa Vecchia &amp; The Grey Lady - ECPv6.15.18//NONSGML v1.0//EN
CALSCALE:GREGORIAN
METHOD:PUBLISH
X-ORIGINAL-URL:https://www.70-72thepantiles.co.uk
X-WR-CALDESC:Events for La Casa Vecchia &amp; The Grey Lady
REFRESH-INTERVAL;VALUE=DURATION:PT1H
X-Robots-Tag:noindex
X-PUBLISHED-TTL:PT1H
BEGIN:VTIMEZONE
TZID:Europe/London
BEGIN:DAYLIGHT
TZOFFSETFROM:+0000
TZOFFSETTO:+0100
TZNAME:BST
DTSTART:20240331T010000
END:DAYLIGHT
BEGIN:STANDARD
TZOFFSETFROM:+0100
TZOFFSETTO:+0000
TZNAME:GMT
DTSTART:20241027T010000
END:STANDARD
BEGIN:DAYLIGHT
TZOFFSETFROM:+0000
TZOFFSETTO:+0100
TZNAME:BST
DTSTART:20250330T010000
END:DAYLIGHT
BEGIN:STANDARD
TZOFFSETFROM:+0100
TZOFFSETTO:+0000
TZNAME:GMT
DTSTART:20251026T010000
END:STANDARD
BEGIN:DAYLIGHT
TZOFFSETFROM:+0000
TZOFFSETTO:+0100
TZNAME:BST
DTSTART:20260329T010000
END:DAYLIGHT
BEGIN:STANDARD
TZOFFSETFROM:+0100
TZOFFSETTO:+0000
TZNAME:GMT
DTSTART:20261025T010000
END:STANDARD
END:VTIMEZONE
BEGIN:VEVENT
DTSTART;TZID=Europe/London:20250702T190000
DTEND;TZID=Europe/London:20250702T213000
DTSTAMP:20260424T201621
CREATED:20250605T190231Z
LAST-MODIFIED:20250607T155407Z
UID:10000626-1751482800-1751491800@www.70-72thepantiles.co.uk
SUMMARY:Tunbridge Wells Fringe: Gags for Mags Comedy
DESCRIPTION:GAGS for MAGS \nWe’ve crammed TEN of the freshest and funniest local comedians into one night. \nIt’s fast-paced\, unpredictable\, and absolutely packed with variety. \nWhether you’re a comedy connoisseur or just in it for a pint and a giggle\, you’ll find something to love \nGrab your tickets\, grab a drink\, and strap in! \nAn NSPCC Comedy benefit in memory of Mags Jubb. \n  \nTickets can be purchased by clicking here. 
URL:https://www.70-72thepantiles.co.uk/event/tunbridge-wells-fringe-gags-for-mags-comedy/
LOCATION:The Grey Lady\, 70-72 The Pantiles\, Tunbridge Wells\, Kent\, TN2 5TW\, United Kingdom
ATTACH;FMTTYPE=image/jpeg:https://media.70-72thepantiles.co.uk/wp-content/uploads/2025/06/05200219/04-27-2025-095150-1481.jpg
END:VEVENT
END:VCALENDAR