BEGIN:VCALENDAR
VERSION:2.0
PRODID:-//La Casa Vecchia &amp; The Grey Lady - ECPv6.15.18//NONSGML v1.0//EN
CALSCALE:GREGORIAN
METHOD:PUBLISH
X-ORIGINAL-URL:https://www.70-72thepantiles.co.uk
X-WR-CALDESC:Events for La Casa Vecchia &amp; The Grey Lady
REFRESH-INTERVAL;VALUE=DURATION:PT1H
X-Robots-Tag:noindex
X-PUBLISHED-TTL:PT1H
BEGIN:VTIMEZONE
TZID:Europe/London
BEGIN:DAYLIGHT
TZOFFSETFROM:+0000
TZOFFSETTO:+0100
TZNAME:BST
DTSTART:20240331T010000
END:DAYLIGHT
BEGIN:STANDARD
TZOFFSETFROM:+0100
TZOFFSETTO:+0000
TZNAME:GMT
DTSTART:20241027T010000
END:STANDARD
BEGIN:DAYLIGHT
TZOFFSETFROM:+0000
TZOFFSETTO:+0100
TZNAME:BST
DTSTART:20250330T010000
END:DAYLIGHT
BEGIN:STANDARD
TZOFFSETFROM:+0100
TZOFFSETTO:+0000
TZNAME:GMT
DTSTART:20251026T010000
END:STANDARD
BEGIN:DAYLIGHT
TZOFFSETFROM:+0000
TZOFFSETTO:+0100
TZNAME:BST
DTSTART:20260329T010000
END:DAYLIGHT
BEGIN:STANDARD
TZOFFSETFROM:+0100
TZOFFSETTO:+0000
TZNAME:GMT
DTSTART:20261025T010000
END:STANDARD
END:VTIMEZONE
BEGIN:VEVENT
DTSTART;TZID=Europe/London:20250707T193000
DTEND;TZID=Europe/London:20250707T193000
DTSTAMP:20260424T201623
CREATED:20250430T191926Z
LAST-MODIFIED:20250514T202810Z
UID:10000610-1751916600-1751916600@www.70-72thepantiles.co.uk
SUMMARY:Tunbridge Wells Fringe: Mark Johnson (The Midnight River Crew)
DESCRIPTION:Mark is now working on new material to be recorded through 2021. He writes serious songs for serious people. Motivated by human stories and current affairs\, both local and global. Two MRC albums released= ‘My City Of Fire’ and ‘Scirocco’. Mark worked with songwriter Robin Nixon on a ‘song-cycle’ involving both music and poetry. ‘Fair Game’ is now released. Mark’s songs have been covered by Jennifer Crook\, My Darling Clementine\, and Bob Andrews (Keys wizard with Graham Parker and The Rumour). His influences are Ray Davies\, Graham Parker\, Smokey Robinson\, Gladys Knight\, and Emmylou Harris. \nFree tickets can be reserved by clicking here.
URL:https://www.70-72thepantiles.co.uk/event/tunbridge-wells-fringe-mark-johnson-the-midnight-river-crew-2/
LOCATION:The Grey Lady\, 70-72 The Pantiles\, Tunbridge Wells\, Kent\, TN2 5TW\, United Kingdom
ATTACH;FMTTYPE=image/jpeg:https://media.70-72thepantiles.co.uk/wp-content/uploads/2025/04/14212725/04-30-2025-100716-7033.jpg
END:VEVENT
END:VCALENDAR