BEGIN:VCALENDAR
VERSION:2.0
PRODID:-//La Casa Vecchia &amp; The Grey Lady - ECPv6.15.18//NONSGML v1.0//EN
CALSCALE:GREGORIAN
METHOD:PUBLISH
X-ORIGINAL-URL:https://www.70-72thepantiles.co.uk
X-WR-CALDESC:Events for La Casa Vecchia &amp; The Grey Lady
REFRESH-INTERVAL;VALUE=DURATION:PT1H
X-Robots-Tag:noindex
X-PUBLISHED-TTL:PT1H
BEGIN:VTIMEZONE
TZID:Europe/London
BEGIN:DAYLIGHT
TZOFFSETFROM:+0000
TZOFFSETTO:+0100
TZNAME:BST
DTSTART:20240331T010000
END:DAYLIGHT
BEGIN:STANDARD
TZOFFSETFROM:+0100
TZOFFSETTO:+0000
TZNAME:GMT
DTSTART:20241027T010000
END:STANDARD
BEGIN:DAYLIGHT
TZOFFSETFROM:+0000
TZOFFSETTO:+0100
TZNAME:BST
DTSTART:20250330T010000
END:DAYLIGHT
BEGIN:STANDARD
TZOFFSETFROM:+0100
TZOFFSETTO:+0000
TZNAME:GMT
DTSTART:20251026T010000
END:STANDARD
BEGIN:DAYLIGHT
TZOFFSETFROM:+0000
TZOFFSETTO:+0100
TZNAME:BST
DTSTART:20260329T010000
END:DAYLIGHT
BEGIN:STANDARD
TZOFFSETFROM:+0100
TZOFFSETTO:+0000
TZNAME:GMT
DTSTART:20261025T010000
END:STANDARD
END:VTIMEZONE
BEGIN:VEVENT
DTSTART;TZID=Europe/London:20250709T193000
DTEND;TZID=Europe/London:20250709T203000
DTSTAMP:20260424T201619
CREATED:20250430T191927Z
LAST-MODIFIED:20250630T131133Z
UID:10000611-1752089400-1752093000@www.70-72thepantiles.co.uk
SUMMARY:Tunbridge Wells Fringe: Groove 101
DESCRIPTION:Groove 101 Band are an award winning dynamic group of Tunbridge Wells and South London based musicians. They take audiences on a musical journey from classic soul\, funk to ska\, reggae and modern dance styles. The band features soulful & jazzy vocals\, fiery horns and tight infections rhythms. Each performance is unique: the band captivates audiences with live improvisation and contemporary arrangements such that no two performances are ever the same. Groove 101 were proud recipients of Royal Borough of Greenwich Arts and Entertainment Award 2024. \nCommunity engagement is a core aspect of the Groove 101 ethos. Participation is weaved into the design of every show. This is evident through the approach to audience participation and communication. In addition to playing a wide\, variety of culturally diverse music\, performances are accessible to all. Groove 101 have signed up to Royal Borough of Greenwich equality and equity charter. There are featured sections of each show where audience members can sing and showcase their dancing. Children and young people from the community have contributed drumming along with the band\, and the group has collaborated with other artists e.g. with steel pan at Woolwich Carnival 2023\, and even a latin dance troupe. \n  \nTickets can be purchased by clicking here. 
URL:https://www.70-72thepantiles.co.uk/event/tunbridge-wells-fringe-groove-101/
LOCATION:The Grey Lady\, 70-72 The Pantiles\, Tunbridge Wells\, Kent\, TN2 5TW\, United Kingdom
ATTACH;FMTTYPE=image/jpeg:https://media.70-72thepantiles.co.uk/wp-content/uploads/2025/04/05200638/04-28-2025-205458-4938.jpg
END:VEVENT
END:VCALENDAR