BEGIN:VCALENDAR
VERSION:2.0
PRODID:-//La Casa Vecchia &amp; The Grey Lady - ECPv6.15.18//NONSGML v1.0//EN
CALSCALE:GREGORIAN
METHOD:PUBLISH
X-ORIGINAL-URL:https://www.70-72thepantiles.co.uk
X-WR-CALDESC:Events for La Casa Vecchia &amp; The Grey Lady
REFRESH-INTERVAL;VALUE=DURATION:PT1H
X-Robots-Tag:noindex
X-PUBLISHED-TTL:PT1H
BEGIN:VTIMEZONE
TZID:Europe/London
BEGIN:DAYLIGHT
TZOFFSETFROM:+0000
TZOFFSETTO:+0100
TZNAME:BST
DTSTART:20240331T010000
END:DAYLIGHT
BEGIN:STANDARD
TZOFFSETFROM:+0100
TZOFFSETTO:+0000
TZNAME:GMT
DTSTART:20241027T010000
END:STANDARD
BEGIN:DAYLIGHT
TZOFFSETFROM:+0000
TZOFFSETTO:+0100
TZNAME:BST
DTSTART:20250330T010000
END:DAYLIGHT
BEGIN:STANDARD
TZOFFSETFROM:+0100
TZOFFSETTO:+0000
TZNAME:GMT
DTSTART:20251026T010000
END:STANDARD
BEGIN:DAYLIGHT
TZOFFSETFROM:+0000
TZOFFSETTO:+0100
TZNAME:BST
DTSTART:20260329T010000
END:DAYLIGHT
BEGIN:STANDARD
TZOFFSETFROM:+0100
TZOFFSETTO:+0000
TZNAME:GMT
DTSTART:20261025T010000
END:STANDARD
END:VTIMEZONE
BEGIN:VEVENT
DTSTART;TZID=Europe/London:20250713T193000
DTEND;TZID=Europe/London:20250713T213000
DTSTAMP:20260425T042721
CREATED:20250430T192327Z
LAST-MODIFIED:20250605T190848Z
UID:10000619-1752435000-1752442200@www.70-72thepantiles.co.uk
SUMMARY:Tunbridge Wells Fringe: Matt Lowes: In Your Endo
DESCRIPTION:After successful shows at various fringes across the country Matt Lowes is bringing his debut solo show In Your Endo to the Tunbridge Wells Fringe. \nA stand up show about a man going from straight to gay and trying to fit in along the way\, navigating his way through love\, loss and lad culture. \nNew Forest New Comedian Finalist\, \nWest End New Old Act of the Year Finalist \nTickets can be purchased by clicking here. 
URL:https://www.70-72thepantiles.co.uk/event/tunbridge-wells-fringe-matt-lowes-in-your-endo/
LOCATION:The Grey Lady\, 70-72 The Pantiles\, Tunbridge Wells\, Kent\, TN2 5TW\, United Kingdom
ATTACH;FMTTYPE=image/jpeg:https://media.70-72thepantiles.co.uk/wp-content/uploads/2025/04/05200824/01-17-2025-171500-6161.jpg
END:VEVENT
END:VCALENDAR