BEGIN:VCALENDAR
VERSION:2.0
PRODID:-//La Casa Vecchia &amp; The Grey Lady - ECPv6.15.18//NONSGML v1.0//EN
CALSCALE:GREGORIAN
METHOD:PUBLISH
X-WR-CALNAME:La Casa Vecchia &amp; The Grey Lady
X-ORIGINAL-URL:https://www.70-72thepantiles.co.uk
X-WR-CALDESC:Events for La Casa Vecchia &amp; The Grey Lady
REFRESH-INTERVAL;VALUE=DURATION:PT1H
X-Robots-Tag:noindex
X-PUBLISHED-TTL:PT1H
BEGIN:VTIMEZONE
TZID:Europe/London
BEGIN:DAYLIGHT
TZOFFSETFROM:+0000
TZOFFSETTO:+0100
TZNAME:BST
DTSTART:20240331T010000
END:DAYLIGHT
BEGIN:STANDARD
TZOFFSETFROM:+0100
TZOFFSETTO:+0000
TZNAME:GMT
DTSTART:20241027T010000
END:STANDARD
BEGIN:DAYLIGHT
TZOFFSETFROM:+0000
TZOFFSETTO:+0100
TZNAME:BST
DTSTART:20250330T010000
END:DAYLIGHT
BEGIN:STANDARD
TZOFFSETFROM:+0100
TZOFFSETTO:+0000
TZNAME:GMT
DTSTART:20251026T010000
END:STANDARD
BEGIN:DAYLIGHT
TZOFFSETFROM:+0000
TZOFFSETTO:+0100
TZNAME:BST
DTSTART:20260329T010000
END:DAYLIGHT
BEGIN:STANDARD
TZOFFSETFROM:+0100
TZOFFSETTO:+0000
TZNAME:GMT
DTSTART:20261025T010000
END:STANDARD
END:VTIMEZONE
BEGIN:VEVENT
DTSTART;TZID=Europe/London:20250905T200000
DTEND;TZID=Europe/London:20250906T010000
DTSTAMP:20260424T175321
CREATED:20250610T204410Z
LAST-MODIFIED:20250905T174508Z
UID:10000806-1757102400-1757120400@www.70-72thepantiles.co.uk
SUMMARY:HOUSE/ FUNK/ DISCO Night
DESCRIPTION:Luan / LOST in House Music and his crew are very excited to be hosting this Funky House night @ The Grey Lady Bar & Lounge in The Pantiles\, Tunbridge Wells. \nWe have some amazing DJs playing on the night\, each one bringing their very own style and mix. We have kept the tickets at a low and reasonable price as the aim of this event is to bring people together. The idea is to leave all our troubles behind for the evening while we enjoy the dance floor together. \nFull Line Up (A–Z):• Chris Biscuit (Bora Bora – Ibiza)• Luan Gjaci (Hosting / LOST in House Music)• Luke Turner (Balearic Fusion)• Nick Kray (Club Trend)• Robbie J (Moodswing) \nWe are looking forward to seeing many of you there. It’s a very cool\, intimate venue where we will be taking you all for a trip down memory lane\, music-wise. \nThis event is strictly 18+ \nDon’t miss this!!!
URL:https://www.70-72thepantiles.co.uk/event/house-funk-disco-night/
LOCATION:The Grey Lady\, 70-72 The Pantiles\, Tunbridge Wells\, Kent\, TN2 5TW\, United Kingdom
ATTACH;FMTTYPE=image/png:https://media.70-72thepantiles.co.uk/wp-content/uploads/2025/06/10214250/thumbnail_image0.png
END:VEVENT
END:VCALENDAR