BEGIN:VCALENDAR
VERSION:2.0
PRODID:-//La Casa Vecchia &amp; The Grey Lady - ECPv6.15.18//NONSGML v1.0//EN
CALSCALE:GREGORIAN
METHOD:PUBLISH
X-ORIGINAL-URL:https://www.70-72thepantiles.co.uk
X-WR-CALDESC:Events for La Casa Vecchia &amp; The Grey Lady
REFRESH-INTERVAL;VALUE=DURATION:PT1H
X-Robots-Tag:noindex
X-PUBLISHED-TTL:PT1H
BEGIN:VTIMEZONE
TZID:Europe/London
BEGIN:DAYLIGHT
TZOFFSETFROM:+0000
TZOFFSETTO:+0100
TZNAME:BST
DTSTART:20240331T010000
END:DAYLIGHT
BEGIN:STANDARD
TZOFFSETFROM:+0100
TZOFFSETTO:+0000
TZNAME:GMT
DTSTART:20241027T010000
END:STANDARD
BEGIN:DAYLIGHT
TZOFFSETFROM:+0000
TZOFFSETTO:+0100
TZNAME:BST
DTSTART:20250330T010000
END:DAYLIGHT
BEGIN:STANDARD
TZOFFSETFROM:+0100
TZOFFSETTO:+0000
TZNAME:GMT
DTSTART:20251026T010000
END:STANDARD
BEGIN:DAYLIGHT
TZOFFSETFROM:+0000
TZOFFSETTO:+0100
TZNAME:BST
DTSTART:20260329T010000
END:DAYLIGHT
BEGIN:STANDARD
TZOFFSETFROM:+0100
TZOFFSETTO:+0000
TZNAME:GMT
DTSTART:20261025T010000
END:STANDARD
END:VTIMEZONE
BEGIN:VEVENT
DTSTART;TZID=Europe/London:20250919T190000
DTEND;TZID=Europe/London:20250920T000000
DTSTAMP:20260424T175312
CREATED:20250715T220949Z
LAST-MODIFIED:20250901T202706Z
UID:10000882-1758308400-1758326400@www.70-72thepantiles.co.uk
SUMMARY:Jenny Maslin & Friends
DESCRIPTION:“Beautifully talented. Her voice is outstanding and her talent on the violin admirable.” (Google review)\nWelcoming back the popular Jenny Maslin & friends jazz music night to the Grey Lady Music Lounge. \nJenny is joined by critically acclaimed jazz pianist John Harriman and high-in-demand double bassist James Sunney. Both John and James have enjoyed international careers\, performing across the world in a number of musical outfits. \nThis sees them enjoying a music night of favourite jazz standards on their home turf\, accompanying singer and violinist Jenny Maslin. \nThe trio will be joined by light percussion\, candlelight and delicious food and wine – easing you into the weekend with some top notch\, well-known jazz numbers: \nFrom gems such as It’s Only a Paper Moon\, Autumn Leaves / Les Feuilles Mortes and Girl from Ipanema to My Funny Valentine and All Blues\, there’s hopefully something to get all jazz lovers’ toes tapping! \nJenny Maslin:\nwww.jennifermaslin.co.uk –\nSoundCloud\nJohn Harriman:\nwww.johnharriman.com\nJames Sunney:\nwww.instagram.com/sunneyboy
URL:https://www.70-72thepantiles.co.uk/event/jenny-maslin-friends/
LOCATION:The Grey Lady\, 70-72 The Pantiles\, Tunbridge Wells\, Kent\, TN2 5TW\, United Kingdom
ATTACH;FMTTYPE=image/jpeg:https://media.70-72thepantiles.co.uk/wp-content/uploads/2025/07/15230930/Jenny-Maslin-and-friends-08.04.22.jpg
END:VEVENT
END:VCALENDAR