BEGIN:VCALENDAR
VERSION:2.0
PRODID:-//La Casa Vecchia &amp; The Grey Lady - ECPv6.15.18//NONSGML v1.0//EN
CALSCALE:GREGORIAN
METHOD:PUBLISH
X-ORIGINAL-URL:https://www.70-72thepantiles.co.uk
X-WR-CALDESC:Events for La Casa Vecchia &amp; The Grey Lady
REFRESH-INTERVAL;VALUE=DURATION:PT1H
X-Robots-Tag:noindex
X-PUBLISHED-TTL:PT1H
BEGIN:VTIMEZONE
TZID:Europe/London
BEGIN:DAYLIGHT
TZOFFSETFROM:+0000
TZOFFSETTO:+0100
TZNAME:BST
DTSTART:20240331T010000
END:DAYLIGHT
BEGIN:STANDARD
TZOFFSETFROM:+0100
TZOFFSETTO:+0000
TZNAME:GMT
DTSTART:20241027T010000
END:STANDARD
BEGIN:DAYLIGHT
TZOFFSETFROM:+0000
TZOFFSETTO:+0100
TZNAME:BST
DTSTART:20250330T010000
END:DAYLIGHT
BEGIN:STANDARD
TZOFFSETFROM:+0100
TZOFFSETTO:+0000
TZNAME:GMT
DTSTART:20251026T010000
END:STANDARD
BEGIN:DAYLIGHT
TZOFFSETFROM:+0000
TZOFFSETTO:+0100
TZNAME:BST
DTSTART:20260329T010000
END:DAYLIGHT
BEGIN:STANDARD
TZOFFSETFROM:+0100
TZOFFSETTO:+0000
TZNAME:GMT
DTSTART:20261025T010000
END:STANDARD
END:VTIMEZONE
BEGIN:VEVENT
DTSTART;TZID=Europe/London:20251031T190000
DTEND;TZID=Europe/London:20251101T000000
DTSTAMP:20260424T144708
CREATED:20250624T190934Z
LAST-MODIFIED:20250624T193349Z
UID:10000875-1761937200-1761955200@www.70-72thepantiles.co.uk
SUMMARY:More to Life
DESCRIPTION:Celebrating 20 Years of Live Music – More to Life Returns to The Grey Lady \nThis year marks 20 years of The Grey Lady\, and we’re kicking off our celebrations with a very special reunion show. \nOne of the first bands to regularly grace our weekend stage\, More to Life are reuniting to help us celebrate two decades as The Pantiles’ premier live music venue. With deep roots in the local scene\, members of More to Life have gone on to perform with bands like Over the Edge\, Project 5\, Groove Agents\, Jonah’s Wail and Disco Odyssey. \nFor this special night\, we’re especially thrilled to welcome back original vocalist Hannah Hampson to the lineup. Expect a high-energy mix of Jazz\, Funk and Soul — music with an ear to the beat and an eye on the dance floor. \nJoin us for a night of great music\, good vibes\, and a celebration of 20 incredible years at The Grey Lady.
URL:https://www.70-72thepantiles.co.uk/event/more-to-life/
LOCATION:Kent
ATTACH;FMTTYPE=image/jpeg:https://media.70-72thepantiles.co.uk/wp-content/uploads/2025/06/24200423/1750791829787-8aa6e3ef-c864-4dea-ae34-e5bf31e6f6b7_1.jpg
END:VEVENT
END:VCALENDAR