BEGIN:VCALENDAR
VERSION:2.0
PRODID:-//La Casa Vecchia &amp; The Grey Lady - ECPv6.15.18//NONSGML v1.0//EN
CALSCALE:GREGORIAN
METHOD:PUBLISH
X-WR-CALNAME:La Casa Vecchia &amp; The Grey Lady
X-ORIGINAL-URL:https://www.70-72thepantiles.co.uk
X-WR-CALDESC:Events for La Casa Vecchia &amp; The Grey Lady
REFRESH-INTERVAL;VALUE=DURATION:PT1H
X-Robots-Tag:noindex
X-PUBLISHED-TTL:PT1H
BEGIN:VTIMEZONE
TZID:Europe/London
BEGIN:DAYLIGHT
TZOFFSETFROM:+0000
TZOFFSETTO:+0100
TZNAME:BST
DTSTART:20240331T010000
END:DAYLIGHT
BEGIN:STANDARD
TZOFFSETFROM:+0100
TZOFFSETTO:+0000
TZNAME:GMT
DTSTART:20241027T010000
END:STANDARD
BEGIN:DAYLIGHT
TZOFFSETFROM:+0000
TZOFFSETTO:+0100
TZNAME:BST
DTSTART:20250330T010000
END:DAYLIGHT
BEGIN:STANDARD
TZOFFSETFROM:+0100
TZOFFSETTO:+0000
TZNAME:GMT
DTSTART:20251026T010000
END:STANDARD
BEGIN:DAYLIGHT
TZOFFSETFROM:+0000
TZOFFSETTO:+0100
TZNAME:BST
DTSTART:20260329T010000
END:DAYLIGHT
BEGIN:STANDARD
TZOFFSETFROM:+0100
TZOFFSETTO:+0000
TZNAME:GMT
DTSTART:20261025T010000
END:STANDARD
END:VTIMEZONE
BEGIN:VEVENT
DTSTART;TZID=Europe/London:20251122T190000
DTEND;TZID=Europe/London:20251122T233000
DTSTAMP:20260424T173616
CREATED:20250923T193820Z
LAST-MODIFIED:20251028T215241Z
UID:10000897-1763838000-1763854200@www.70-72thepantiles.co.uk
SUMMARY:The Grey Lady Sessions: PAUL DUNTON ORCHESTRA + OLD MERCIA
DESCRIPTION:Join us on Nov 22nd at The Grey Lady Sessions featuring superb local original music from The Paul Dunton Orchestra and Old Mercia.\n\n\n\nWelcome to The Grey Lady Sessions featuring PAUL DUNTON ORCHESTRA and OLD MERCIA! Join us at The Grey Lady for an unforgettable candlelit concert. Expect top draw cinematic pop and alt folk / Americana vibes! \n  \nThe Paul Dunton Orchestra \nTunbridge Wells based musician Paul Dunton leads his own cross-over orchestra providing an uplifting mix of americana and cinematic pop. Performing a mix of Paul’s own compositions and a varied selection of uniquely arranged standards\, from the likes of Fleetwood Mac and Daisy Jones and The Six\, through to Massive Attack and London Grammar. \nwww.facebook.com/paulduntonorchestra\nwww.Instagram.com/paulduntonorchestra \nSpotify \n \nOld Mercia \nOld Mercia are a band based in and around Royal Tunbridge Wells. We know each other from our hometown\, Lichfield\, a city deep in the old kingdom of Mercia which has inspired a lot of the music that we make. We found ourselves\, by chance\, all living in the same area after years apart\, so picked up our instruments and carried on the journey. Making music never really left any of us and Old Mercia covers a lot of that time in-between. \nA blend of folk\, indie and rock\, our songs explore themes of nostalgia\, loss\, rebellion and love\, telling modern stories of Middle England. \nWebsite: https://www.instagram.com/old_mercia\nFacebook: https://www.instagram.com/old_mercia\nInstagram: https://www.instagram.com/old_mercia \nSpotify\n \n\nTickets can be purchased by clicking here.
URL:https://www.70-72thepantiles.co.uk/event/the-grey-lady-sessions-paul-dunton-orchestra-old-mercia/
LOCATION:The Grey Lady\, 70-72 The Pantiles\, Tunbridge Wells\, Kent\, TN2 5TW\, United Kingdom
ATTACH;FMTTYPE=image/jpeg:https://media.70-72thepantiles.co.uk/wp-content/uploads/2025/09/28215023/TGL-22Nov25.jpg
ORGANIZER;CN="Paul Dunton":MAILTO:paul@pauldunton.co.uk
END:VEVENT
END:VCALENDAR