BEGIN:VCALENDAR
VERSION:2.0
PRODID:-//La Casa Vecchia &amp; The Grey Lady - ECPv6.15.18//NONSGML v1.0//EN
CALSCALE:GREGORIAN
METHOD:PUBLISH
X-WR-CALNAME:La Casa Vecchia &amp; The Grey Lady
X-ORIGINAL-URL:https://www.70-72thepantiles.co.uk
X-WR-CALDESC:Events for La Casa Vecchia &amp; The Grey Lady
REFRESH-INTERVAL;VALUE=DURATION:PT1H
X-Robots-Tag:noindex
X-PUBLISHED-TTL:PT1H
BEGIN:VTIMEZONE
TZID:Europe/London
BEGIN:DAYLIGHT
TZOFFSETFROM:+0000
TZOFFSETTO:+0100
TZNAME:BST
DTSTART:20240331T010000
END:DAYLIGHT
BEGIN:STANDARD
TZOFFSETFROM:+0100
TZOFFSETTO:+0000
TZNAME:GMT
DTSTART:20241027T010000
END:STANDARD
BEGIN:DAYLIGHT
TZOFFSETFROM:+0000
TZOFFSETTO:+0100
TZNAME:BST
DTSTART:20250330T010000
END:DAYLIGHT
BEGIN:STANDARD
TZOFFSETFROM:+0100
TZOFFSETTO:+0000
TZNAME:GMT
DTSTART:20251026T010000
END:STANDARD
BEGIN:DAYLIGHT
TZOFFSETFROM:+0000
TZOFFSETTO:+0100
TZNAME:BST
DTSTART:20260329T010000
END:DAYLIGHT
BEGIN:STANDARD
TZOFFSETFROM:+0100
TZOFFSETTO:+0000
TZNAME:GMT
DTSTART:20261025T010000
END:STANDARD
END:VTIMEZONE
BEGIN:VEVENT
DTSTART;TZID=Europe/London:20251203T190000
DTEND;TZID=Europe/London:20251203T233000
DTSTAMP:20260424T133029
CREATED:20251028T151851Z
LAST-MODIFIED:20251111T205932Z
UID:10000907-1764788400-1764804600@www.70-72thepantiles.co.uk
SUMMARY:The Grey Lady Sessions: SORREL NATION + ANOUSKA ASSISI
DESCRIPTION:Join us for a spellbinding night of original music from Sorrel Nation and Anouska Assisi at The Grey Lady Sessions!\n\n\n\nSorrel Nation – Biography \n“You have a signature voice\, when I hear you sing I will know it is Sorrel Nation” \n(Richard Elkington\, Owner The Drawingroom Chesham) \n“Sorrel’s voice is off the scale stunning” \n(Gill Tee\, Co-founder Black Deer Festival) \nTravelling troubadour Sorrel Nation brings a soulful mix of folk-rock to country and engages audiences with emotive lyrics\, 70s inspired style and a voice full of soul that can truly open the heart. \n2024 saw multiple new releases from Sorrel including a single featuring Steve Balsamo in May\, the delicate and beautiful live EP ‘Thirty Summers’ in July and the critically acclaimed debut studio album ‘Lost En Route’ in October. Sorrel performed at Black Deer\, Isle of Wight and Cambridge Folk Festivals amongst others and continues to tour the festival circuit over summer with The Magic Teapot music venue in her beloved campervan\, Dory. \nSorrel accomplished two successful UK wide tours in 2024\, including her first ever solo tour in April and first full band tour in October to accompany the release of ‘Lost En Route’\, an album Sorrel is immensely proud of. 2025 will be no different as Sorrel embarks on three tours and exciting festival appearances to promote her debut album and its release on vinyl in March. \nAnd yes…Sorrel Nation is her real name. \nYouTube Video – Live band from ‘Lost En Route’ Tour 2024 \nYouTube Video – Lonely Road Picture Show (live ‘Wild Solitude’) \nShow review: \nhttps://threechordsandthetruthuk.blogspot.com/2024/10/gig-review-sorrell-nation-temperance.html \nwww.sorrelnationmusic.com \nAnouska Assisi Biography \nAcoustic pop singer songwriter Anouska Assisi encapsulates a broad range of musical genres into a unique sound. Anouska Assisi’s songs have catchy hooks along with thoughtful and considered lyrics\, making music something people can really relate to. Taking inspataions from pop Idols Ed Sheeran and KT Tunstall\, Anouska Assisi uses a loop station to build original music live\, in front of audiences all around the UK; transforming songs from a single strum on the guitar to a full blown production in minutes using just her voice\, guitar and Pedals. \n‘Naked Truth’ is Anouska Assisi’s first studio EP release. It has veins of; lessons learnt\, first love and family\, running through it. Anouska Assisi supports many established artists live and headlines independent shows with her loyal & organic fan base filling the venues. Constantly collaborating with new artists and writing new material daily\, keep a look out for Anouska Assisi’s upcoming releases and live shows. \nAnouska’s 2nd studio EP ‘You’re my Light’ is out on the 21st of November. You can check out Anouska’s latests singles here https://open.spotify.com/artist/5L7ckIdP5nUSPxzpMY0ldx?si=Jy8eMDhAQeGfH4IJPf9lLQ \nhttps://www.anouskaassisi.com \n\nTickets can be purchased by clicking here. 
URL:https://www.70-72thepantiles.co.uk/event/the-grey-lady-sessions-sorrel-nation-anouska-assisi/
LOCATION:The Grey Lady\, 70-72 The Pantiles\, Tunbridge Wells\, Kent\, TN2 5TW\, United Kingdom
ATTACH;FMTTYPE=image/jpeg:https://media.70-72thepantiles.co.uk/wp-content/uploads/2025/10/11205808/TGL-3Dec25.jpg
ORGANIZER;CN="Paul Dunton":MAILTO:paul@pauldunton.co.uk
END:VEVENT
END:VCALENDAR