BEGIN:VCALENDAR
VERSION:2.0
PRODID:-//La Casa Vecchia &amp; The Grey Lady - ECPv6.15.18//NONSGML v1.0//EN
CALSCALE:GREGORIAN
METHOD:PUBLISH
X-WR-CALNAME:La Casa Vecchia &amp; The Grey Lady
X-ORIGINAL-URL:https://www.70-72thepantiles.co.uk
X-WR-CALDESC:Events for La Casa Vecchia &amp; The Grey Lady
REFRESH-INTERVAL;VALUE=DURATION:PT1H
X-Robots-Tag:noindex
X-PUBLISHED-TTL:PT1H
BEGIN:VTIMEZONE
TZID:Europe/London
BEGIN:DAYLIGHT
TZOFFSETFROM:+0000
TZOFFSETTO:+0100
TZNAME:BST
DTSTART:20240331T010000
END:DAYLIGHT
BEGIN:STANDARD
TZOFFSETFROM:+0100
TZOFFSETTO:+0000
TZNAME:GMT
DTSTART:20241027T010000
END:STANDARD
BEGIN:DAYLIGHT
TZOFFSETFROM:+0000
TZOFFSETTO:+0100
TZNAME:BST
DTSTART:20250330T010000
END:DAYLIGHT
BEGIN:STANDARD
TZOFFSETFROM:+0100
TZOFFSETTO:+0000
TZNAME:GMT
DTSTART:20251026T010000
END:STANDARD
BEGIN:DAYLIGHT
TZOFFSETFROM:+0000
TZOFFSETTO:+0100
TZNAME:BST
DTSTART:20260329T010000
END:DAYLIGHT
BEGIN:STANDARD
TZOFFSETFROM:+0100
TZOFFSETTO:+0000
TZNAME:GMT
DTSTART:20261025T010000
END:STANDARD
END:VTIMEZONE
BEGIN:VEVENT
DTSTART;TZID=Europe/London:20251204T080000
DTEND;TZID=Europe/London:20251204T170000
DTSTAMP:20260424T133034
CREATED:20251006T190644Z
LAST-MODIFIED:20251006T190645Z
UID:10000820-1764835200-1764867600@www.70-72thepantiles.co.uk
SUMMARY:SOLD OUT: Christmas Party Nights with DJ
DESCRIPTION:Step into the festive spirit with our vibrant Thursday Christmas Party! Enjoy a delicious seasonal menu followed by a lively evening of music and dancing. From classic Christmas favourites to upbeat party tunes\, the dance floor will be calling your name all night long. \n✨ 2 Courses – £35.00 per person✨ 3 Courses – £40.00 per personIncludes a DJ and dancing until midnight. \nPerfect for groups of up to 80 guests – ideal for colleagues\, friends\, or festive social gatherings. \n📧 For bookings and enquiries\, email: hello@70-72thepantiles.co.uk \nLet’s make it a Thursday night to remember – great food\, great music\, and plenty of festive cheer! \n \n\n\n\n\nIf you would like to book or have any questions\, please email us at hello@70-72thepantiles.co.uk
URL:https://www.70-72thepantiles.co.uk/event/christmas-party-nights-with-dj-2/
LOCATION:The Grey Lady\, 70-72 The Pantiles\, Tunbridge Wells\, Kent\, TN2 5TW\, United Kingdom
ATTACH;FMTTYPE=image/webp:https://media.70-72thepantiles.co.uk/wp-content/uploads/2023/09/10132645/depositphotos_64982379-stock-photo-sold-out.webp
END:VEVENT
END:VCALENDAR