BEGIN:VCALENDAR
VERSION:2.0
PRODID:-//La Casa Vecchia &amp; The Grey Lady - ECPv6.15.18//NONSGML v1.0//EN
CALSCALE:GREGORIAN
METHOD:PUBLISH
X-WR-CALNAME:La Casa Vecchia &amp; The Grey Lady
X-ORIGINAL-URL:https://www.70-72thepantiles.co.uk
X-WR-CALDESC:Events for La Casa Vecchia &amp; The Grey Lady
REFRESH-INTERVAL;VALUE=DURATION:PT1H
X-Robots-Tag:noindex
X-PUBLISHED-TTL:PT1H
BEGIN:VTIMEZONE
TZID:Europe/London
BEGIN:DAYLIGHT
TZOFFSETFROM:+0000
TZOFFSETTO:+0100
TZNAME:BST
DTSTART:20240331T010000
END:DAYLIGHT
BEGIN:STANDARD
TZOFFSETFROM:+0100
TZOFFSETTO:+0000
TZNAME:GMT
DTSTART:20241027T010000
END:STANDARD
BEGIN:DAYLIGHT
TZOFFSETFROM:+0000
TZOFFSETTO:+0100
TZNAME:BST
DTSTART:20250330T010000
END:DAYLIGHT
BEGIN:STANDARD
TZOFFSETFROM:+0100
TZOFFSETTO:+0000
TZNAME:GMT
DTSTART:20251026T010000
END:STANDARD
BEGIN:DAYLIGHT
TZOFFSETFROM:+0000
TZOFFSETTO:+0100
TZNAME:BST
DTSTART:20260329T010000
END:DAYLIGHT
BEGIN:STANDARD
TZOFFSETFROM:+0100
TZOFFSETTO:+0000
TZNAME:GMT
DTSTART:20261025T010000
END:STANDARD
END:VTIMEZONE
BEGIN:VEVENT
DTSTART;TZID=Europe/London:20251209T193000
DTEND;TZID=Europe/London:20251209T230000
DTSTAMP:20260424T133049
CREATED:20251122T110156Z
LAST-MODIFIED:20251122T110349Z
UID:10000913-1765308600-1765321200@www.70-72thepantiles.co.uk
SUMMARY:Standup for Pickering
DESCRIPTION:Tickets can be purchased by clicking here.\nA night of stand-up comedy. All proceeds will go to the Pickering Cancer Drop-In Centre\, Monsoon Road\, Tunbridge Wells.\n\n\n\n\nWith 3 sold out shows in the bag\, we’re up to it again – The “gags for mags team” are re-uniting for a charity fund raiser. We PROMISE you an evening of laughter with our 10 local comics.\nAbout the comics:\nIn January 2025 a group of aspiring comedians keen to give stand-up comedy a try responded to a dodgy looking Facebook ad and gathered in the back room of the St. Johns Yard pub.\nUnder the tutelage of local stand-ups Mike Jubb and his sister Mags\, the group\, from all over Kent and ranging in age from mid twenties to late sixties\, learnt the basics of comedy\, then they wrote and rehearsed their shows.\nOn Thursday 20th March 2025 the rag-tag gang gave their performances to a packed out crowd at the Grey Lady in Tunbridge Wells. With a wide range of styles\, from puns to monologues and covering a range of subjects from dogs to poor shower habits\, the night was a roaring success!\nOur next gig was on 2nd July for TW Forum for the NSPCC. After selling this out in 1 week\, the TW Forum team gave us another night – and that sold- out too!\nSo we’re up to it again – please join us for a brilliant night out in support of an excellent local charity.\nAbout The Pickering Cancer Drop-In Centre Charity:\nMost people are affected by cancer in some way during their lives and many find this a traumatic and lonely experience. The charity aims to help and support anyone going through the emotion of cancer\, from diagnosis onwards\, be they patients\, their family\, friends or carers. They have a drop-in Centre in Tunbridge Wells and\, being entirely run by volunteers and self-funded\, are reliant on donations. Every penny given goes towards the services they offer..\nFor more information – https://pickeringcancercentre.org/
URL:https://www.70-72thepantiles.co.uk/event/standup-for-pickering/
LOCATION:The Grey Lady\, 70-72 The Pantiles\, Tunbridge Wells\, Kent\, TN2 5TW\, United Kingdom
ATTACH;FMTTYPE=image/jpeg:https://media.70-72thepantiles.co.uk/wp-content/uploads/2025/11/22110136/SOCIAL_1to1ratio.jpg
END:VEVENT
END:VCALENDAR