BEGIN:VCALENDAR
VERSION:2.0
PRODID:-//La Casa Vecchia &amp; The Grey Lady - ECPv6.15.18//NONSGML v1.0//EN
CALSCALE:GREGORIAN
METHOD:PUBLISH
X-ORIGINAL-URL:https://www.70-72thepantiles.co.uk
X-WR-CALDESC:Events for La Casa Vecchia &amp; The Grey Lady
REFRESH-INTERVAL;VALUE=DURATION:PT1H
X-Robots-Tag:noindex
X-PUBLISHED-TTL:PT1H
BEGIN:VTIMEZONE
TZID:Europe/London
BEGIN:DAYLIGHT
TZOFFSETFROM:+0000
TZOFFSETTO:+0100
TZNAME:BST
DTSTART:20240331T010000
END:DAYLIGHT
BEGIN:STANDARD
TZOFFSETFROM:+0100
TZOFFSETTO:+0000
TZNAME:GMT
DTSTART:20241027T010000
END:STANDARD
BEGIN:DAYLIGHT
TZOFFSETFROM:+0000
TZOFFSETTO:+0100
TZNAME:BST
DTSTART:20250330T010000
END:DAYLIGHT
BEGIN:STANDARD
TZOFFSETFROM:+0100
TZOFFSETTO:+0000
TZNAME:GMT
DTSTART:20251026T010000
END:STANDARD
BEGIN:DAYLIGHT
TZOFFSETFROM:+0000
TZOFFSETTO:+0100
TZNAME:BST
DTSTART:20260329T010000
END:DAYLIGHT
BEGIN:STANDARD
TZOFFSETFROM:+0100
TZOFFSETTO:+0000
TZNAME:GMT
DTSTART:20261025T010000
END:STANDARD
END:VTIMEZONE
BEGIN:VEVENT
DTSTART;TZID=Europe/London:20251219T190000
DTEND;TZID=Europe/London:20251220T010000
DTSTAMP:20260424T133136
CREATED:20251015T175628Z
LAST-MODIFIED:20251015T185642Z
UID:10000818-1766170800-1766192400@www.70-72thepantiles.co.uk
SUMMARY:SOLD OUT: Christmas Party Nights with Live Music
DESCRIPTION:Get ready to celebrate the festive season in style! Join us for the ultimate Christmas Party experience\, complete with a delicious festive menu\, live music\, and dancing into the night. Whether you’re grooving to timeless classics\, belting out your favourite Christmas hits\, or enjoying upbeat party anthems\, our live band will have you on your feet all evening. \n✨ 2 Courses – £40.00 per person✨ 3 Courses – £45.00 per personIncludes live music and dancing until half midnight. \nPerfect for groups of up to 80 guests – ideal for office parties\, friends\, or festive family get-togethers. \n📧 For bookings and enquiries\, email: hello@70-72thepantiles.co.uk \nMake this Christmas one to remember – great food\, great music\, and unforgettable festive vibes! \n\n\n\n\n \nIf you would like to book or have any questions\, please email us at hello@70-72thepantiles.co.uk
URL:https://www.70-72thepantiles.co.uk/event/christmas-party-nights-with-live-music-5-6/
LOCATION:The Grey Lady\, 70-72 The Pantiles\, Tunbridge Wells\, Kent\, TN2 5TW\, United Kingdom
ATTACH;FMTTYPE=image/webp:https://media.70-72thepantiles.co.uk/wp-content/uploads/2023/09/10132645/depositphotos_64982379-stock-photo-sold-out.webp
END:VEVENT
END:VCALENDAR