BEGIN:VCALENDAR
VERSION:2.0
PRODID:-//La Casa Vecchia &amp; The Grey Lady - ECPv6.15.18//NONSGML v1.0//EN
CALSCALE:GREGORIAN
METHOD:PUBLISH
X-ORIGINAL-URL:https://www.70-72thepantiles.co.uk
X-WR-CALDESC:Events for La Casa Vecchia &amp; The Grey Lady
REFRESH-INTERVAL;VALUE=DURATION:PT1H
X-Robots-Tag:noindex
X-PUBLISHED-TTL:PT1H
BEGIN:VTIMEZONE
TZID:Europe/London
BEGIN:DAYLIGHT
TZOFFSETFROM:+0000
TZOFFSETTO:+0100
TZNAME:BST
DTSTART:20250330T010000
END:DAYLIGHT
BEGIN:STANDARD
TZOFFSETFROM:+0100
TZOFFSETTO:+0000
TZNAME:GMT
DTSTART:20251026T010000
END:STANDARD
BEGIN:DAYLIGHT
TZOFFSETFROM:+0000
TZOFFSETTO:+0100
TZNAME:BST
DTSTART:20260329T010000
END:DAYLIGHT
BEGIN:STANDARD
TZOFFSETFROM:+0100
TZOFFSETTO:+0000
TZNAME:GMT
DTSTART:20261025T010000
END:STANDARD
BEGIN:DAYLIGHT
TZOFFSETFROM:+0000
TZOFFSETTO:+0100
TZNAME:BST
DTSTART:20270328T010000
END:DAYLIGHT
BEGIN:STANDARD
TZOFFSETFROM:+0100
TZOFFSETTO:+0000
TZNAME:GMT
DTSTART:20271031T010000
END:STANDARD
END:VTIMEZONE
BEGIN:VEVENT
DTSTART;TZID=Europe/London:20260214T190000
DTEND;TZID=Europe/London:20260214T233000
DTSTAMP:20260424T110152
CREATED:20260117T141003Z
LAST-MODIFIED:20260212T081343Z
UID:10001011-1771095600-1771111800@www.70-72thepantiles.co.uk
SUMMARY:Valentines Day with Ashton Harley (Sinatra)
DESCRIPTION:Join us for an evening of live music and great food\, featuring Ashton Harley as Sinatra. Enjoy timeless classics performed live in an intimate setting. \nExpect smooth vocals\, classic swing and a soundtrack that pairs perfectly with good company and good food. \nDine from our set-menu\, or order from our A La Carte menu. \n \n  \nIf you would like to book a table in the restaurant downstairs without live music\, click here.
URL:https://www.70-72thepantiles.co.uk/event/valentines-day-with-ashton-harley-sinatra/
LOCATION:The Grey Lady\, 70-72 The Pantiles\, Tunbridge Wells\, Kent\, TN2 5TW\, United Kingdom
ATTACH;FMTTYPE=image/jpeg:https://media.70-72thepantiles.co.uk/wp-content/uploads/2026/01/18114131/PHOTO-2026-01-17-21-56-46.jpg
END:VEVENT
END:VCALENDAR