BEGIN:VCALENDAR
VERSION:2.0
PRODID:-//La Casa Vecchia &amp; The Grey Lady - ECPv6.15.18//NONSGML v1.0//EN
CALSCALE:GREGORIAN
METHOD:PUBLISH
X-ORIGINAL-URL:https://www.70-72thepantiles.co.uk
X-WR-CALDESC:Events for La Casa Vecchia &amp; The Grey Lady
REFRESH-INTERVAL;VALUE=DURATION:PT1H
X-Robots-Tag:noindex
X-PUBLISHED-TTL:PT1H
BEGIN:VTIMEZONE
TZID:Europe/London
BEGIN:DAYLIGHT
TZOFFSETFROM:+0000
TZOFFSETTO:+0100
TZNAME:BST
DTSTART:20250330T010000
END:DAYLIGHT
BEGIN:STANDARD
TZOFFSETFROM:+0100
TZOFFSETTO:+0000
TZNAME:GMT
DTSTART:20251026T010000
END:STANDARD
BEGIN:DAYLIGHT
TZOFFSETFROM:+0000
TZOFFSETTO:+0100
TZNAME:BST
DTSTART:20260329T010000
END:DAYLIGHT
BEGIN:STANDARD
TZOFFSETFROM:+0100
TZOFFSETTO:+0000
TZNAME:GMT
DTSTART:20261025T010000
END:STANDARD
BEGIN:DAYLIGHT
TZOFFSETFROM:+0000
TZOFFSETTO:+0100
TZNAME:BST
DTSTART:20270328T010000
END:DAYLIGHT
BEGIN:STANDARD
TZOFFSETFROM:+0100
TZOFFSETTO:+0000
TZNAME:GMT
DTSTART:20271031T010000
END:STANDARD
END:VTIMEZONE
BEGIN:VEVENT
DTSTART;TZID=Europe/London:20260221T190000
DTEND;TZID=Europe/London:20260221T233000
DTSTAMP:20260424T110152
CREATED:20260108T221755Z
LAST-MODIFIED:20260109T151722Z
UID:10001000-1771700400-1771716600@www.70-72thepantiles.co.uk
SUMMARY:The Grey Lady Sessions: SoSo + The Fabulous Hoolies
DESCRIPTION:Join us on Feb 21st for a stellar Grey Lady Sessions with SoSo and The Fabulous Hoolies. (All seated show) Bar & Dining available.\n\nGet ready for an awesome show with SoSo and The Fabulous Hoolies live at The Grey Lady Sessions! \nSoSo is Seán O’Connell (singer/rhythm guitar)\, Mick Rybacki (bass)\, Pete Fish (keyboards) and Carl Ebbage (drums)\, who perform in the Kent area. Singer-songwriter Seán has been a musician since 1976. Mick plays bass for a number of local bands including popular local combo Higgs & the Bosons. Pete has played keyboard longer than he can remember and was in the Rolling Stoned tribute band. Multi-instrumentalist Carl is one of Tunbridge Wells’ most in-demand musicians and is the mainstay keys man with The Varlies. SoSo’s influences range from the 60s through to now and the songs have been described as ‘once heard\, never forgotten’. \nListen to SoSo on Spotify: Only Myself to Blame \nSoSo on Soundcloud \nThe Fabulous Hoolies Ignite the stage with their explosive Funk-Rock revival. \nBack and funkier than ever\, The Fabulous Hoolies are igniting stages with a high-voltage blend of funk\, rock\, and mischievous humour. Featuring a refreshed lineup of seasoned musicians with a rare twin saxophones attack and powerhouse rhythm section\, their signature mix of razor-sharp wit\, tight funky rhythms\, and high energy guarantee a night to remember. The Fabulous Hoolies are quickly building a reputation. Their unmistakable funk-rock sound has lit up London’s legendary 100 Club\, the Chelsea Arts Club\, the Tunbridge Wells Forum\, and the Local & Live Main Stage\, captivating crowds wherever they play. Now the Fab 5 are charging into their next chapter with a revitalised sound and a renewed sense of mission. Fully primed and ready\, they’re set to turn every gig into a full-throttle celebration.Get your tickets and join the party. \nLinks\nYouTube: www.youtube.com/@TheFabulousHoolies\nInstagram: www.instagram.com/therealhoolies \nTickets can be purchased by clicking here.
URL:https://www.70-72thepantiles.co.uk/event/the-grey-lady-sessions-soso-the-fabulous-hoolies/
LOCATION:The Grey Lady\, 70-72 The Pantiles\, Tunbridge Wells\, Kent\, TN2 5TW\, United Kingdom
ATTACH;FMTTYPE=image/jpeg:https://media.70-72thepantiles.co.uk/wp-content/uploads/2025/12/09151638/TGL-21Feb26.jpg
ORGANIZER;CN="Paul Dunton":MAILTO:paul@pauldunton.co.uk
END:VEVENT
END:VCALENDAR