BEGIN:VCALENDAR
VERSION:2.0
PRODID:-//La Casa Vecchia &amp; The Grey Lady - ECPv6.15.18//NONSGML v1.0//EN
CALSCALE:GREGORIAN
METHOD:PUBLISH
X-WR-CALNAME:La Casa Vecchia &amp; The Grey Lady
X-ORIGINAL-URL:https://www.70-72thepantiles.co.uk
X-WR-CALDESC:Events for La Casa Vecchia &amp; The Grey Lady
REFRESH-INTERVAL;VALUE=DURATION:PT1H
X-Robots-Tag:noindex
X-PUBLISHED-TTL:PT1H
BEGIN:VTIMEZONE
TZID:Europe/London
BEGIN:DAYLIGHT
TZOFFSETFROM:+0000
TZOFFSETTO:+0100
TZNAME:BST
DTSTART:20250330T010000
END:DAYLIGHT
BEGIN:STANDARD
TZOFFSETFROM:+0100
TZOFFSETTO:+0000
TZNAME:GMT
DTSTART:20251026T010000
END:STANDARD
BEGIN:DAYLIGHT
TZOFFSETFROM:+0000
TZOFFSETTO:+0100
TZNAME:BST
DTSTART:20260329T010000
END:DAYLIGHT
BEGIN:STANDARD
TZOFFSETFROM:+0100
TZOFFSETTO:+0000
TZNAME:GMT
DTSTART:20261025T010000
END:STANDARD
BEGIN:DAYLIGHT
TZOFFSETFROM:+0000
TZOFFSETTO:+0100
TZNAME:BST
DTSTART:20270328T010000
END:DAYLIGHT
BEGIN:STANDARD
TZOFFSETFROM:+0100
TZOFFSETTO:+0000
TZNAME:GMT
DTSTART:20271031T010000
END:STANDARD
END:VTIMEZONE
BEGIN:VEVENT
DTSTART;TZID=Europe/London:20260228T150000
DTEND;TZID=Europe/London:20260228T190000
DTSTAMP:20260424T093939
CREATED:20260122T202708Z
LAST-MODIFIED:20260122T202708Z
UID:10001017-1772290800-1772305200@www.70-72thepantiles.co.uk
SUMMARY:Private Party
DESCRIPTION:
URL:https://www.70-72thepantiles.co.uk/event/private-party-154/
LOCATION:Kent
END:VEVENT
BEGIN:VEVENT
DTSTART;TZID=Europe/London:20260228T200000
DTEND;TZID=Europe/London:20260301T010000
DTSTAMP:20260424T093939
CREATED:20251028T214757Z
LAST-MODIFIED:20260205T223425Z
UID:10000908-1772308800-1772326800@www.70-72thepantiles.co.uk
SUMMARY:HOUSE/ FUNK/ DISCO Night
DESCRIPTION:Hello all\, we are very much looking forward to hosting this event @ The Grey Lady Bar and Lounge\, an intimate venue with cool atmosphere and full of character. \nDJs : \n•Luan Gjaci\n•Benjamin Baker\n•Clara De Luna\n•Luke Turner\n•LuvMonkey \nLooking forward to sharing the dance floor together with you all.
URL:https://www.70-72thepantiles.co.uk/event/house-funk-disco-night-2/
LOCATION:The Grey Lady\, 70-72 The Pantiles\, Tunbridge Wells\, Kent\, TN2 5TW\, United Kingdom
ATTACH;FMTTYPE=image/jpeg:https://media.70-72thepantiles.co.uk/wp-content/uploads/2025/10/16151703/74decc41-3032-4e99-971d-e2513fcc0aea.jpeg
END:VEVENT
END:VCALENDAR