BEGIN:VCALENDAR
VERSION:2.0
PRODID:-//La Casa Vecchia &amp; The Grey Lady - ECPv6.15.18//NONSGML v1.0//EN
CALSCALE:GREGORIAN
METHOD:PUBLISH
X-ORIGINAL-URL:https://www.70-72thepantiles.co.uk
X-WR-CALDESC:Events for La Casa Vecchia &amp; The Grey Lady
REFRESH-INTERVAL;VALUE=DURATION:PT1H
X-Robots-Tag:noindex
X-PUBLISHED-TTL:PT1H
BEGIN:VTIMEZONE
TZID:Europe/London
BEGIN:DAYLIGHT
TZOFFSETFROM:+0000
TZOFFSETTO:+0100
TZNAME:BST
DTSTART:20250330T010000
END:DAYLIGHT
BEGIN:STANDARD
TZOFFSETFROM:+0100
TZOFFSETTO:+0000
TZNAME:GMT
DTSTART:20251026T010000
END:STANDARD
BEGIN:DAYLIGHT
TZOFFSETFROM:+0000
TZOFFSETTO:+0100
TZNAME:BST
DTSTART:20260329T010000
END:DAYLIGHT
BEGIN:STANDARD
TZOFFSETFROM:+0100
TZOFFSETTO:+0000
TZNAME:GMT
DTSTART:20261025T010000
END:STANDARD
BEGIN:DAYLIGHT
TZOFFSETFROM:+0000
TZOFFSETTO:+0100
TZNAME:BST
DTSTART:20270328T010000
END:DAYLIGHT
BEGIN:STANDARD
TZOFFSETFROM:+0100
TZOFFSETTO:+0000
TZNAME:GMT
DTSTART:20271031T010000
END:STANDARD
END:VTIMEZONE
BEGIN:VEVENT
DTSTART;TZID=Europe/London:20260303T190000
DTEND;TZID=Europe/London:20260303T220000
DTSTAMP:20260424T144553
CREATED:20260106T202731Z
LAST-MODIFIED:20260107T181057Z
UID:10000924-1772564400-1772575200@www.70-72thepantiles.co.uk
SUMMARY:Open Mic: Singers Night
DESCRIPTION:A welcoming evening for all vocalists\, from beginners to pros! Sing with live piano accompaniment by Roger Lewin in a fun\, supportive atmosphere. Bring sheet music\, backing tracks\, or your own original songs. Great vibes\, great music\, and great food – come sing or just enjoy the show! \nEntry £5 for singers and listeners. Questions? Email singersnight@yahoo.com. \n 
URL:https://www.70-72thepantiles.co.uk/event/open-mic-singers-night-4/2026-03-03/
LOCATION:The Grey Lady\, 70-72 The Pantiles\, Tunbridge Wells\, Kent\, TN2 5TW\, United Kingdom
ATTACH;FMTTYPE=image/jpeg:https://media.70-72thepantiles.co.uk/wp-content/uploads/2026/01/06202717/IMG_9624.jpeg
END:VEVENT
BEGIN:VEVENT
DTSTART;TZID=Europe/London:20260312T190000
DTEND;TZID=Europe/London:20260312T233000
DTSTAMP:20260424T144553
CREATED:20260205T222204Z
LAST-MODIFIED:20260205T222204Z
UID:10001019-1773342000-1773358200@www.70-72thepantiles.co.uk
SUMMARY:The Grey Lady Sessions: Lineup TBC
DESCRIPTION:
URL:https://www.70-72thepantiles.co.uk/event/the-grey-lady-sessions-lineup-tbc-4/
LOCATION:The Grey Lady\, 70-72 The Pantiles\, Tunbridge Wells\, Kent\, TN2 5TW\, United Kingdom
ORGANIZER;CN="Paul Dunton":MAILTO:paul@pauldunton.co.uk
END:VEVENT
BEGIN:VEVENT
DTSTART;TZID=Europe/London:20260319T193000
DTEND;TZID=Europe/London:20260319T230000
DTSTAMP:20260424T144553
CREATED:20260307T133352Z
LAST-MODIFIED:20260307T133353Z
UID:10001032-1773948600-1773961200@www.70-72thepantiles.co.uk
SUMMARY:TW Comedy Club
DESCRIPTION:A group of local stand up comedians\, organising comedy nights\, where all the profits go to local charities.\nWho are we?\nWe’re a group of local\, Kent-based comedians who first got together on an introduction to StandUp Comedy course based in Tunbridge Wells. Led by our tutor Mike Jubb with his much-missed sister Mags\, our diverse group wrote and rehearsed our sets\, with everyone pitching in with ideas and encouragement. \nWe’ve now had several sell-out performances at the Grey Lady venue in The Pantiles. Tunbridge Wells Fringe 2025 gave us an extra night due to demand and was a fundraiser for NSPCC. Our massive gig for the Pickering Cancer Drop-In Centre delivered many laughs and over £1000 for this Tunbridge Wells based charity. \nOur aim is to give everyone brilliant StandUp comedy nights\, while also raising funds for local charities. \nTickets can be purchased by clicking here.
URL:https://www.70-72thepantiles.co.uk/event/tw-comedy-club/
LOCATION:The Grey Lady\, 70-72 The Pantiles\, Tunbridge Wells\, Kent\, TN2 5TW\, United Kingdom
ATTACH;FMTTYPE=image/jpeg:https://media.70-72thepantiles.co.uk/wp-content/uploads/2026/03/07133341/TWComedyBanner_19_March-1.jpg
END:VEVENT
BEGIN:VEVENT
DTSTART;TZID=Europe/London:20260320T190000
DTEND;TZID=Europe/London:20260321T010000
DTSTAMP:20260424T144553
CREATED:20260114T090446Z
LAST-MODIFIED:20260114T090446Z
UID:10001004-1774033200-1774054800@www.70-72thepantiles.co.uk
SUMMARY:Latin Dance Event
DESCRIPTION:Details TBC
URL:https://www.70-72thepantiles.co.uk/event/latin-dance-event-2/
LOCATION:Kent
CATEGORIES:Promote
ORGANIZER;CN="Yanina Ferrandi":MAILTO:Yanina Fit Classes Ferrandi
END:VEVENT
BEGIN:VEVENT
DTSTART;TZID=Europe/London:20260327T190000
DTEND;TZID=Europe/London:20260327T233000
DTSTAMP:20260424T144553
CREATED:20251210T220531Z
LAST-MODIFIED:20260305T135010Z
UID:10000920-1774638000-1774654200@www.70-72thepantiles.co.uk
SUMMARY:Hardlines
DESCRIPTION:A night of fantastic live music performed by Hardlines! These masters of jazz funk\, Neil Robinson on guitar\, Tim Cansfield on guitar\, Bill Gibbard  on bass \, Gary Plumley or Frank Mead on sax\, Iain Rae on keyboards.  They are truly a great band composed of excellent musicians with a superb repertoire of covers\, and even some originals from Iain himself.
URL:https://www.70-72thepantiles.co.uk/event/hardlines/
LOCATION:The Grey Lady\, 70-72 The Pantiles\, Tunbridge Wells\, Kent\, TN2 5TW\, United Kingdom
ATTACH;FMTTYPE=image/jpeg:https://media.70-72thepantiles.co.uk/wp-content/uploads/2025/06/21190535/84751201_10156936975977031_1677219672941920256_n.jpg
END:VEVENT
END:VCALENDAR