BEGIN:VCALENDAR
VERSION:2.0
PRODID:-//La Casa Vecchia &amp; The Grey Lady - ECPv6.15.18//NONSGML v1.0//EN
CALSCALE:GREGORIAN
METHOD:PUBLISH
X-WR-CALNAME:La Casa Vecchia &amp; The Grey Lady
X-ORIGINAL-URL:https://www.70-72thepantiles.co.uk
X-WR-CALDESC:Events for La Casa Vecchia &amp; The Grey Lady
REFRESH-INTERVAL;VALUE=DURATION:PT1H
X-Robots-Tag:noindex
X-PUBLISHED-TTL:PT1H
BEGIN:VTIMEZONE
TZID:Europe/London
BEGIN:DAYLIGHT
TZOFFSETFROM:+0000
TZOFFSETTO:+0100
TZNAME:BST
DTSTART:20220327T010000
END:DAYLIGHT
BEGIN:STANDARD
TZOFFSETFROM:+0100
TZOFFSETTO:+0000
TZNAME:GMT
DTSTART:20221030T010000
END:STANDARD
BEGIN:DAYLIGHT
TZOFFSETFROM:+0000
TZOFFSETTO:+0100
TZNAME:BST
DTSTART:20230326T010000
END:DAYLIGHT
BEGIN:STANDARD
TZOFFSETFROM:+0100
TZOFFSETTO:+0000
TZNAME:GMT
DTSTART:20231029T010000
END:STANDARD
BEGIN:DAYLIGHT
TZOFFSETFROM:+0000
TZOFFSETTO:+0100
TZNAME:BST
DTSTART:20240331T010000
END:DAYLIGHT
BEGIN:STANDARD
TZOFFSETFROM:+0100
TZOFFSETTO:+0000
TZNAME:GMT
DTSTART:20241027T010000
END:STANDARD
END:VTIMEZONE
BEGIN:VEVENT
DTSTART;TZID=Europe/London:20231208T190000
DTEND;TZID=Europe/London:20231209T013000
DTSTAMP:20260426T021553
CREATED:20230905T214549Z
LAST-MODIFIED:20231010T192716Z
UID:10000353-1702062000-1702085400@www.70-72thepantiles.co.uk
SUMMARY:SOLD OUT: Studio 54: Christmas Party Nights with Live Music
DESCRIPTION:Brace yourself for a Christmas party like no other as Studio 54 lights up The Grey Lady. This band\, boasting an extensive repertoire of disco anthems\, club classics\, and irresistible grooves\, is ready to transport you back to the golden era of dance music. With some of the finest musicians in the genre\, their passion for the music resonates in every note and every lyric. From Rose Royce to Sister Sledge\, Chic to Kool & the Gang\, Studio 54 guarantees an infectious party atmosphere and a night on the dance floor that you won’t soon forget. Get ready to relive the disco magic and make this Christmas celebration truly unforgettable \nWEEKEND CHRISTMAS PARTY\n\n\n\n\n2 COURSES £40.00 PER PERSON | 3 COURSES £45.00 PER PERSON \nIncludes a live band and dancing until half midnight. Available for groups of up to 80 guests. \n\n \n\n\n\n\n\n\n\n\n\n\nIf you would like to book or have any questions\, please email us at hello@70-72thepantiles.co.uk
URL:https://www.70-72thepantiles.co.uk/event/studio-54-christmas-party-nights-with-live-music/
LOCATION:Kent
CATEGORIES:Promote
ATTACH;FMTTYPE=image/webp:https://media.70-72thepantiles.co.uk/wp-content/uploads/2023/09/10132645/depositphotos_64982379-stock-photo-sold-out.webp
END:VEVENT
END:VCALENDAR