BEGIN:VCALENDAR
VERSION:2.0
PRODID:-//La Casa Vecchia &amp; The Grey Lady - ECPv6.15.18//NONSGML v1.0//EN
CALSCALE:GREGORIAN
METHOD:PUBLISH
X-WR-CALNAME:La Casa Vecchia &amp; The Grey Lady
X-ORIGINAL-URL:https://www.70-72thepantiles.co.uk
X-WR-CALDESC:Events for La Casa Vecchia &amp; The Grey Lady
REFRESH-INTERVAL;VALUE=DURATION:PT1H
X-Robots-Tag:noindex
X-PUBLISHED-TTL:PT1H
BEGIN:VTIMEZONE
TZID:Europe/London
BEGIN:DAYLIGHT
TZOFFSETFROM:+0000
TZOFFSETTO:+0100
TZNAME:BST
DTSTART:20220327T010000
END:DAYLIGHT
BEGIN:STANDARD
TZOFFSETFROM:+0100
TZOFFSETTO:+0000
TZNAME:GMT
DTSTART:20221030T010000
END:STANDARD
BEGIN:DAYLIGHT
TZOFFSETFROM:+0000
TZOFFSETTO:+0100
TZNAME:BST
DTSTART:20230326T010000
END:DAYLIGHT
BEGIN:STANDARD
TZOFFSETFROM:+0100
TZOFFSETTO:+0000
TZNAME:GMT
DTSTART:20231029T010000
END:STANDARD
BEGIN:DAYLIGHT
TZOFFSETFROM:+0000
TZOFFSETTO:+0100
TZNAME:BST
DTSTART:20240331T010000
END:DAYLIGHT
BEGIN:STANDARD
TZOFFSETFROM:+0100
TZOFFSETTO:+0000
TZNAME:GMT
DTSTART:20241027T010000
END:STANDARD
BEGIN:DAYLIGHT
TZOFFSETFROM:+0000
TZOFFSETTO:+0100
TZNAME:BST
DTSTART:20250330T010000
END:DAYLIGHT
BEGIN:STANDARD
TZOFFSETFROM:+0100
TZOFFSETTO:+0000
TZNAME:GMT
DTSTART:20251026T010000
END:STANDARD
BEGIN:DAYLIGHT
TZOFFSETFROM:+0000
TZOFFSETTO:+0100
TZNAME:BST
DTSTART:20260329T010000
END:DAYLIGHT
BEGIN:STANDARD
TZOFFSETFROM:+0100
TZOFFSETTO:+0000
TZNAME:GMT
DTSTART:20261025T010000
END:STANDARD
BEGIN:DAYLIGHT
TZOFFSETFROM:+0000
TZOFFSETTO:+0100
TZNAME:BST
DTSTART:20270328T010000
END:DAYLIGHT
BEGIN:STANDARD
TZOFFSETFROM:+0100
TZOFFSETTO:+0000
TZNAME:GMT
DTSTART:20271031T010000
END:STANDARD
END:VTIMEZONE
BEGIN:VEVENT
DTSTART;TZID=Europe/London:20260320T190000
DTEND;TZID=Europe/London:20260321T010000
DTSTAMP:20260424T122048
CREATED:20260114T090446Z
LAST-MODIFIED:20260114T090446Z
UID:10001004-1774033200-1774054800@www.70-72thepantiles.co.uk
SUMMARY:Latin Dance Event
DESCRIPTION:Details TBC
URL:https://www.70-72thepantiles.co.uk/event/latin-dance-event-2/
LOCATION:Kent
CATEGORIES:Promote
ORGANIZER;CN="Yanina Ferrandi":MAILTO:Yanina Fit Classes Ferrandi
END:VEVENT
BEGIN:VEVENT
DTSTART;TZID=Europe/London:20260130T190000
DTEND;TZID=Europe/London:20260131T010000
DTSTAMP:20260424T122048
CREATED:20251019T193259Z
LAST-MODIFIED:20260114T124358Z
UID:10000902-1769799600-1769821200@www.70-72thepantiles.co.uk
SUMMARY:Candela Night (salsa & reggaeton beats)
DESCRIPTION:A night of pure Latin energy \, your ticket includes a 45-min dance session with the rhythms of salsa and reggaeton\, followed by a party filled with the hottest beats. \nOur incredible Cuban DJ will light up the room with authentic Latin flavour. \nEnd of January \, come lift your spirit\, move your body\, and finish the month on fire. \nEpic night. Don’t miss it. \nTickets can be purchased by clicking here.
URL:https://www.70-72thepantiles.co.uk/event/latin-dance-event/
LOCATION:Kent
CATEGORIES:Promote
ATTACH;FMTTYPE=image/jpeg:https://media.70-72thepantiles.co.uk/wp-content/uploads/2025/10/14124257/CANDELA-NIGHT-1.jpg
ORGANIZER;CN="Yanina Ferrandi":MAILTO:Yanina Fit Classes Ferrandi
END:VEVENT
BEGIN:VEVENT
DTSTART;TZID=Europe/London:20251003T190000
DTEND;TZID=Europe/London:20251004T000000
DTSTAMP:20260424T122048
CREATED:20250715T115944Z
LAST-MODIFIED:20250828T211504Z
UID:10000879-1759518000-1759536000@www.70-72thepantiles.co.uk
SUMMARY:Salsa Camina
DESCRIPTION:This year marks 20 years of The Grey Lady\, and we’re kicking off our celebrations with a very special reunion show
URL:https://www.70-72thepantiles.co.uk/event/salsa-camina/
LOCATION:The Grey Lady\, 70-72 The Pantiles\, Tunbridge Wells\, Kent\, TN2 5TW\, United Kingdom
CATEGORIES:Promote
ATTACH;FMTTYPE=image/jpeg:https://media.70-72thepantiles.co.uk/wp-content/uploads/2025/07/15125928/IMG_1062.jpg
END:VEVENT
BEGIN:VEVENT
DTSTART;TZID=Europe/London:20250926T190000
DTEND;TZID=Europe/London:20250927T010000
DTSTAMP:20260424T122048
CREATED:20241128T201443Z
LAST-MODIFIED:20250917T111233Z
UID:10000507-1758913200-1758934800@www.70-72thepantiles.co.uk
SUMMARY:Fiesta Latina Night
DESCRIPTION:Welcome to the Fiesta Latina Night! Join us for a sizzling evening filled with Latin music\, mouth-watering tapas\, exotic cocktails\, and plenty of dancing. \nYou can purchase tickets by clicking here.  \n 
URL:https://www.70-72thepantiles.co.uk/event/fiesta-latina-night-8/
LOCATION:Kent
CATEGORIES:Promote
ATTACH;FMTTYPE=image/jpeg:https://media.70-72thepantiles.co.uk/wp-content/uploads/2024/11/17120947/PHOTO-2025-09-16-12-35-31-2.jpg
ORGANIZER;CN="Yanina Ferrandi":MAILTO:Yanina Fit Classes Ferrandi
END:VEVENT
BEGIN:VEVENT
DTSTART;TZID=Europe/London:20250328T190000
DTEND;TZID=Europe/London:20250329T010000
DTSTAMP:20260424T122048
CREATED:20241128T201251Z
LAST-MODIFIED:20250313T192838Z
UID:10000505-1743188400-1743210000@www.70-72thepantiles.co.uk
SUMMARY:Fiesta Latina Night
DESCRIPTION:Welcome to the Fiesta Latina Night! Join us for a sizzling evening filled with Latin music\, mouth-watering tapas\, exotic cocktails\, and plenty of dancing. \n 
URL:https://www.70-72thepantiles.co.uk/event/fiesta-latina-night-6/
LOCATION:Kent
CATEGORIES:Promote
ATTACH;FMTTYPE=image/jpeg:https://media.70-72thepantiles.co.uk/wp-content/uploads/2024/11/13190517/PHOTO-2025-03-13-18-56-35-2.jpg
ORGANIZER;CN="Yanina Ferrandi":MAILTO:Yanina Fit Classes Ferrandi
END:VEVENT
BEGIN:VEVENT
DTSTART;TZID=Europe/London:20250327T080000
DTEND;TZID=Europe/London:20250327T170000
DTSTAMP:20260424T122048
CREATED:20250327T182956Z
LAST-MODIFIED:20250327T182957Z
UID:10000556-1743062400-1743094800@www.70-72thepantiles.co.uk
SUMMARY:OPEN MIC SINGER NIGHT
DESCRIPTION:Open mic singers night is back at the grey lady!
URL:https://www.70-72thepantiles.co.uk/event/open-mic-singer-night/
LOCATION:The Grey Lady\, 70-72 The Pantiles\, Tunbridge Wells\, Kent\, TN2 5TW\, United Kingdom
CATEGORIES:Promote
ATTACH;FMTTYPE=image/jpeg:https://media.70-72thepantiles.co.uk/wp-content/uploads/2025/03/25194125/Night.jpg.jpg
END:VEVENT
BEGIN:VEVENT
DTSTART;TZID=Europe/London:20250214T190000
DTEND;TZID=Europe/London:20250214T233000
DTSTAMP:20260424T122048
CREATED:20250121T121316Z
LAST-MODIFIED:20250205T223748Z
UID:10000526-1739559600-1739575800@www.70-72thepantiles.co.uk
SUMMARY:Valentines Evening with Live Music by the Bob Bernard Duo
DESCRIPTION:Valentine’s Day at The Grey Lady\nJoin us for a romantic evening of live music and exquisite dining at The Grey Lady. Enjoy the smooth sounds of the Bob Bernard Duo while indulging in a specially curated Valentine’s menu. \nSet Menu Options: \n2 Courses – £40 \n3 Courses – £45 \nPrefer à la carte? You’re welcome to order from our main menu with a £10 music charge. \nBook your table today and make this Valentine’s one to remember! \n If you’d prefer to eat in the restaurant\, you can book a table directly on OpenTable and dine from our A La Carte menu.
URL:https://www.70-72thepantiles.co.uk/event/valentines/
LOCATION:The Grey Lady\, 70-72 The Pantiles\, Tunbridge Wells\, Kent\, TN2 5TW\, United Kingdom
CATEGORIES:Promote
ATTACH;FMTTYPE=image/jpeg:https://media.70-72thepantiles.co.uk/wp-content/uploads/2025/01/30212057/1738271645070-98a578bf-eabf-4dea-b930-571f35dedeea_1.jpg
END:VEVENT
BEGIN:VEVENT
DTSTART;TZID=Europe/London:20241108T190000
DTEND;TZID=Europe/London:20241109T003000
DTSTAMP:20260424T122048
CREATED:20240917T195135Z
LAST-MODIFIED:20241220T201804Z
UID:10000479-1731092400-1731112200@www.70-72thepantiles.co.uk
SUMMARY:Laura & Co Jazz Quartet
DESCRIPTION:Enjoy an evening of jazz with ‘Laura & Co’\, an ensemble of talented musicians featuring vocalist Laura Lawton\, Roger Lewin on keys\, Paul Beeching on bass\, James Chapman on drums and Dan Foster on sax. \n\n\nYou’ll get to enjoy a wonderful mix of jazz standards recorded over the years by the likes of Ella Fitzgerald\, Billie Holliday\, Sarah Vaughan\, Peggy Lee\, Etta James\, Nina Simone and many more . Anything from ‘Fly Me To The Moon’\, to latin jazz with ‘Girl From Ipanema’ and ‘Desafinado’ \n\n\nIndulge in our delicious Mediterranean A La Carte menu or unwind with a drink from our bar while enjoying the performance. Join us for this memorable night of music and get your tickets now for only £10 per ticket. Don’t miss out on this chance to experience Laura & Co’s unique blend of jazz styles!
URL:https://www.70-72thepantiles.co.uk/event/laura-co-jazz-quartet-3/
LOCATION:The Grey Lady\, 70-72 The Pantiles\, Tunbridge Wells\, Kent\, TN2 5TW\, United Kingdom
CATEGORIES:Promote
ATTACH;FMTTYPE=image/jpeg:https://media.70-72thepantiles.co.uk/wp-content/uploads/2024/09/20201700/IMG_5262-scaled.jpg
END:VEVENT
BEGIN:VEVENT
DTSTART;TZID=Europe/London:20240307T193000
DTEND;TZID=Europe/London:20240307T223000
DTSTAMP:20260424T122048
CREATED:20240213T125816Z
LAST-MODIFIED:20240213T130053Z
UID:10000409-1709839800-1709850600@www.70-72thepantiles.co.uk
SUMMARY:The Sisterhood Sessions: The One 'Celebrating Women'
DESCRIPTION:It seems obvious\, we know\, but how often do we pause and actually look at ourselves\, as women? Our struggles\, our interests\, our superpowers. \n  \nIt’s International Women’s Day on 8th March\, so we thought it would be fabulous to mark this special day by organising a celebratory session the night before. \n  \nWe’ll do a bit of coaching\, conversation and\, this time\, a bit of music and dancing (if you so please)\, and of course\, we’ll continue to connect. \n  \nIt’s taking place on Thursday 7th March\, from 7.30 to 10.30 pm and tickets are £25 and include a celebratory drink to mark this very special celebration of us. \n  \nTickets can be purchased by clicking here. \n 
URL:https://www.70-72thepantiles.co.uk/event/the-sisterhood-sessions-the-one-celebrating-women/
LOCATION:The Grey Lady\, 70-72 The Pantiles\, Tunbridge Wells\, Kent\, TN2 5TW\, United Kingdom
CATEGORIES:Promote
ATTACH;FMTTYPE=image/jpeg:https://media.70-72thepantiles.co.uk/wp-content/uploads/2024/02/13125757/f0bf690b-72ca-4762-8d46-29df29a9d821.jpg
END:VEVENT
BEGIN:VEVENT
DTSTART;TZID=Europe/London:20231223T190000
DTEND;TZID=Europe/London:20231224T013000
DTSTAMP:20260424T122048
CREATED:20231121T094549Z
LAST-MODIFIED:20231212T205623Z
UID:10000395-1703358000-1703381400@www.70-72thepantiles.co.uk
SUMMARY:LIMITED AVAILABILITY: Studio 54: Christmas Party Nights with Live Music
DESCRIPTION:Brace yourself for a Christmas party like no other as Studio 54 lights up The Grey Lady. This band\, boasting an extensive repertoire of disco anthems\, club classics\, and irresistible grooves\, is ready to transport you back to the golden era of dance music. With some of the finest musicians in the genre\, their passion for the music resonates in every note and every lyric. From Rose Royce to Sister Sledge\, Chic to Kool & the Gang\, Studio 54 guarantees an infectious party atmosphere and a night on the dance floor that you won’t soon forget. Get ready to relive the disco magic and make this Christmas celebration truly unforgettable \nWEEKEND CHRISTMAS PARTY\n\n\n\n\n2 COURSES £40.00 PER PERSON | 3 COURSES £45.00 PER PERSON \nIncludes a live band and dancing until half midnight. Available for groups of up to 80 guests. \n\n \n\n\n\n\n\n\n\n\n\n\nIf you would like to book or have any questions\, please email us at hello@70-72thepantiles.co.uk.
URL:https://www.70-72thepantiles.co.uk/event/limited-availability-studio-54-christmas-party-nights-with-live-music/
LOCATION:Kent
CATEGORIES:Promote
ATTACH;FMTTYPE=image/jpeg:https://media.70-72thepantiles.co.uk/wp-content/uploads/2023/09/10131252/89258428_10157022822777031_7270503574763732992_n.jpg
END:VEVENT
BEGIN:VEVENT
DTSTART;TZID=Europe/London:20231215T190000
DTEND;TZID=Europe/London:20231216T013000
DTSTAMP:20260424T122048
CREATED:20230905T214721Z
LAST-MODIFIED:20230919T165714Z
UID:10000354-1702666800-1702690200@www.70-72thepantiles.co.uk
SUMMARY:SOLD OUT: Miss Holiday & The Swingtones : Christmas Party Nights with Live Music
DESCRIPTION:Miss Holiday & The Swingtones: Swing into Christmas! Get ready to swing\, jive\, and jazz up your Christmas with Miss Holiday & The Swingtones\, a 5-piece Jazz & Swing band. Influenced by greats like Nina Simone and Imelda May\, they’re experts at bringing vintage vibes to any event. But this Christmas\, they’re adding a twist – a mix of swing and holiday classics. From “It Don’t Mean A Thing” to “Tainted Love” and festive favourites\, they’ll keep your celebration grooving and joyful! \nWEEKEND CHRISTMAS PARTY\n\n\n\n\n2 COURSES £40.00 PER PERSON | 3 COURSES £45.00 PER PERSON \nIncludes a live band and dancing until half midnight. Available for groups of up to 80 guests. \n\n \n\n\n\n\n\n\n\n\n\n\nIf you would like to book or have any questions\, please email us at hello@70-72thepantiles.co.uk
URL:https://www.70-72thepantiles.co.uk/event/miss-holiday-the-swingtones-christmas-party-nights-with-live-music/
LOCATION:Kent
CATEGORIES:Promote
ATTACH;FMTTYPE=image/webp:https://media.70-72thepantiles.co.uk/wp-content/uploads/2023/09/10132645/depositphotos_64982379-stock-photo-sold-out.webp
END:VEVENT
BEGIN:VEVENT
DTSTART;TZID=Europe/London:20231208T190000
DTEND;TZID=Europe/London:20231209T013000
DTSTAMP:20260424T122048
CREATED:20230905T214549Z
LAST-MODIFIED:20231010T192716Z
UID:10000353-1702062000-1702085400@www.70-72thepantiles.co.uk
SUMMARY:SOLD OUT: Studio 54: Christmas Party Nights with Live Music
DESCRIPTION:Brace yourself for a Christmas party like no other as Studio 54 lights up The Grey Lady. This band\, boasting an extensive repertoire of disco anthems\, club classics\, and irresistible grooves\, is ready to transport you back to the golden era of dance music. With some of the finest musicians in the genre\, their passion for the music resonates in every note and every lyric. From Rose Royce to Sister Sledge\, Chic to Kool & the Gang\, Studio 54 guarantees an infectious party atmosphere and a night on the dance floor that you won’t soon forget. Get ready to relive the disco magic and make this Christmas celebration truly unforgettable \nWEEKEND CHRISTMAS PARTY\n\n\n\n\n2 COURSES £40.00 PER PERSON | 3 COURSES £45.00 PER PERSON \nIncludes a live band and dancing until half midnight. Available for groups of up to 80 guests. \n\n \n\n\n\n\n\n\n\n\n\n\nIf you would like to book or have any questions\, please email us at hello@70-72thepantiles.co.uk
URL:https://www.70-72thepantiles.co.uk/event/studio-54-christmas-party-nights-with-live-music/
LOCATION:Kent
CATEGORIES:Promote
ATTACH;FMTTYPE=image/webp:https://media.70-72thepantiles.co.uk/wp-content/uploads/2023/09/10132645/depositphotos_64982379-stock-photo-sold-out.webp
END:VEVENT
BEGIN:VEVENT
DTSTART;TZID=Europe/London:20231207T190000
DTEND;TZID=Europe/London:20231208T003000
DTSTAMP:20260424T122048
CREATED:20230905T215059Z
LAST-MODIFIED:20231005T222658Z
UID:10000359-1701975600-1701995400@www.70-72thepantiles.co.uk
SUMMARY:SOLD OUT: Christmas Party with DJ
DESCRIPTION:LG Discos: Dance into the Christmas Spirit! Get ready to dance your way through the holiday season with LG Discos.  From timeless holiday tunes to irresistible dance hits\, the energy will be high and the celebration in full swing. So\, put on your dancing shoes\, and let LG Discos turn your Christmas gathering into a night of festive fun and unforgettable moments! \nTHURSDAY CHRISTMAS PARTY\n\n\n\n\n2 COURSES £35.00 PER PERSON | 3 COURSES £40.00 PER PERSON \nIncludes DJ and dancing until midnight. Available for groups of up to 80 guests. \n \n\n\n\n\n\n\n\n\n\n\n\nIf you would like to book or have any questions\, please email us at hello@70-72thepantiles.co.uk
URL:https://www.70-72thepantiles.co.uk/event/christmas-party-with-dj/
LOCATION:Kent
CATEGORIES:Promote
ATTACH;FMTTYPE=image/webp:https://media.70-72thepantiles.co.uk/wp-content/uploads/2023/09/10132645/depositphotos_64982379-stock-photo-sold-out.webp
END:VEVENT
BEGIN:VEVENT
DTSTART;TZID=Europe/London:20231202T190000
DTEND;TZID=Europe/London:20231203T013000
DTSTAMP:20260424T122048
CREATED:20230728T125044Z
LAST-MODIFIED:20231116T153543Z
UID:10000338-1701543600-1701567000@www.70-72thepantiles.co.uk
SUMMARY:SOLD OUT: Disco Odyssey: Christmas Party Nights with Live Music
DESCRIPTION:Experience the ultimate Christmas Party with Disco Odyssey! We’re bringing you a sensational live music performance that will make your holiday celebrations truly unforgettable. From classic ’60s tunes to today’s hits\, Disco Odyssey spans the ages with a set list that guarantees a dance floor packed with revellers. This dynamic band will light up your Christmas festivities\, creating a memorable atmosphere for all your guests. Get ready to groove into the Christmas season with Disco Odyssey! \nWEEKEND CHRISTMAS PARTY\n\n\n\n\n2 COURSES £40.00 PER PERSON | 3 COURSES £45.00 PER PERSON \nIncludes a live band and dancing until half midnight. Available for groups of up to 80 guests. \n\n \n\n\n\n\n\n\n\n\n\n\nIf you would like to book or have any questions\, please email us at hello@70-72thepantiles.co.uk
URL:https://www.70-72thepantiles.co.uk/event/disco-odyssey-christmas-party-nights-with-live-music/
LOCATION:Kent
CATEGORIES:Promote
ATTACH;FMTTYPE=image/webp:https://media.70-72thepantiles.co.uk/wp-content/uploads/2023/09/10132645/depositphotos_64982379-stock-photo-sold-out.webp
END:VEVENT
BEGIN:VEVENT
DTSTART;TZID=Europe/London:20231201T190000
DTEND;TZID=Europe/London:20231202T013000
DTSTAMP:20260424T122048
CREATED:20230811T095720Z
LAST-MODIFIED:20231119T133830Z
UID:10000341-1701457200-1701480600@www.70-72thepantiles.co.uk
SUMMARY:SOLD OUT: Into the Blue: Christmas Party Nights with Live Music
DESCRIPTION:Get ready to light up your Christmas celebration with Into The Blue! This talented 5-piece band\, comprised of highly experienced musicians\, is here to make your holiday party unforgettable. They bring a diverse range of music\, from disco and pop to rock\, reggae\, and heartwarming ballads\, ensuring a musical experience that caters to all ages and tastes. \nWEEKEND CHRISTMAS PARTY\n\n\n\n\n2 COURSES £40.00 PER PERSON | 3 COURSES £45.00 PER PERSON \nIncludes a live band and dancing until half midnight. Available for groups of up to 80 guests. \n\n \n\n\n\n\n\n\n\n\n\n\nIf you would like to book or have any questions\, please email us at hello@70-72thepantiles.co.uk
URL:https://www.70-72thepantiles.co.uk/event/into-the-blue-christmas-party-nights-with-live-music/
LOCATION:Kent
CATEGORIES:Promote
ATTACH;FMTTYPE=image/webp:https://media.70-72thepantiles.co.uk/wp-content/uploads/2023/09/10132645/depositphotos_64982379-stock-photo-sold-out.webp
END:VEVENT
BEGIN:VEVENT
DTSTART;TZID=Europe/London:20230421T190000
DTEND;TZID=Europe/London:20230422T003000
DTSTAMP:20260424T122048
CREATED:20230202T233630Z
LAST-MODIFIED:20230322T224153Z
UID:10000269-1682103600-1682123400@www.70-72thepantiles.co.uk
SUMMARY:Laura & Co Jazz Quartet
DESCRIPTION:Enjoy an evening of soulful jazz with Laura & Co\, an ensemble of talented musicians featuring vocalist Laura Lawton\, Iain Rae on keys\, Paul Beeching on bass\, Lionel Shell on drums and special guest Dan Foster on saxophone. From timeless jazz classics to contemporary hits\, their music will leave you captivated. \nIndulge in our delicious Mediterranean A La Carte menu or unwind with a drink from our bar while enjoying the performance. Join us for this memorable night of music and get your tickets now for only £12 per ticket. Don’t miss out on this chance to experience Laura & Co’s unique blend of jazz styles!
URL:https://www.70-72thepantiles.co.uk/event/laura-co-jazz-quartet/
LOCATION:The Grey Lady\, 70-72 The Pantiles\, Tunbridge Wells\, Kent\, TN2 5TW\, United Kingdom
CATEGORIES:Promote
ATTACH;FMTTYPE=image/jpeg:https://media.70-72thepantiles.co.uk/wp-content/uploads/2023/02/09000423/PHOTO-2022-02-15-20-27-54.jpg
END:VEVENT
BEGIN:VEVENT
DTSTART;TZID=Europe/London:20230414T190000
DTEND;TZID=Europe/London:20230414T230000
DTSTAMP:20260424T122048
CREATED:20230123T211339Z
LAST-MODIFIED:20230223T183127Z
UID:10000265-1681498800-1681513200@www.70-72thepantiles.co.uk
SUMMARY:The Grey Lady Sessions - Anna Howie + Hannah Richards
DESCRIPTION:Join us for a superb Grey Lady Sessions featuring the wonderful ANNA HOWIE and the superb HANNAH RICHARDS \n\n\nThe Grey Lady Sessions have been going since August 2005! The shows offer an intimate candlelit live music experience full of atmosphere and ambience. Audiences can enjoy two of the local areas finest original acts on the same bill. There is a well stocked bar available and an excellent Mediterranean menu for those wishing to dine. (Please note food is not available on Sunday evenings) Tickets must be attained in advance and The shows carry a listening etiquette so that the music comes first. Doors open at 7.15pm with music starting at 8pm. Its all about local\, Its all about new original music. Thank you for support! 🙂 \n\nTickets can be purchased by clicking here.
URL:https://www.70-72thepantiles.co.uk/event/the-grey-lady-sessions-anna-howie-hannah-richards/
LOCATION:The Grey Lady\, 70-72 The Pantiles\, Tunbridge Wells\, Kent\, TN2 5TW\, United Kingdom
CATEGORIES:Promote
ATTACH;FMTTYPE=image/jpeg:https://media.70-72thepantiles.co.uk/wp-content/uploads/2023/01/09000342/TGL-14Apr23.jpg
END:VEVENT
BEGIN:VEVENT
DTSTART;TZID=Europe/London:20230326T120000
DTEND;TZID=Europe/London:20230326T163000
DTSTAMP:20260424T122048
CREATED:20230117T223943Z
LAST-MODIFIED:20230323T002626Z
UID:10000259-1679832000-1679848200@www.70-72thepantiles.co.uk
SUMMARY:Charged Particles
DESCRIPTION:Get ready for an afternoon of electrifying jazz with Charged Particles! This San Francisco quartet is coming to the UK for an unforgettable tour\, and they’re making a stop at The Grey Lady Bar in Tunbridge Wells. \nCharged Particles has been captivating audiences for over 30 years with its unique blend of funk and Latin beats. They’ve performed in some of the world’s most renowned jazz clubs\, and now they’re bringing their world-class jazz to your doorstep. \nJoin us as Charged Particles pays homage to the late saxophonist Michael Brecker. The quartet of saxophone\, piano\, bass\, and drums will perform new arrangements of compositions by Michael Brecker. And with special guest saxophonist Tod Dickow\, you’re in for a real treat! \nTickets for this unforgettable afternoon of jazz are only £12. Guests can choose to dine from our delicious Mediterranean  A La Carte menu or just come for a drink and soak in the music. Don’t miss out on this rare opportunity to see the Bay Area’s favourite Latin jazz quartet live in the UK! \n 
URL:https://www.70-72thepantiles.co.uk/event/charged-particles/
LOCATION:The Grey Lady\, 70-72 The Pantiles\, Tunbridge Wells\, Kent\, TN2 5TW\, United Kingdom
CATEGORIES:Promote
ATTACH;FMTTYPE=image/jpeg:https://media.70-72thepantiles.co.uk/wp-content/uploads/2023/01/09000213/charged-particles.jpg
END:VEVENT
BEGIN:VEVENT
DTSTART;TZID=Europe/London:20230304T113000
DTEND;TZID=Europe/London:20230304T153000
DTSTAMP:20260424T122048
CREATED:20230123T190453Z
LAST-MODIFIED:20230223T183036Z
UID:10000260-1677929400-1677943800@www.70-72thepantiles.co.uk
SUMMARY:Hospice of Hope Bottomless Brunch Tunbridge Wells
DESCRIPTION:Bottomless Brunch in Tunbridge Wells\n\n\nLevel up your brunch-time treat with a Bottomless Brunch!\n\n\n\n\n\n\n\n\n\n\nKick off your weekend in style on Saturday 4th\, March with our Bottomless Brunch in Tunbridge Wells! Tuck into a two-course brunch starting at 11:30 am with bottomless prosecco\, available from 12 – 1:30 pm. You’ll also be treated to live music by talented local musicians. \nYou will be able to hear our wonderful performers throughout the event\, but please note that some seats have a restricted view of the stage. Tables at the venue will not be shared with other parties\, and will be allocated according to your booking size. \n\n\nPrevious Events
URL:https://www.70-72thepantiles.co.uk/event/hospice-of-hope-bottomless-brunch/
LOCATION:The Grey Lady\, 70-72 The Pantiles\, Tunbridge Wells\, Kent\, TN2 5TW\, United Kingdom
CATEGORIES:Promote
ATTACH;FMTTYPE=image/jpeg:https://media.70-72thepantiles.co.uk/wp-content/uploads/2023/01/08235544/Poster-Tunbridge-Wellls-Bottomless-brunch-1-724x1024-1.jpg
END:VEVENT
END:VCALENDAR