BEGIN:VCALENDAR
VERSION:2.0
PRODID:-//La Casa Vecchia &amp; The Grey Lady - ECPv6.15.18//NONSGML v1.0//EN
CALSCALE:GREGORIAN
METHOD:PUBLISH
X-WR-CALNAME:La Casa Vecchia &amp; The Grey Lady
X-ORIGINAL-URL:https://www.70-72thepantiles.co.uk
X-WR-CALDESC:Events for La Casa Vecchia &amp; The Grey Lady
REFRESH-INTERVAL;VALUE=DURATION:PT1H
X-Robots-Tag:noindex
X-PUBLISHED-TTL:PT1H
BEGIN:VTIMEZONE
TZID:Europe/London
BEGIN:DAYLIGHT
TZOFFSETFROM:+0000
TZOFFSETTO:+0100
TZNAME:BST
DTSTART:20220327T010000
END:DAYLIGHT
BEGIN:STANDARD
TZOFFSETFROM:+0100
TZOFFSETTO:+0000
TZNAME:GMT
DTSTART:20221030T010000
END:STANDARD
BEGIN:DAYLIGHT
TZOFFSETFROM:+0000
TZOFFSETTO:+0100
TZNAME:BST
DTSTART:20230326T010000
END:DAYLIGHT
BEGIN:STANDARD
TZOFFSETFROM:+0100
TZOFFSETTO:+0000
TZNAME:GMT
DTSTART:20231029T010000
END:STANDARD
BEGIN:DAYLIGHT
TZOFFSETFROM:+0000
TZOFFSETTO:+0100
TZNAME:BST
DTSTART:20240331T010000
END:DAYLIGHT
BEGIN:STANDARD
TZOFFSETFROM:+0100
TZOFFSETTO:+0000
TZNAME:GMT
DTSTART:20241027T010000
END:STANDARD
END:VTIMEZONE
BEGIN:VEVENT
DTSTART;TZID=Europe/London:20230421T190000
DTEND;TZID=Europe/London:20230422T003000
DTSTAMP:20260426T023851
CREATED:20230202T233630Z
LAST-MODIFIED:20230322T224153Z
UID:10000269-1682103600-1682123400@www.70-72thepantiles.co.uk
SUMMARY:Laura & Co Jazz Quartet
DESCRIPTION:Enjoy an evening of soulful jazz with Laura & Co\, an ensemble of talented musicians featuring vocalist Laura Lawton\, Iain Rae on keys\, Paul Beeching on bass\, Lionel Shell on drums and special guest Dan Foster on saxophone. From timeless jazz classics to contemporary hits\, their music will leave you captivated. \nIndulge in our delicious Mediterranean A La Carte menu or unwind with a drink from our bar while enjoying the performance. Join us for this memorable night of music and get your tickets now for only £12 per ticket. Don’t miss out on this chance to experience Laura & Co’s unique blend of jazz styles!
URL:https://www.70-72thepantiles.co.uk/event/laura-co-jazz-quartet/
LOCATION:The Grey Lady\, 70-72 The Pantiles\, Tunbridge Wells\, Kent\, TN2 5TW\, United Kingdom
CATEGORIES:Promote
ATTACH;FMTTYPE=image/jpeg:https://media.70-72thepantiles.co.uk/wp-content/uploads/2023/02/09000423/PHOTO-2022-02-15-20-27-54.jpg
END:VEVENT
BEGIN:VEVENT
DTSTART;TZID=Europe/London:20230414T190000
DTEND;TZID=Europe/London:20230414T230000
DTSTAMP:20260426T023851
CREATED:20230123T211339Z
LAST-MODIFIED:20230223T183127Z
UID:10000265-1681498800-1681513200@www.70-72thepantiles.co.uk
SUMMARY:The Grey Lady Sessions - Anna Howie + Hannah Richards
DESCRIPTION:Join us for a superb Grey Lady Sessions featuring the wonderful ANNA HOWIE and the superb HANNAH RICHARDS \n\n\nThe Grey Lady Sessions have been going since August 2005! The shows offer an intimate candlelit live music experience full of atmosphere and ambience. Audiences can enjoy two of the local areas finest original acts on the same bill. There is a well stocked bar available and an excellent Mediterranean menu for those wishing to dine. (Please note food is not available on Sunday evenings) Tickets must be attained in advance and The shows carry a listening etiquette so that the music comes first. Doors open at 7.15pm with music starting at 8pm. Its all about local\, Its all about new original music. Thank you for support! 🙂 \n\nTickets can be purchased by clicking here.
URL:https://www.70-72thepantiles.co.uk/event/the-grey-lady-sessions-anna-howie-hannah-richards/
LOCATION:The Grey Lady\, 70-72 The Pantiles\, Tunbridge Wells\, Kent\, TN2 5TW\, United Kingdom
CATEGORIES:Promote
ATTACH;FMTTYPE=image/jpeg:https://media.70-72thepantiles.co.uk/wp-content/uploads/2023/01/09000342/TGL-14Apr23.jpg
END:VEVENT
BEGIN:VEVENT
DTSTART;TZID=Europe/London:20230326T120000
DTEND;TZID=Europe/London:20230326T163000
DTSTAMP:20260426T023851
CREATED:20230117T223943Z
LAST-MODIFIED:20230323T002626Z
UID:10000259-1679832000-1679848200@www.70-72thepantiles.co.uk
SUMMARY:Charged Particles
DESCRIPTION:Get ready for an afternoon of electrifying jazz with Charged Particles! This San Francisco quartet is coming to the UK for an unforgettable tour\, and they’re making a stop at The Grey Lady Bar in Tunbridge Wells. \nCharged Particles has been captivating audiences for over 30 years with its unique blend of funk and Latin beats. They’ve performed in some of the world’s most renowned jazz clubs\, and now they’re bringing their world-class jazz to your doorstep. \nJoin us as Charged Particles pays homage to the late saxophonist Michael Brecker. The quartet of saxophone\, piano\, bass\, and drums will perform new arrangements of compositions by Michael Brecker. And with special guest saxophonist Tod Dickow\, you’re in for a real treat! \nTickets for this unforgettable afternoon of jazz are only £12. Guests can choose to dine from our delicious Mediterranean  A La Carte menu or just come for a drink and soak in the music. Don’t miss out on this rare opportunity to see the Bay Area’s favourite Latin jazz quartet live in the UK! \n 
URL:https://www.70-72thepantiles.co.uk/event/charged-particles/
LOCATION:The Grey Lady\, 70-72 The Pantiles\, Tunbridge Wells\, Kent\, TN2 5TW\, United Kingdom
CATEGORIES:Promote
ATTACH;FMTTYPE=image/jpeg:https://media.70-72thepantiles.co.uk/wp-content/uploads/2023/01/09000213/charged-particles.jpg
END:VEVENT
BEGIN:VEVENT
DTSTART;TZID=Europe/London:20230319T130000
DTEND;TZID=Europe/London:20230319T210000
DTSTAMP:20260426T023851
CREATED:20230214T201641Z
LAST-MODIFIED:20230216T085958Z
UID:10000273-1679230800-1679259600@www.70-72thepantiles.co.uk
SUMMARY:Soul Kitchen 8th Anniversary
DESCRIPTION:Join us in celebrating our 8th anniversary with another unforgettable afternoon of rare soul music at The Grey Lady\, brought to you by Soul Kitchen. \nOur resident DJs Tracey Shaw and John Browne will be spinning the very best rare soul music on original vinyl with a different special guest or guests each month. \nWe open at 1:00 pm and keep the soulful beats going until 9:00 pm. Admission is free\, so bring your friends and dance the day away. Don’t miss out on this unmissable event at The Grey Lady. \nIf you’re feeling peckish\, our delicious food menu is available from 1:00 pm to 4:00 pm\, so come early and fuel up for an afternoon of soulful fun. Join us as we celebrate our 8th anniversary with great music and good vibes. See you there!
URL:https://www.70-72thepantiles.co.uk/event/soul-kitchen-8th-anniversary/
LOCATION:The Grey Lady\, 70-72 The Pantiles\, Tunbridge Wells\, Kent\, TN2 5TW\, United Kingdom
ATTACH;FMTTYPE=image/jpeg:https://media.70-72thepantiles.co.uk/wp-content/uploads/2023/02/14201525/8th-anniversary.jpg
END:VEVENT
BEGIN:VEVENT
DTSTART;TZID=Europe/London:20230317T190000
DTEND;TZID=Europe/London:20230317T233000
DTSTAMP:20260426T023851
CREATED:20230223T165455Z
LAST-MODIFIED:20230228T230320Z
UID:10000275-1679079600-1679095800@www.70-72thepantiles.co.uk
SUMMARY:St Patrick’s Day concert with Paul Dunton & Special Guests
DESCRIPTION:Join us at The Grey Lady Music Lounge on St Patrick’s Day ☘️ March 17th for A superb live music concert from a selection of superb local bands. Full bar and kitchen menu available. Doors open 7.15 music from 7.45pm. It also happens to be somebody’s birthday gig! 🥳🤫🎶 \nTickets can be purchased by clicking here.
URL:https://www.70-72thepantiles.co.uk/event/st-patricks-day-concert/
LOCATION:The Grey Lady\, 70-72 The Pantiles\, Tunbridge Wells\, Kent\, TN2 5TW\, United Kingdom
ATTACH;FMTTYPE=image/jpeg:https://media.70-72thepantiles.co.uk/wp-content/uploads/2023/02/28225937/TGL-17Mar23-V2.jpg
ORGANIZER;CN="Paul Dunton":MAILTO:paul@pauldunton.co.uk
END:VEVENT
BEGIN:VEVENT
DTSTART;TZID=Europe/London:20230304T113000
DTEND;TZID=Europe/London:20230304T153000
DTSTAMP:20260426T023851
CREATED:20230123T190453Z
LAST-MODIFIED:20230223T183036Z
UID:10000260-1677929400-1677943800@www.70-72thepantiles.co.uk
SUMMARY:Hospice of Hope Bottomless Brunch Tunbridge Wells
DESCRIPTION:Bottomless Brunch in Tunbridge Wells\n\n\nLevel up your brunch-time treat with a Bottomless Brunch!\n\n\n\n\n\n\n\n\n\n\nKick off your weekend in style on Saturday 4th\, March with our Bottomless Brunch in Tunbridge Wells! Tuck into a two-course brunch starting at 11:30 am with bottomless prosecco\, available from 12 – 1:30 pm. You’ll also be treated to live music by talented local musicians. \nYou will be able to hear our wonderful performers throughout the event\, but please note that some seats have a restricted view of the stage. Tables at the venue will not be shared with other parties\, and will be allocated according to your booking size. \n\n\nPrevious Events
URL:https://www.70-72thepantiles.co.uk/event/hospice-of-hope-bottomless-brunch/
LOCATION:The Grey Lady\, 70-72 The Pantiles\, Tunbridge Wells\, Kent\, TN2 5TW\, United Kingdom
CATEGORIES:Promote
ATTACH;FMTTYPE=image/jpeg:https://media.70-72thepantiles.co.uk/wp-content/uploads/2023/01/08235544/Poster-Tunbridge-Wellls-Bottomless-brunch-1-724x1024-1.jpg
END:VEVENT
BEGIN:VEVENT
DTSTART;TZID=Europe/London:20230303T190000
DTEND;TZID=Europe/London:20230303T233000
DTSTAMP:20260426T023851
CREATED:20230214T200441Z
LAST-MODIFIED:20230223T182934Z
UID:10000272-1677870000-1677886200@www.70-72thepantiles.co.uk
SUMMARY:The Grey Lady Sessions: Songwriters Relay Concert
DESCRIPTION:Join us for a unique Grey Lady Sessions featuring six exceptional local singer/songwriters performing in a relay-style candlelit concert. \nExperience the magic of Grey Lady Sessions\, a cherished tradition at our venue since August 2005! Our intimate\, candlelit shows offer an exceptional live music experience steeped in atmosphere and ambience. Enjoy the best local original acts all in one bill\, carefully curated just for you. Quench your thirst with our full bar and indulge in our delectable Mediterranean menu. \nPlease note that tickets must be purchased in advance\, and we kindly request a listening etiquette during performances to ensure the music remains centre stage. Doors open at 7:15 pm\, and the music starts at 8 pm sharp. Join us as we celebrate new\, original music and support local artists. We are incredibly grateful for your continued support! \nClick here to purchase tickets.
URL:https://www.70-72thepantiles.co.uk/event/the-grey-lady-sessions-songwriters-relay-concert/
LOCATION:The Grey Lady\, 70-72 The Pantiles\, Tunbridge Wells\, Kent\, TN2 5TW\, United Kingdom
ATTACH;FMTTYPE=image/jpeg:https://media.70-72thepantiles.co.uk/wp-content/uploads/2023/02/14195401/TGL-3Mar23.jpg
ORGANIZER;CN="Paul Dunton":MAILTO:paul@pauldunton.co.uk
END:VEVENT
END:VCALENDAR