BEGIN:VCALENDAR
VERSION:2.0
PRODID:-//La Casa Vecchia &amp; The Grey Lady - ECPv6.15.18//NONSGML v1.0//EN
CALSCALE:GREGORIAN
METHOD:PUBLISH
X-WR-CALNAME:La Casa Vecchia &amp; The Grey Lady
X-ORIGINAL-URL:https://www.70-72thepantiles.co.uk
X-WR-CALDESC:Events for La Casa Vecchia &amp; The Grey Lady
REFRESH-INTERVAL;VALUE=DURATION:PT1H
X-Robots-Tag:noindex
X-PUBLISHED-TTL:PT1H
BEGIN:VTIMEZONE
TZID:Europe/London
BEGIN:DAYLIGHT
TZOFFSETFROM:+0000
TZOFFSETTO:+0100
TZNAME:BST
DTSTART:20240331T010000
END:DAYLIGHT
BEGIN:STANDARD
TZOFFSETFROM:+0100
TZOFFSETTO:+0000
TZNAME:GMT
DTSTART:20241027T010000
END:STANDARD
BEGIN:DAYLIGHT
TZOFFSETFROM:+0000
TZOFFSETTO:+0100
TZNAME:BST
DTSTART:20250330T010000
END:DAYLIGHT
BEGIN:STANDARD
TZOFFSETFROM:+0100
TZOFFSETTO:+0000
TZNAME:GMT
DTSTART:20251026T010000
END:STANDARD
BEGIN:DAYLIGHT
TZOFFSETFROM:+0000
TZOFFSETTO:+0100
TZNAME:BST
DTSTART:20260329T010000
END:DAYLIGHT
BEGIN:STANDARD
TZOFFSETFROM:+0100
TZOFFSETTO:+0000
TZNAME:GMT
DTSTART:20261025T010000
END:STANDARD
END:VTIMEZONE
BEGIN:VEVENT
DTSTART;TZID=Europe/London:20250301T190000
DTEND;TZID=Europe/London:20250302T010000
DTSTAMP:20260425T020959
CREATED:20241024T200643Z
LAST-MODIFIED:20241024T200643Z
UID:10000492-1740855600-1740877200@www.70-72thepantiles.co.uk
SUMMARY:Private Party
DESCRIPTION:
URL:https://www.70-72thepantiles.co.uk/event/private-party-91/
LOCATION:Kent
END:VEVENT
BEGIN:VEVENT
DTSTART;TZID=Europe/London:20250302T190000
DTEND;TZID=Europe/London:20250302T230000
DTSTAMP:20260425T020959
CREATED:20250205T211638Z
LAST-MODIFIED:20250221T212627Z
UID:10000539-1740942000-1740956400@www.70-72thepantiles.co.uk
SUMMARY:The Grey Lady Sessions: CALICO + CHRIS PARRIS
DESCRIPTION:Join us on Sunday March 2nd for a fantastic Grey Lady Sessions featuring the wonderful talents of CALICO and CHRIS PARRIS. \nExperience the magic of Grey Lady Sessions\, a cherished tradition at our venue since August 2005! Our intimate\, candlelit shows offer an exceptional live music experience steeped in atmosphere and ambience. Enjoy the best local original acts all in one bill\, carefully curated just for you. \nPlease note that tickets must be purchased in advance\, and we kindly request a listening etiquette during performances to ensure the music remains centre stage. Doors open at 7:15 pm\, and the music starts at 8 pm sharp. Join us as we celebrate new\, original music and support local artists. We are incredibly grateful for your continued support! \nTickets can be purchased by clicking here.
URL:https://www.70-72thepantiles.co.uk/event/the-grey-lady-sessions-calico-chris-parris/
LOCATION:The Grey Lady\, 70-72 The Pantiles\, Tunbridge Wells\, Kent\, TN2 5TW\, United Kingdom
ATTACH;FMTTYPE=image/jpeg:https://media.70-72thepantiles.co.uk/wp-content/uploads/2025/02/21212606/TGL-2Mar25.jpg
ORGANIZER;CN="Paul Dunton":MAILTO:paul@pauldunton.co.uk
END:VEVENT
BEGIN:VEVENT
DTSTART;TZID=Europe/London:20250307T190000
DTEND;TZID=Europe/London:20250307T230000
DTSTAMP:20260425T020959
CREATED:20250129T202558Z
LAST-MODIFIED:20250209T203042Z
UID:10000534-1741374000-1741388400@www.70-72thepantiles.co.uk
SUMMARY:The Grey Lady Sessions: JOANNE LOUISE PARKER + DEBORAH NIGHTINGALE
DESCRIPTION:Join us for a spellbinding candlelit concert at The Grey Lady featuring live performances from JOANNE LOUISE PARKER and DEBORAH NIGHTINGALE \n\n\nExperience the magic of Grey Lady Sessions\, a cherished tradition at our venue since August 2005! Our intimate\, candlelit shows offer an exceptional live music experience steeped in atmosphere and ambience. Enjoy the best local original acts all in one bill\, carefully curated just for you. \nPlease note that tickets must be purchased in advance\, and we kindly request a listening etiquette during performances to ensure the music remains centre stage. Doors open at 7:15 pm\, and the music starts at 8 pm sharp. Join us as we celebrate new\, original music and support local artists. We are incredibly grateful for your continued support! \nTickets can be purchased by clicking here.
URL:https://www.70-72thepantiles.co.uk/event/the-grey-lady-sessions-joanne-louise-parker-deborah-nightingale/
LOCATION:The Grey Lady\, 70-72 The Pantiles\, Tunbridge Wells\, Kent\, TN2 5TW\, United Kingdom
ATTACH;FMTTYPE=image/jpeg:https://media.70-72thepantiles.co.uk/wp-content/uploads/2025/01/09203017/TGL-7Mar25.jpg
ORGANIZER;CN="Paul Dunton":MAILTO:paul@pauldunton.co.uk
END:VEVENT
BEGIN:VEVENT
DTSTART;TZID=Europe/London:20250314T190000
DTEND;TZID=Europe/London:20250314T233000
DTSTAMP:20260425T020959
CREATED:20241220T084732Z
LAST-MODIFIED:20250314T111054Z
UID:10000518-1741978800-1741995000@www.70-72thepantiles.co.uk
SUMMARY:Laura & Co
DESCRIPTION:Enjoy an evening of jazz with ‘Laura & Co’\, an ensemble of talented musicians featuring vocalist Laura Lawton\, Roger Lewin on keys\, Paul Beeching on bass\, Lionel Shell on drums and Dan Foster on sax.   \nYou’ll experience a wonderful mix of jazz standards recorded over the years by the likes of Ella Fitzgerald\, Billie Holliday\, Sarah Vaughan\, Peggy Lee\, Etta James\, Nina Simone and many more . Anything from ‘Fly Me To The Moon’\, to latin jazz with ‘Girl From Ipanema’ and ‘Desafinado’.
URL:https://www.70-72thepantiles.co.uk/event/laura-co/
LOCATION:The Grey Lady\, 70-72 The Pantiles\, Tunbridge Wells\, Kent\, TN2 5TW\, United Kingdom
ATTACH;FMTTYPE=image/jpeg:https://media.70-72thepantiles.co.uk/wp-content/uploads/2024/09/20201700/IMG_5262-scaled.jpg
END:VEVENT
BEGIN:VEVENT
DTSTART;TZID=Europe/London:20250316T130000
DTEND;TZID=Europe/London:20250316T210000
DTSTAMP:20260425T020959
CREATED:20241128T201730Z
LAST-MODIFIED:20250122T194919Z
UID:10000509-1742130000-1742158800@www.70-72thepantiles.co.uk
SUMMARY:Soul Kitchen
DESCRIPTION:
URL:https://www.70-72thepantiles.co.uk/event/soul-kitchen-4/
LOCATION:The Grey Lady\, 70-72 The Pantiles\, Tunbridge Wells\, Kent\, TN2 5TW\, United Kingdom
ATTACH;FMTTYPE=image/jpeg:https://media.70-72thepantiles.co.uk/wp-content/uploads/2024/11/22194854/PHOTO-2025-01-20-08-57-04.jpg
END:VEVENT
BEGIN:VEVENT
DTSTART;TZID=Europe/London:20250320T190000
DTEND;TZID=Europe/London:20250320T233000
DTSTAMP:20260425T020959
CREATED:20250302T225246Z
LAST-MODIFIED:20250302T225246Z
UID:10000543-1742497200-1742513400@www.70-72thepantiles.co.uk
SUMMARY:Private Party
DESCRIPTION:
URL:https://www.70-72thepantiles.co.uk/event/private-party-117/
LOCATION:Kent
END:VEVENT
BEGIN:VEVENT
DTSTART;TZID=Europe/London:20250321T190000
DTEND;TZID=Europe/London:20250322T003000
DTSTAMP:20260425T020959
CREATED:20241208T170954Z
LAST-MODIFIED:20250202T154017Z
UID:10000515-1742583600-1742603400@www.70-72thepantiles.co.uk
SUMMARY:Princess Featuring Stephanie Benson
DESCRIPTION:Stephanie Benson\, also known as Princess Akua Ohenewaa Asieanem of Kokobin\, is a UK-based Ghanaian international singer and performer rooted in jazz music. In Ghana\, she has been described as the queen of jazz. \nGuests can dine from our full A La Carte menu or have a drink and enjoy the music.
URL:https://www.70-72thepantiles.co.uk/event/stephanie-benson-quartet-2/
LOCATION:The Grey Lady\, 70-72 The Pantiles\, Tunbridge Wells\, Kent\, TN2 5TW\, United Kingdom
ATTACH;FMTTYPE=image/jpeg:https://media.70-72thepantiles.co.uk/wp-content/uploads/2024/12/21121853/Princess.jpeg
END:VEVENT
BEGIN:VEVENT
DTSTART;TZID=Europe/London:20250322T190000
DTEND;TZID=Europe/London:20250323T010000
DTSTAMP:20260425T020959
CREATED:20241126T205941Z
LAST-MODIFIED:20241126T205941Z
UID:10000501-1742670000-1742691600@www.70-72thepantiles.co.uk
SUMMARY:Private Party
DESCRIPTION:
URL:https://www.70-72thepantiles.co.uk/event/private-party-96/
LOCATION:Kent
END:VEVENT
BEGIN:VEVENT
DTSTART;TZID=Europe/London:20250327T080000
DTEND;TZID=Europe/London:20250327T170000
DTSTAMP:20260425T020959
CREATED:20250327T182956Z
LAST-MODIFIED:20250327T182957Z
UID:10000556-1743062400-1743094800@www.70-72thepantiles.co.uk
SUMMARY:OPEN MIC SINGER NIGHT
DESCRIPTION:Open mic singers night is back at the grey lady!
URL:https://www.70-72thepantiles.co.uk/event/open-mic-singer-night/
LOCATION:The Grey Lady\, 70-72 The Pantiles\, Tunbridge Wells\, Kent\, TN2 5TW\, United Kingdom
CATEGORIES:Promote
ATTACH;FMTTYPE=image/jpeg:https://media.70-72thepantiles.co.uk/wp-content/uploads/2025/03/25194125/Night.jpg.jpg
END:VEVENT
BEGIN:VEVENT
DTSTART;TZID=Europe/London:20250328T190000
DTEND;TZID=Europe/London:20250329T010000
DTSTAMP:20260425T020959
CREATED:20241128T201251Z
LAST-MODIFIED:20250313T192838Z
UID:10000505-1743188400-1743210000@www.70-72thepantiles.co.uk
SUMMARY:Fiesta Latina Night
DESCRIPTION:Welcome to the Fiesta Latina Night! Join us for a sizzling evening filled with Latin music\, mouth-watering tapas\, exotic cocktails\, and plenty of dancing. \n 
URL:https://www.70-72thepantiles.co.uk/event/fiesta-latina-night-6/
LOCATION:Kent
CATEGORIES:Promote
ATTACH;FMTTYPE=image/jpeg:https://media.70-72thepantiles.co.uk/wp-content/uploads/2024/11/13190517/PHOTO-2025-03-13-18-56-35-2.jpg
ORGANIZER;CN="Yanina Ferrandi":MAILTO:Yanina Fit Classes Ferrandi
END:VEVENT
BEGIN:VEVENT
DTSTART;TZID=Europe/London:20250329T190000
DTEND;TZID=Europe/London:20250330T020000
DTSTAMP:20260425T020959
CREATED:20241209T205509Z
LAST-MODIFIED:20241209T205509Z
UID:10000516-1743274800-1743300000@www.70-72thepantiles.co.uk
SUMMARY:Private Party
DESCRIPTION:
URL:https://www.70-72thepantiles.co.uk/event/private-party-106/
LOCATION:Kent
END:VEVENT
BEGIN:VEVENT
DTSTART;TZID=Europe/London:20250331T160000
DTEND;TZID=Europe/London:20250331T220000
DTSTAMP:20260425T020959
CREATED:20250303T204846Z
LAST-MODIFIED:20250303T204846Z
UID:10000545-1743436800-1743458400@www.70-72thepantiles.co.uk
SUMMARY:Private Party
DESCRIPTION:
URL:https://www.70-72thepantiles.co.uk/event/private-party-118/
LOCATION:Kent
END:VEVENT
END:VCALENDAR