BEGIN:VCALENDAR
VERSION:2.0
PRODID:-//La Casa Vecchia &amp; The Grey Lady - ECPv6.15.18//NONSGML v1.0//EN
CALSCALE:GREGORIAN
METHOD:PUBLISH
X-ORIGINAL-URL:https://www.70-72thepantiles.co.uk
X-WR-CALDESC:Events for La Casa Vecchia &amp; The Grey Lady
REFRESH-INTERVAL;VALUE=DURATION:PT1H
X-Robots-Tag:noindex
X-PUBLISHED-TTL:PT1H
BEGIN:VTIMEZONE
TZID:Europe/London
BEGIN:DAYLIGHT
TZOFFSETFROM:+0000
TZOFFSETTO:+0100
TZNAME:BST
DTSTART:20240331T010000
END:DAYLIGHT
BEGIN:STANDARD
TZOFFSETFROM:+0100
TZOFFSETTO:+0000
TZNAME:GMT
DTSTART:20241027T010000
END:STANDARD
BEGIN:DAYLIGHT
TZOFFSETFROM:+0000
TZOFFSETTO:+0100
TZNAME:BST
DTSTART:20250330T010000
END:DAYLIGHT
BEGIN:STANDARD
TZOFFSETFROM:+0100
TZOFFSETTO:+0000
TZNAME:GMT
DTSTART:20251026T010000
END:STANDARD
BEGIN:DAYLIGHT
TZOFFSETFROM:+0000
TZOFFSETTO:+0100
TZNAME:BST
DTSTART:20260329T010000
END:DAYLIGHT
BEGIN:STANDARD
TZOFFSETFROM:+0100
TZOFFSETTO:+0000
TZNAME:GMT
DTSTART:20261025T010000
END:STANDARD
END:VTIMEZONE
BEGIN:VEVENT
DTSTART;TZID=Europe/London:20250401T160000
DTEND;TZID=Europe/London:20250401T220000
DTSTAMP:20260425T010245
CREATED:20250303T204948Z
LAST-MODIFIED:20250303T204948Z
UID:10000546-1743523200-1743544800@www.70-72thepantiles.co.uk
SUMMARY:Private Party
DESCRIPTION:
URL:https://www.70-72thepantiles.co.uk/event/private-party-119/
LOCATION:Kent
END:VEVENT
BEGIN:VEVENT
DTSTART;TZID=Europe/London:20250404T190000
DTEND;TZID=Europe/London:20250404T230000
DTSTAMP:20260425T010245
CREATED:20250129T202629Z
LAST-MODIFIED:20250306T203220Z
UID:10000535-1743793200-1743807600@www.70-72thepantiles.co.uk
SUMMARY:The Grey Lady Sessions: ISABELLA COULSTOCK + ANOUSKA ASSISI
DESCRIPTION:Join us on Friday April 4th for a spellbinding candlelit concert from ISABELLA COULSTOCK and ANOUSKA ASSISI. \nExperience the magic of Grey Lady Sessions\, a cherished tradition at our venue since August 2005! Our intimate\, candlelit shows offer an exceptional live music experience steeped in atmosphere and ambience. Enjoy the best local original acts all in one bill\, carefully curated just for you. \nPlease note that tickets must be purchased in advance\, and we kindly request a listening etiquette during performances to ensure the music remains centre stage. Doors open at 7:15 pm\, and the music starts at 8 pm sharp. Join us as we celebrate new\, original music and support local artists. We are incredibly grateful for your continued support! \nTickets can be purchased by clicking here.
URL:https://www.70-72thepantiles.co.uk/event/the-grey-lady-sessions-isabella-coulstock-anouska-assisi/
LOCATION:The Grey Lady\, 70-72 The Pantiles\, Tunbridge Wells\, Kent\, TN2 5TW\, United Kingdom
ATTACH;FMTTYPE=image/jpeg:https://media.70-72thepantiles.co.uk/wp-content/uploads/2025/01/06203205/TGL-4Apr25.jpg
ORGANIZER;CN="Paul Dunton":MAILTO:paul@pauldunton.co.uk
END:VEVENT
BEGIN:VEVENT
DTSTART;TZID=Europe/London:20250405T190000
DTEND;TZID=Europe/London:20250406T010000
DTSTAMP:20260425T010245
CREATED:20250116T211935Z
LAST-MODIFIED:20250116T211935Z
UID:10000525-1743879600-1743901200@www.70-72thepantiles.co.uk
SUMMARY:Private Party
DESCRIPTION:
URL:https://www.70-72thepantiles.co.uk/event/private-party-111/
LOCATION:Kent
END:VEVENT
BEGIN:VEVENT
DTSTART;TZID=Europe/London:20250411T190000
DTEND;TZID=Europe/London:20250411T230000
DTSTAMP:20260425T010245
CREATED:20250122T193711Z
LAST-MODIFIED:20250402T174757Z
UID:10000527-1744398000-1744412400@www.70-72thepantiles.co.uk
SUMMARY:Bob Bernard's Jazz Club
DESCRIPTION:🎷 Join Us at the Jazz Club with the Bob Bernard Quartet! 🎶\n\n\n\n\nGet ready for an unforgettable evening of live jazz featuring the talented Bob Bernard Quartet\, accompanied by special guests announced closer to the event. Whether you’re a jazz aficionado or simply looking for a great night out\, this is the perfect event for you! \nEnjoy a delicious dining experience from our À La Carte menu while soaking in the smooth sounds of Bob Bernard and his quartet. Bob’s illustrious music career began in the King’s Shropshire Light Infantry regimental band\, quickly rising to solo clarinet player and later honing his skills at the Royal Military School of Music. With decades of experience performing in iconic West End clubs and teaching jazz for over 25 years\, Bob brings passion and expertise to every performance. \nTickets are on sale now\, so grab yours today and stay tuned for exciting announcements about our special guests. Don’t miss out on a night of exceptional music and great food!
URL:https://www.70-72thepantiles.co.uk/event/bob-bernards-jazz-club/
LOCATION:The Grey Lady\, 70-72 The Pantiles\, Tunbridge Wells\, Kent\, TN2 5TW\, United Kingdom
ATTACH;FMTTYPE=image/jpeg:https://media.70-72thepantiles.co.uk/wp-content/uploads/2025/01/02184745/thumbnail_BOB-Grey-lady-11-APR-NEW.jpg
END:VEVENT
BEGIN:VEVENT
DTSTART;TZID=Europe/London:20250412T190000
DTEND;TZID=Europe/London:20250412T230000
DTSTAMP:20260425T010245
CREATED:20250215T170953Z
LAST-MODIFIED:20250320T021948Z
UID:10000542-1744484400-1744498800@www.70-72thepantiles.co.uk
SUMMARY:The Grey Lady Sessions: MINT SHERBETS + LITTLE SISTER
DESCRIPTION:Join us for a fantastic night of local music from the deeply talented MINT SHERBETS and the superb LITTLE SISTER at The Grey Lady Sessions! \n\n\nExperience the magic of Grey Lady Sessions\, a cherished tradition at our venue since August 2005! Our intimate\, candlelit shows offer an exceptional live music experience steeped in atmosphere and ambience. Enjoy the best local original acts all in one bill\, carefully curated just for you. \nPlease note that tickets must be purchased in advance\, and we kindly request a listening etiquette during performances to ensure the music remains centre stage. Doors open at 7:15 pm\, and the music starts at 8 pm sharp. Join us as we celebrate new\, original music and support local artists. We are incredibly grateful for your continued support! \nTickets can be purchased by clicking here.
URL:https://www.70-72thepantiles.co.uk/event/the-grey-lady-sessions-mint-sherbets-little-sister/
LOCATION:The Grey Lady\, 70-72 The Pantiles\, Tunbridge Wells\, Kent\, TN2 5TW\, United Kingdom
ATTACH;FMTTYPE=image/jpeg:https://media.70-72thepantiles.co.uk/wp-content/uploads/2025/02/20021933/TGL-12Apr25.jpg
ORGANIZER;CN="Paul Dunton":MAILTO:paul@pauldunton.co.uk
END:VEVENT
BEGIN:VEVENT
DTSTART;TZID=Europe/London:20250418T190000
DTEND;TZID=Europe/London:20250418T230000
DTSTAMP:20260425T010245
CREATED:20250303T204557Z
LAST-MODIFIED:20250306T203014Z
UID:10000544-1745002800-1745017200@www.70-72thepantiles.co.uk
SUMMARY:The Grey Lady Sessions: THE BREAKS + GEORGE WOOSEY (Dull Knife)
DESCRIPTION:Join us for an incredible night of superb local original music from The Breaks and George Woosey (Dull Knife) at The Grey Lady Sessions! \nExperience the magic of Grey Lady Sessions\, a cherished tradition at our venue since August 2005! Our intimate\, candlelit shows offer an exceptional live music experience steeped in atmosphere and ambience. Enjoy the best local original acts all in one bill\, carefully curated just for you. \nPlease note that tickets must be purchased in advance\, and we kindly request a listening etiquette during performances to ensure the music remains centre stage. Doors open at 7:15 pm\, and the music starts at 8 pm sharp. Join us as we celebrate new\, original music and support local artists. We are incredibly grateful for your continued support! \nTickets can be purchased by clicking here.
URL:https://www.70-72thepantiles.co.uk/event/the-grey-lady-sessions-the-breaks-george-woosey-dull-knife/
LOCATION:The Grey Lady\, 70-72 The Pantiles\, Tunbridge Wells\, Kent\, TN2 5TW\, United Kingdom
ATTACH;FMTTYPE=image/jpeg:https://media.70-72thepantiles.co.uk/wp-content/uploads/2025/03/06202937/TGL-18Apr25.jpg
ORGANIZER;CN="Paul Dunton":MAILTO:paul@pauldunton.co.uk
END:VEVENT
BEGIN:VEVENT
DTSTART;TZID=Europe/London:20250419T190000
DTEND;TZID=Europe/London:20250420T010000
DTSTAMP:20260425T010245
CREATED:20250209T200824Z
LAST-MODIFIED:20250209T200824Z
UID:10000541-1745089200-1745110800@www.70-72thepantiles.co.uk
SUMMARY:Private Party
DESCRIPTION:
URL:https://www.70-72thepantiles.co.uk/event/private-party-116/
LOCATION:Kent
END:VEVENT
END:VCALENDAR