BEGIN:VCALENDAR
VERSION:2.0
PRODID:-//La Casa Vecchia &amp; The Grey Lady - ECPv6.15.18//NONSGML v1.0//EN
CALSCALE:GREGORIAN
METHOD:PUBLISH
X-WR-CALNAME:La Casa Vecchia &amp; The Grey Lady
X-ORIGINAL-URL:https://www.70-72thepantiles.co.uk
X-WR-CALDESC:Events for La Casa Vecchia &amp; The Grey Lady
REFRESH-INTERVAL;VALUE=DURATION:PT1H
X-Robots-Tag:noindex
X-PUBLISHED-TTL:PT1H
BEGIN:VTIMEZONE
TZID:Europe/London
BEGIN:DAYLIGHT
TZOFFSETFROM:+0000
TZOFFSETTO:+0100
TZNAME:BST
DTSTART:20240331T010000
END:DAYLIGHT
BEGIN:STANDARD
TZOFFSETFROM:+0100
TZOFFSETTO:+0000
TZNAME:GMT
DTSTART:20241027T010000
END:STANDARD
BEGIN:DAYLIGHT
TZOFFSETFROM:+0000
TZOFFSETTO:+0100
TZNAME:BST
DTSTART:20250330T010000
END:DAYLIGHT
BEGIN:STANDARD
TZOFFSETFROM:+0100
TZOFFSETTO:+0000
TZNAME:GMT
DTSTART:20251026T010000
END:STANDARD
BEGIN:DAYLIGHT
TZOFFSETFROM:+0000
TZOFFSETTO:+0100
TZNAME:BST
DTSTART:20260329T010000
END:DAYLIGHT
BEGIN:STANDARD
TZOFFSETFROM:+0100
TZOFFSETTO:+0000
TZNAME:GMT
DTSTART:20261025T010000
END:STANDARD
END:VTIMEZONE
BEGIN:VEVENT
DTSTART;TZID=Europe/London:20250802T190000
DTEND;TZID=Europe/London:20250802T233000
DTSTAMP:20260424T175322
CREATED:20250514T194624Z
LAST-MODIFIED:20250715T215115Z
UID:10000621-1754161200-1754177400@www.70-72thepantiles.co.uk
SUMMARY:The Grey Lady Sessions: GEM O’REILLY + JENNIFER LEE RIDLEY
DESCRIPTION:Join us on Aug 2nd at The Grey Lady Sessions. The GEM O’REILLY TRIO will be performing a headline set with support from JENNIFER LEE RIDLEY \nExperience the magic of Grey Lady Sessions\, a cherished tradition at our venue since August 2005! Our intimate\, candlelit shows offer an exceptional live music experience steeped in atmosphere and ambience. Enjoy the best local original acts all in one bill\, carefully curated just for you. \nPlease note that tickets must be purchased in advance\, and we kindly request a listening etiquette during performances to ensure the music remains centre stage. Doors open at 7:15 pm\, and the music starts at 8 pm sharp. Join us as we celebrate new\, original music and support local artists. We are incredibly grateful for your continued support! \nTickets can be purchased by clicking here. \n 
URL:https://www.70-72thepantiles.co.uk/event/the-grey-lady-sessions-gem-oreilly-jennifer-lee-ridley/
LOCATION:The Grey Lady\, 70-72 The Pantiles\, Tunbridge Wells\, Kent\, TN2 5TW\, United Kingdom
ATTACH;FMTTYPE=image/jpeg:https://media.70-72thepantiles.co.uk/wp-content/uploads/2025/05/15225104/TGL-2Aug25.jpg
ORGANIZER;CN="Paul Dunton":MAILTO:paul@pauldunton.co.uk
END:VEVENT
BEGIN:VEVENT
DTSTART;TZID=Europe/London:20250805T190000
DTEND;TZID=Europe/London:20250805T220000
DTSTAMP:20260424T175322
CREATED:20250607T153344Z
LAST-MODIFIED:20250607T153435Z
UID:10000686-1754420400-1754431200@www.70-72thepantiles.co.uk
SUMMARY:Open Mic: Singers Night
DESCRIPTION:A welcoming evening for all vocalists\, from beginners to pros! Sing with live piano accompaniment by Roger Lewin in a fun\, supportive atmosphere. Bring sheet music\, backing tracks\, or your own original songs. Great vibes\, great music\, and great food – come sing or just enjoy the show! \nEntry £5 for singers and listeners. Questions? Email singersnight@yahoo.com. \n 
URL:https://www.70-72thepantiles.co.uk/event/open-mic-singers-night-2/2025-08-05/
LOCATION:The Grey Lady\, 70-72 The Pantiles\, Tunbridge Wells\, Kent\, TN2 5TW\, United Kingdom
ATTACH;FMTTYPE=image/jpeg:https://media.70-72thepantiles.co.uk/wp-content/uploads/2025/06/07163100/IMG_6924.jpeg
END:VEVENT
BEGIN:VEVENT
DTSTART;TZID=Europe/London:20250808T190000
DTEND;TZID=Europe/London:20250808T233000
DTSTAMP:20260424T175322
CREATED:20250514T194644Z
LAST-MODIFIED:20250715T215232Z
UID:10000622-1754679600-1754695800@www.70-72thepantiles.co.uk
SUMMARY:The Grey Lady Sessions: THE VIOLET JIVE + ANDY TWYMAN
DESCRIPTION:Join us at The Grey Lady on August 8th for a night of superb original music featuring THE VIOLET JIVE and ANDY TWYMAN – ONE MAN BLUES BAND! \nExperience the magic of Grey Lady Sessions\, a cherished tradition at our venue since August 2005! Our intimate\, candlelit shows offer an exceptional live music experience steeped in atmosphere and ambience. Enjoy the best local original acts all in one bill\, carefully curated just for you. \nPlease note that tickets must be purchased in advance\, and we kindly request a listening etiquette during performances to ensure the music remains centre stage. Doors open at 7:15 pm\, and the music starts at 8 pm sharp. Join us as we celebrate new\, original music and support local artists. We are incredibly grateful for your continued support! \nTickets can be purchased by clicking here. \n 
URL:https://www.70-72thepantiles.co.uk/event/the-grey-lady-sessions-the-violet-jive-andy-twyman/
LOCATION:The Grey Lady\, 70-72 The Pantiles\, Tunbridge Wells\, Kent\, TN2 5TW\, United Kingdom
ATTACH;FMTTYPE=image/jpeg:https://media.70-72thepantiles.co.uk/wp-content/uploads/2025/05/15225226/TGL-8Aug25.jpg
ORGANIZER;CN="Paul Dunton":MAILTO:paul@pauldunton.co.uk
END:VEVENT
BEGIN:VEVENT
DTSTART;TZID=Europe/London:20250816T190000
DTEND;TZID=Europe/London:20250816T230000
DTSTAMP:20260424T175322
CREATED:20250616T182623Z
LAST-MODIFIED:20250617T211205Z
UID:10000807-1755370800-1755385200@www.70-72thepantiles.co.uk
SUMMARY:An Evening of Magic with James Sheridan
DESCRIPTION:Join us for a special night of mystery and wonder as professional magician James Sheridan — aka Sheridan Illusions — brings his unique blend of close-up magic and psychological illusion to our venue. \nWith over 20 years of experience performing across East Sussex\, London\, and Kent\, James is a master of elegant\, engaging entertainment that delights guests of all ages. Whether you’re here for dinner or just drinks\, prepare to be amazed right at your table. \nClose-up magic begins from 7:00pm\, with a stage show starting around 8:30–9:00pm — an evening full of surprises and spellbinding moments. \nJames is also available for private parties and events. To learn more or make an enquiry\, visit:\nhttps://www.sheridanillusions.com/
URL:https://www.70-72thepantiles.co.uk/event/an-evening-of-magic-with-james-sheridan/
LOCATION:The Grey Lady\, 70-72 The Pantiles\, Tunbridge Wells\, Kent\, TN2 5TW\, United Kingdom
ATTACH;FMTTYPE=image/jpeg:https://media.70-72thepantiles.co.uk/wp-content/uploads/2025/06/16191405/Sheridan1.jpg
END:VEVENT
BEGIN:VEVENT
DTSTART;TZID=Europe/London:20250823T150000
DTEND;TZID=Europe/London:20250823T220000
DTSTAMP:20260424T175322
CREATED:20241201T173006Z
LAST-MODIFIED:20250625T184452Z
UID:10000511-1755961200-1755986400@www.70-72thepantiles.co.uk
SUMMARY:Private Party
DESCRIPTION:
URL:https://www.70-72thepantiles.co.uk/event/private-party-103/
LOCATION:Kent
END:VEVENT
BEGIN:VEVENT
DTSTART;TZID=Europe/London:20250830T190000
DTEND;TZID=Europe/London:20250831T010000
DTSTAMP:20260424T175322
CREATED:20250715T213742Z
LAST-MODIFIED:20250715T213803Z
UID:10000881-1756580400-1756602000@www.70-72thepantiles.co.uk
SUMMARY:Private Party
DESCRIPTION:
URL:https://www.70-72thepantiles.co.uk/event/private-party-134/
LOCATION:Kent
END:VEVENT
END:VCALENDAR