BEGIN:VCALENDAR
VERSION:2.0
PRODID:-//La Casa Vecchia &amp; The Grey Lady - ECPv6.15.18//NONSGML v1.0//EN
CALSCALE:GREGORIAN
METHOD:PUBLISH
X-WR-CALNAME:La Casa Vecchia &amp; The Grey Lady
X-ORIGINAL-URL:https://www.70-72thepantiles.co.uk
X-WR-CALDESC:Events for La Casa Vecchia &amp; The Grey Lady
REFRESH-INTERVAL;VALUE=DURATION:PT1H
X-Robots-Tag:noindex
X-PUBLISHED-TTL:PT1H
BEGIN:VTIMEZONE
TZID:Europe/London
BEGIN:DAYLIGHT
TZOFFSETFROM:+0000
TZOFFSETTO:+0100
TZNAME:BST
DTSTART:20240331T010000
END:DAYLIGHT
BEGIN:STANDARD
TZOFFSETFROM:+0100
TZOFFSETTO:+0000
TZNAME:GMT
DTSTART:20241027T010000
END:STANDARD
BEGIN:DAYLIGHT
TZOFFSETFROM:+0000
TZOFFSETTO:+0100
TZNAME:BST
DTSTART:20250330T010000
END:DAYLIGHT
BEGIN:STANDARD
TZOFFSETFROM:+0100
TZOFFSETTO:+0000
TZNAME:GMT
DTSTART:20251026T010000
END:STANDARD
BEGIN:DAYLIGHT
TZOFFSETFROM:+0000
TZOFFSETTO:+0100
TZNAME:BST
DTSTART:20260329T010000
END:DAYLIGHT
BEGIN:STANDARD
TZOFFSETFROM:+0100
TZOFFSETTO:+0000
TZNAME:GMT
DTSTART:20261025T010000
END:STANDARD
END:VTIMEZONE
BEGIN:VEVENT
DTSTART;TZID=Europe/London:20251101T190000
DTEND;TZID=Europe/London:20251102T010000
DTSTAMP:20260424T133049
CREATED:20250423T201646Z
LAST-MODIFIED:20250423T201646Z
UID:10000558-1762023600-1762045200@www.70-72thepantiles.co.uk
SUMMARY:Private Party
DESCRIPTION:
URL:https://www.70-72thepantiles.co.uk/event/private-party-125/
LOCATION:Kent
END:VEVENT
BEGIN:VEVENT
DTSTART;TZID=Europe/London:20251104T190000
DTEND;TZID=Europe/London:20251104T220000
DTSTAMP:20260424T133049
CREATED:20250607T153344Z
LAST-MODIFIED:20250607T153435Z
UID:10000689-1762282800-1762293600@www.70-72thepantiles.co.uk
SUMMARY:Open Mic: Singers Night
DESCRIPTION:A welcoming evening for all vocalists\, from beginners to pros! Sing with live piano accompaniment by Roger Lewin in a fun\, supportive atmosphere. Bring sheet music\, backing tracks\, or your own original songs. Great vibes\, great music\, and great food – come sing or just enjoy the show! \nEntry £5 for singers and listeners. Questions? Email singersnight@yahoo.com. \n 
URL:https://www.70-72thepantiles.co.uk/event/open-mic-singers-night-2/2025-11-04/
LOCATION:The Grey Lady\, 70-72 The Pantiles\, Tunbridge Wells\, Kent\, TN2 5TW\, United Kingdom
ATTACH;FMTTYPE=image/jpeg:https://media.70-72thepantiles.co.uk/wp-content/uploads/2025/06/07163100/IMG_6924.jpeg
END:VEVENT
BEGIN:VEVENT
DTSTART;TZID=Europe/London:20251107T190000
DTEND;TZID=Europe/London:20251108T000000
DTSTAMP:20260424T133049
CREATED:20250621T180801Z
LAST-MODIFIED:20251106T123332Z
UID:10000810-1762542000-1762560000@www.70-72thepantiles.co.uk
SUMMARY:Hard Lines
DESCRIPTION:A night of fantastic live music performed by Hardlines! These masters of jazz funk\, Neil Robinson on guitar\, Tim Cansfield on guitar\, Bill Gibbard  on bass \, Gary Plumley or Frank Mead on sax\, Iain Rae on keyboards.  They are truly a great band composed of excellent musicians with a superb repertoire of covers\, and even some originals from Iain himself.
URL:https://www.70-72thepantiles.co.uk/event/hard-lines/
LOCATION:The Grey Lady\, 70-72 The Pantiles\, Tunbridge Wells\, Kent\, TN2 5TW\, United Kingdom
ATTACH;FMTTYPE=image/jpeg:https://media.70-72thepantiles.co.uk/wp-content/uploads/2025/06/21190535/84751201_10156936975977031_1677219672941920256_n.jpg
END:VEVENT
BEGIN:VEVENT
DTSTART;TZID=Europe/London:20251114T190000
DTEND;TZID=Europe/London:20251115T000000
DTSTAMP:20260424T133049
CREATED:20250617T192632Z
LAST-MODIFIED:20251004T100532Z
UID:10000808-1763146800-1763164800@www.70-72thepantiles.co.uk
SUMMARY:Audacity Funk & Soul Band
DESCRIPTION:The Audacity Funk & Soul Band is a result of three bands (BIG Gs\, Funk Around Band and The\nAudacity) that have been prolific in some shape or form over the years across many venues in and\naround London and the South East.\nWe have been fortunate enough to keep a nucleus of musicians over the years and can expand to\na larger section if the occasion demands – regardless the music is well known with its roots in\nfunk and soul – with maybe the odd more recent song thrown in !\nEnjoy the music we have been fortunate enough to grow up with and listen to over the years !
URL:https://www.70-72thepantiles.co.uk/event/audacity-funk-soul-band/
LOCATION:The Grey Lady\, 70-72 The Pantiles\, Tunbridge Wells\, Kent\, TN2 5TW\, United Kingdom
ATTACH;FMTTYPE=image/jpeg:https://media.70-72thepantiles.co.uk/wp-content/uploads/2025/06/04110018/PHOTO-2025-07-18-15-13-33.jpg
END:VEVENT
BEGIN:VEVENT
DTSTART;TZID=Europe/London:20251115T190000
DTEND;TZID=Europe/London:20251116T010000
DTSTAMP:20260424T133049
CREATED:20250920T133556Z
LAST-MODIFIED:20250920T134708Z
UID:10000892-1763233200-1763254800@www.70-72thepantiles.co.uk
SUMMARY:Private Party
DESCRIPTION:
URL:https://www.70-72thepantiles.co.uk/event/private-party-139/
LOCATION:Kent
END:VEVENT
BEGIN:VEVENT
DTSTART;TZID=Europe/London:20251120T190000
DTEND;TZID=Europe/London:20251120T233000
DTSTAMP:20260424T133049
CREATED:20251104T205701Z
LAST-MODIFIED:20251104T205701Z
UID:10000909-1763665200-1763681400@www.70-72thepantiles.co.uk
SUMMARY:The Grey Lady Sessions: LETTERBOX SAINTS + MIKE WILTON & ROBIN O’KEEFE
DESCRIPTION:Join us on Nov 20th for a night of superb original music with LETTERBOX SAINTS + MIKE WILTON & ROBIN O’ KEEFE at The Grey Lady Sessions!\n\n\nTickets can be purchased by clicking here.
URL:https://www.70-72thepantiles.co.uk/event/the-grey-lady-sessions-letterbox-saints-mike-wilton-robin-okeefe/
LOCATION:The Grey Lady\, 70-72 The Pantiles\, Tunbridge Wells\, Kent\, TN2 5TW\, United Kingdom
ATTACH;FMTTYPE=image/jpeg:https://media.70-72thepantiles.co.uk/wp-content/uploads/2025/11/04205540/TGL-20Nov25.jpg
ORGANIZER;CN="Paul Dunton":MAILTO:paul@pauldunton.co.uk
END:VEVENT
BEGIN:VEVENT
DTSTART;TZID=Europe/London:20251121T190000
DTEND;TZID=Europe/London:20251122T000000
DTSTAMP:20260424T133049
CREATED:20250817T200008Z
LAST-MODIFIED:20250822T134232Z
UID:10000884-1763751600-1763769600@www.70-72thepantiles.co.uk
SUMMARY:Comedy Showcase
DESCRIPTION:Details coming soon
URL:https://www.70-72thepantiles.co.uk/event/comedy-showcase/
LOCATION:The Grey Lady\, 70-72 The Pantiles\, Tunbridge Wells\, Kent\, TN2 5TW\, United Kingdom
END:VEVENT
BEGIN:VEVENT
DTSTART;TZID=Europe/London:20251122T190000
DTEND;TZID=Europe/London:20251122T233000
DTSTAMP:20260424T133049
CREATED:20250923T193820Z
LAST-MODIFIED:20251028T215241Z
UID:10000897-1763838000-1763854200@www.70-72thepantiles.co.uk
SUMMARY:The Grey Lady Sessions: PAUL DUNTON ORCHESTRA + OLD MERCIA
DESCRIPTION:Join us on Nov 22nd at The Grey Lady Sessions featuring superb local original music from The Paul Dunton Orchestra and Old Mercia.\n\n\n\nWelcome to The Grey Lady Sessions featuring PAUL DUNTON ORCHESTRA and OLD MERCIA! Join us at The Grey Lady for an unforgettable candlelit concert. Expect top draw cinematic pop and alt folk / Americana vibes! \n  \nThe Paul Dunton Orchestra \nTunbridge Wells based musician Paul Dunton leads his own cross-over orchestra providing an uplifting mix of americana and cinematic pop. Performing a mix of Paul’s own compositions and a varied selection of uniquely arranged standards\, from the likes of Fleetwood Mac and Daisy Jones and The Six\, through to Massive Attack and London Grammar. \nwww.facebook.com/paulduntonorchestra\nwww.Instagram.com/paulduntonorchestra \nSpotify \n \nOld Mercia \nOld Mercia are a band based in and around Royal Tunbridge Wells. We know each other from our hometown\, Lichfield\, a city deep in the old kingdom of Mercia which has inspired a lot of the music that we make. We found ourselves\, by chance\, all living in the same area after years apart\, so picked up our instruments and carried on the journey. Making music never really left any of us and Old Mercia covers a lot of that time in-between. \nA blend of folk\, indie and rock\, our songs explore themes of nostalgia\, loss\, rebellion and love\, telling modern stories of Middle England. \nWebsite: https://www.instagram.com/old_mercia\nFacebook: https://www.instagram.com/old_mercia\nInstagram: https://www.instagram.com/old_mercia \nSpotify\n \n\nTickets can be purchased by clicking here.
URL:https://www.70-72thepantiles.co.uk/event/the-grey-lady-sessions-paul-dunton-orchestra-old-mercia/
LOCATION:The Grey Lady\, 70-72 The Pantiles\, Tunbridge Wells\, Kent\, TN2 5TW\, United Kingdom
ATTACH;FMTTYPE=image/jpeg:https://media.70-72thepantiles.co.uk/wp-content/uploads/2025/09/28215023/TGL-22Nov25.jpg
ORGANIZER;CN="Paul Dunton":MAILTO:paul@pauldunton.co.uk
END:VEVENT
BEGIN:VEVENT
DTSTART;TZID=Europe/London:20251128T190000
DTEND;TZID=Europe/London:20251128T233000
DTSTAMP:20260424T133049
CREATED:20250901T204546Z
LAST-MODIFIED:20260219T112804Z
UID:10000890-1764356400-1764372600@www.70-72thepantiles.co.uk
SUMMARY:The Princess band
DESCRIPTION:Stephanie Benson\, also known as Princess Akua Ohenewaa Asieanem of Kokobin\, is a UK-based Ghanaian international singer and performer rooted in jazz music. In Ghana\, she has been described as the queen of jazz. \nGuests can dine from our full A La Carte menu or have a drink and enjoy the music.
URL:https://www.70-72thepantiles.co.uk/event/princess-featuring-stephanie-benson/
LOCATION:The Grey Lady\, 70-72 The Pantiles\, Tunbridge Wells\, Kent\, TN2 5TW\, United Kingdom
ATTACH;FMTTYPE=image/jpeg:https://media.70-72thepantiles.co.uk/wp-content/uploads/2024/12/21121853/Princess.jpeg
END:VEVENT
BEGIN:VEVENT
DTSTART;TZID=Europe/London:20251129T190000
DTEND;TZID=Europe/London:20251130T003000
DTSTAMP:20260424T133049
CREATED:20250901T203852Z
LAST-MODIFIED:20250901T204749Z
UID:10000889-1764442800-1764462600@www.70-72thepantiles.co.uk
SUMMARY:The Tar Babies
DESCRIPTION:The Tar Babies: A Groovy Christmas Journey! Get ready to embark on a musical time warp with The Tar Babies. These modern-day children of ‘Flower Power’ are your ticket to a 60s and 70s musical extravaganza. With influences ranging from The Beatles to Hendrix and beyond\, they’ll transport you to a bygone era of legendary tunes.
URL:https://www.70-72thepantiles.co.uk/event/the-tar-babies-2/
LOCATION:The Grey Lady\, 70-72 The Pantiles\, Tunbridge Wells\, Kent\, TN2 5TW\, United Kingdom
ATTACH;FMTTYPE=image/jpeg:https://media.70-72thepantiles.co.uk/wp-content/uploads/2023/04/15230108/24131966_1553688958048974_1879145401798338566_o.jpg
END:VEVENT
END:VCALENDAR