BEGIN:VCALENDAR
VERSION:2.0
PRODID:-//La Casa Vecchia &amp; The Grey Lady - ECPv6.15.18//NONSGML v1.0//EN
CALSCALE:GREGORIAN
METHOD:PUBLISH
X-ORIGINAL-URL:https://www.70-72thepantiles.co.uk
X-WR-CALDESC:Events for La Casa Vecchia &amp; The Grey Lady
REFRESH-INTERVAL;VALUE=DURATION:PT1H
X-Robots-Tag:noindex
X-PUBLISHED-TTL:PT1H
BEGIN:VTIMEZONE
TZID:Europe/London
BEGIN:DAYLIGHT
TZOFFSETFROM:+0000
TZOFFSETTO:+0100
TZNAME:BST
DTSTART:20250330T010000
END:DAYLIGHT
BEGIN:STANDARD
TZOFFSETFROM:+0100
TZOFFSETTO:+0000
TZNAME:GMT
DTSTART:20251026T010000
END:STANDARD
BEGIN:DAYLIGHT
TZOFFSETFROM:+0000
TZOFFSETTO:+0100
TZNAME:BST
DTSTART:20260329T010000
END:DAYLIGHT
BEGIN:STANDARD
TZOFFSETFROM:+0100
TZOFFSETTO:+0000
TZNAME:GMT
DTSTART:20261025T010000
END:STANDARD
BEGIN:DAYLIGHT
TZOFFSETFROM:+0000
TZOFFSETTO:+0100
TZNAME:BST
DTSTART:20270328T010000
END:DAYLIGHT
BEGIN:STANDARD
TZOFFSETFROM:+0100
TZOFFSETTO:+0000
TZNAME:GMT
DTSTART:20271031T010000
END:STANDARD
END:VTIMEZONE
BEGIN:VEVENT
DTSTART;TZID=Europe/London:20260110T190000
DTEND;TZID=Europe/London:20260111T010000
DTSTAMP:20260424T110344
CREATED:20250601T161755Z
LAST-MODIFIED:20250828T205948Z
UID:10000624-1768071600-1768093200@www.70-72thepantiles.co.uk
SUMMARY:Private Party
DESCRIPTION:
URL:https://www.70-72thepantiles.co.uk/event/private-party-129/
LOCATION:Kent
END:VEVENT
BEGIN:VEVENT
DTSTART;TZID=Europe/London:20260116T200000
DTEND;TZID=Europe/London:20260117T010000
DTSTAMP:20260424T110344
CREATED:20260108T075018Z
LAST-MODIFIED:20260108T075018Z
UID:10000983-1768593600-1768611600@www.70-72thepantiles.co.uk
SUMMARY:Retro Funky Disco (Free Entry)
DESCRIPTION:Join us on Friday 16th of January for a night of Retro Funky Disco from 8pm-1am by LG Discos / Lost in House Music.
URL:https://www.70-72thepantiles.co.uk/event/retro-funky-disco-free-entry/
LOCATION:The Grey Lady\, 70-72 The Pantiles\, Tunbridge Wells\, Kent\, TN2 5TW\, United Kingdom
ATTACH;FMTTYPE=image/jpeg:https://media.70-72thepantiles.co.uk/wp-content/uploads/2026/01/08075006/782d04c6-81b8-4a86-8a3a-898aefbe71f2.jpg
END:VEVENT
BEGIN:VEVENT
DTSTART;TZID=Europe/London:20260117T190000
DTEND;TZID=Europe/London:20260117T233000
DTSTAMP:20260424T110344
CREATED:20251204T221847Z
LAST-MODIFIED:20251223T110558Z
UID:10000916-1768676400-1768692600@www.70-72thepantiles.co.uk
SUMMARY:Private Party
DESCRIPTION:
URL:https://www.70-72thepantiles.co.uk/event/the-grey-lady-sessions-lineup-tbc/
LOCATION:The Grey Lady\, 70-72 The Pantiles\, Tunbridge Wells\, Kent\, TN2 5TW\, United Kingdom
ORGANIZER;CN="Paul Dunton":MAILTO:paul@pauldunton.co.uk
END:VEVENT
BEGIN:VEVENT
DTSTART;TZID=Europe/London:20260130T190000
DTEND;TZID=Europe/London:20260131T010000
DTSTAMP:20260424T110344
CREATED:20251019T193259Z
LAST-MODIFIED:20260114T124358Z
UID:10000902-1769799600-1769821200@www.70-72thepantiles.co.uk
SUMMARY:Candela Night (salsa & reggaeton beats)
DESCRIPTION:A night of pure Latin energy \, your ticket includes a 45-min dance session with the rhythms of salsa and reggaeton\, followed by a party filled with the hottest beats. \nOur incredible Cuban DJ will light up the room with authentic Latin flavour. \nEnd of January \, come lift your spirit\, move your body\, and finish the month on fire. \nEpic night. Don’t miss it. \nTickets can be purchased by clicking here.
URL:https://www.70-72thepantiles.co.uk/event/latin-dance-event/
LOCATION:Kent
CATEGORIES:Promote
ATTACH;FMTTYPE=image/jpeg:https://media.70-72thepantiles.co.uk/wp-content/uploads/2025/10/14124257/CANDELA-NIGHT-1.jpg
ORGANIZER;CN="Yanina Ferrandi":MAILTO:Yanina Fit Classes Ferrandi
END:VEVENT
BEGIN:VEVENT
DTSTART;TZID=Europe/London:20260131T190000
DTEND;TZID=Europe/London:20260131T233000
DTSTAMP:20260424T110344
CREATED:20251204T221936Z
LAST-MODIFIED:20260109T151707Z
UID:10000917-1769886000-1769902200@www.70-72thepantiles.co.uk
SUMMARY:The Grey Lady Sessions: JAMES LLOYD SMITH + OLD MERCIA
DESCRIPTION:Get ready for an unforgettable night as James Lloyd Smith teams up with Old Mercia for The Grey Lady Sessions. Superb local original music to an intimate seated audience by candlelight. \nJames Lloyd Smith is an Indie Folk artist from The Garden of England. Crafting an atmospheric\, grounded soundscape through home recording\, James Lloyd Smith blends intricate melodies with organic instrumentation – all self-recorded and produced. Steeped in the language and tones of the natural landscape\, Lloyd Smith combines earthy reflections with personal introspection. And like the shifting seasons\, his lyrics ebb and flow between solitude and renewal\, loss and rediscovery. James Lloyd Smith’s music invites listeners into a world of nostalgia\, introspection\, and quiet beauty\, making space for both melancholy and hope.Instagram – https://www.instagram.com/james.lloyd.smithMy Last Single ‘Lake Walk’ – https://www.youtube.com/watch?v=q3XrOK37rqk This special in-person event promises great vibes\, awesome tunes\, and a cozy atmosphere. Whether you’re a fan or new to their sound\, come hang out and enjoy some killer live music! \nOld Mercia are a band based in and around Royal Tunbridge Wells. We know each other \nfrom our hometown\, Lichfield\, a city deep in the old kingdom of Mercia which has inspired a \nlot of the music that we make. We found ourselves\, by chance\, all living in the same area \nafter years apart\, so picked up our instruments and carried on the journey. Making music \nnever really left any of us and Old Mercia covers a lot of that time in-between. \nA blend of folk\, indie and rock\, our songs explore themes of nostalgia\, loss\, rebellion and \nlove\, telling modern stories of Middle England \nTickets can be purchased by clicking here. 
URL:https://www.70-72thepantiles.co.uk/event/the-grey-lady-sessions-james-lloyd-smith-old-mercia/
LOCATION:The Grey Lady\, 70-72 The Pantiles\, Tunbridge Wells\, Kent\, TN2 5TW\, United Kingdom
ATTACH;FMTTYPE=image/jpeg:https://media.70-72thepantiles.co.uk/wp-content/uploads/2025/12/09151651/TGL-31Jan26.jpg
ORGANIZER;CN="Paul Dunton":MAILTO:paul@pauldunton.co.uk
END:VEVENT
END:VCALENDAR