BEGIN:VCALENDAR
VERSION:2.0
PRODID:-//La Casa Vecchia &amp; The Grey Lady - ECPv6.15.18//NONSGML v1.0//EN
CALSCALE:GREGORIAN
METHOD:PUBLISH
X-WR-CALNAME:La Casa Vecchia &amp; The Grey Lady
X-ORIGINAL-URL:https://www.70-72thepantiles.co.uk
X-WR-CALDESC:Events for La Casa Vecchia &amp; The Grey Lady
REFRESH-INTERVAL;VALUE=DURATION:PT1H
X-Robots-Tag:noindex
X-PUBLISHED-TTL:PT1H
BEGIN:VTIMEZONE
TZID:Europe/London
BEGIN:DAYLIGHT
TZOFFSETFROM:+0000
TZOFFSETTO:+0100
TZNAME:BST
DTSTART:20250330T010000
END:DAYLIGHT
BEGIN:STANDARD
TZOFFSETFROM:+0100
TZOFFSETTO:+0000
TZNAME:GMT
DTSTART:20251026T010000
END:STANDARD
BEGIN:DAYLIGHT
TZOFFSETFROM:+0000
TZOFFSETTO:+0100
TZNAME:BST
DTSTART:20260329T010000
END:DAYLIGHT
BEGIN:STANDARD
TZOFFSETFROM:+0100
TZOFFSETTO:+0000
TZNAME:GMT
DTSTART:20261025T010000
END:STANDARD
BEGIN:DAYLIGHT
TZOFFSETFROM:+0000
TZOFFSETTO:+0100
TZNAME:BST
DTSTART:20270328T010000
END:DAYLIGHT
BEGIN:STANDARD
TZOFFSETFROM:+0100
TZOFFSETTO:+0000
TZNAME:GMT
DTSTART:20271031T010000
END:STANDARD
END:VTIMEZONE
BEGIN:VEVENT
DTSTART;TZID=Europe/London:20260704T190000
DTEND;TZID=Europe/London:20260705T010000
DTSTAMP:20260424T110034
CREATED:20260219T063320Z
LAST-MODIFIED:20260219T063320Z
UID:10001028-1783191600-1783213200@www.70-72thepantiles.co.uk
SUMMARY:Private Party
DESCRIPTION:
URL:https://www.70-72thepantiles.co.uk/event/private-party-159/
LOCATION:Kent
END:VEVENT
BEGIN:VEVENT
DTSTART;TZID=Europe/London:20260707T190000
DTEND;TZID=Europe/London:20260707T220000
DTSTAMP:20260424T110034
CREATED:20260106T202731Z
LAST-MODIFIED:20260107T181057Z
UID:10000928-1783450800-1783461600@www.70-72thepantiles.co.uk
SUMMARY:Open Mic: Singers Night
DESCRIPTION:A welcoming evening for all vocalists\, from beginners to pros! Sing with live piano accompaniment by Roger Lewin in a fun\, supportive atmosphere. Bring sheet music\, backing tracks\, or your own original songs. Great vibes\, great music\, and great food – come sing or just enjoy the show! \nEntry £5 for singers and listeners. Questions? Email singersnight@yahoo.com. \n 
URL:https://www.70-72thepantiles.co.uk/event/open-mic-singers-night-4/2026-07-07/
LOCATION:The Grey Lady\, 70-72 The Pantiles\, Tunbridge Wells\, Kent\, TN2 5TW\, United Kingdom
ATTACH;FMTTYPE=image/jpeg:https://media.70-72thepantiles.co.uk/wp-content/uploads/2026/01/06202717/IMG_9624.jpeg
END:VEVENT
BEGIN:VEVENT
DTSTART;TZID=Europe/London:20260711T190000
DTEND;TZID=Europe/London:20260712T010000
DTSTAMP:20260424T110034
CREATED:20250624T194427Z
LAST-MODIFIED:20250715T213551Z
UID:10000876-1783796400-1783818000@www.70-72thepantiles.co.uk
SUMMARY:Private Party
DESCRIPTION:
URL:https://www.70-72thepantiles.co.uk/event/private-party-131/
LOCATION:Kent
END:VEVENT
BEGIN:VEVENT
DTSTART;TZID=Europe/London:20260712T190000
DTEND;TZID=Europe/London:20260712T223000
DTSTAMP:20260424T110034
CREATED:20260114T090752Z
LAST-MODIFIED:20260415T065744Z
UID:10001006-1783882800-1783895400@www.70-72thepantiles.co.uk
SUMMARY:Blood Me Up Marjorie
DESCRIPTION:
URL:https://www.70-72thepantiles.co.uk/event/blood-me-up-marjorie-3/
LOCATION:The Grey Lady\, 70-72 The Pantiles\, Tunbridge Wells\, Kent\, TN2 5TW\, United Kingdom
END:VEVENT
BEGIN:VEVENT
DTSTART;TZID=Europe/London:20260725T190000
DTEND;TZID=Europe/London:20260726T010000
DTSTAMP:20260424T110034
CREATED:20260121T064459Z
LAST-MODIFIED:20260121T064459Z
UID:10001014-1785006000-1785027600@www.70-72thepantiles.co.uk
SUMMARY:Private Party
DESCRIPTION:
URL:https://www.70-72thepantiles.co.uk/event/private-party-151/
LOCATION:Kent
END:VEVENT
END:VCALENDAR