BEGIN:VCALENDAR
VERSION:2.0
PRODID:-//La Casa Vecchia &amp; The Grey Lady - ECPv6.15.18//NONSGML v1.0//EN
CALSCALE:GREGORIAN
METHOD:PUBLISH
X-WR-CALNAME:La Casa Vecchia &amp; The Grey Lady
X-ORIGINAL-URL:https://www.70-72thepantiles.co.uk
X-WR-CALDESC:Events for La Casa Vecchia &amp; The Grey Lady
REFRESH-INTERVAL;VALUE=DURATION:PT1H
X-Robots-Tag:noindex
X-PUBLISHED-TTL:PT1H
BEGIN:VTIMEZONE
TZID:Europe/London
BEGIN:DAYLIGHT
TZOFFSETFROM:+0000
TZOFFSETTO:+0100
TZNAME:BST
DTSTART:20250330T010000
END:DAYLIGHT
BEGIN:STANDARD
TZOFFSETFROM:+0100
TZOFFSETTO:+0000
TZNAME:GMT
DTSTART:20251026T010000
END:STANDARD
BEGIN:DAYLIGHT
TZOFFSETFROM:+0000
TZOFFSETTO:+0100
TZNAME:BST
DTSTART:20260329T010000
END:DAYLIGHT
BEGIN:STANDARD
TZOFFSETFROM:+0100
TZOFFSETTO:+0000
TZNAME:GMT
DTSTART:20261025T010000
END:STANDARD
BEGIN:DAYLIGHT
TZOFFSETFROM:+0000
TZOFFSETTO:+0100
TZNAME:BST
DTSTART:20270328T010000
END:DAYLIGHT
BEGIN:STANDARD
TZOFFSETFROM:+0100
TZOFFSETTO:+0000
TZNAME:GMT
DTSTART:20271031T010000
END:STANDARD
END:VTIMEZONE
BEGIN:VEVENT
DTSTART;TZID=Europe/London:20261103T190000
DTEND;TZID=Europe/London:20261103T220000
DTSTAMP:20260425T005351
CREATED:20260106T202731Z
LAST-MODIFIED:20260107T181057Z
UID:10000932-1793732400-1793743200@www.70-72thepantiles.co.uk
SUMMARY:Open Mic: Singers Night
DESCRIPTION:A welcoming evening for all vocalists\, from beginners to pros! Sing with live piano accompaniment by Roger Lewin in a fun\, supportive atmosphere. Bring sheet music\, backing tracks\, or your own original songs. Great vibes\, great music\, and great food – come sing or just enjoy the show! \nEntry £5 for singers and listeners. Questions? Email singersnight@yahoo.com. \n 
URL:https://www.70-72thepantiles.co.uk/event/open-mic-singers-night-4/2026-11-03/
LOCATION:The Grey Lady\, 70-72 The Pantiles\, Tunbridge Wells\, Kent\, TN2 5TW\, United Kingdom
ATTACH;FMTTYPE=image/jpeg:https://media.70-72thepantiles.co.uk/wp-content/uploads/2026/01/06202717/IMG_9624.jpeg
END:VEVENT
BEGIN:VEVENT
DTSTART;TZID=Europe/London:20261106T190000
DTEND;TZID=Europe/London:20261107T000000
DTSTAMP:20260425T005351
CREATED:20260415T062926Z
LAST-MODIFIED:20260415T062926Z
UID:10001040-1793991600-1794009600@www.70-72thepantiles.co.uk
SUMMARY:Comedy Showcase
DESCRIPTION:Details coming soon
URL:https://www.70-72thepantiles.co.uk/event/comedy-showcase-2/
LOCATION:The Grey Lady\, 70-72 The Pantiles\, Tunbridge Wells\, Kent\, TN2 5TW\, United Kingdom
END:VEVENT
BEGIN:VEVENT
DTSTART;TZID=Europe/London:20261126T190000
DTEND;TZID=Europe/London:20261126T233000
DTSTAMP:20260425T005351
CREATED:20260219T063145Z
LAST-MODIFIED:20260219T063145Z
UID:10001027-1795719600-1795735800@www.70-72thepantiles.co.uk
SUMMARY:The Grey Lady Sessions: Lineup TBC
DESCRIPTION:
URL:https://www.70-72thepantiles.co.uk/event/the-grey-lady-sessions-lineup-tbc-8/
LOCATION:The Grey Lady\, 70-72 The Pantiles\, Tunbridge Wells\, Kent\, TN2 5TW\, United Kingdom
ORGANIZER;CN="Paul Dunton":MAILTO:paul@pauldunton.co.uk
END:VEVENT
BEGIN:VEVENT
DTSTART;TZID=Europe/London:20261128T190000
DTEND;TZID=Europe/London:20261129T010000
DTSTAMP:20260425T005351
CREATED:20260213T101340Z
LAST-MODIFIED:20260213T101340Z
UID:10001024-1795892400-1795914000@www.70-72thepantiles.co.uk
SUMMARY:Private Party
DESCRIPTION:
URL:https://www.70-72thepantiles.co.uk/event/private-party-156/
LOCATION:Kent
END:VEVENT
END:VCALENDAR