BEGIN:VCALENDAR
VERSION:2.0
PRODID:-//La Casa Vecchia &amp; The Grey Lady - ECPv6.15.18//NONSGML v1.0//EN
CALSCALE:GREGORIAN
METHOD:PUBLISH
X-WR-CALNAME:La Casa Vecchia &amp; The Grey Lady
X-ORIGINAL-URL:https://www.70-72thepantiles.co.uk
X-WR-CALDESC:Events for La Casa Vecchia &amp; The Grey Lady
REFRESH-INTERVAL;VALUE=DURATION:PT1H
X-Robots-Tag:noindex
X-PUBLISHED-TTL:PT1H
BEGIN:VTIMEZONE
TZID:Europe/London
BEGIN:DAYLIGHT
TZOFFSETFROM:+0000
TZOFFSETTO:+0100
TZNAME:BST
DTSTART:20250330T010000
END:DAYLIGHT
BEGIN:STANDARD
TZOFFSETFROM:+0100
TZOFFSETTO:+0000
TZNAME:GMT
DTSTART:20251026T010000
END:STANDARD
BEGIN:DAYLIGHT
TZOFFSETFROM:+0000
TZOFFSETTO:+0100
TZNAME:BST
DTSTART:20260329T010000
END:DAYLIGHT
BEGIN:STANDARD
TZOFFSETFROM:+0100
TZOFFSETTO:+0000
TZNAME:GMT
DTSTART:20261025T010000
END:STANDARD
BEGIN:DAYLIGHT
TZOFFSETFROM:+0000
TZOFFSETTO:+0100
TZNAME:BST
DTSTART:20270328T010000
END:DAYLIGHT
BEGIN:STANDARD
TZOFFSETFROM:+0100
TZOFFSETTO:+0000
TZNAME:GMT
DTSTART:20271031T010000
END:STANDARD
END:VTIMEZONE
BEGIN:VEVENT
DTSTART;TZID=Europe/London:20260510T190000
DTEND;TZID=Europe/London:20260510T233000
DTSTAMP:20260424T110028
CREATED:20260219T063026Z
LAST-MODIFIED:20260325T203045Z
UID:10001021-1778439600-1778455800@www.70-72thepantiles.co.uk
SUMMARY:The Grey Lady Sessions:
DESCRIPTION:The Grey Lady Sessions: THE ORANGE CIRCUS + THE ACKERLEYS\n\n\nGet ready for an incredible Grey Lady sessions with THE ORANGE CIRCUS and THE ACKERLEYS! \nThe Orange Circus \n“Rooted in Bluegrass and UK Folk Music\, they’re a wonderful bridge across the Atlantic. ” \nWhispering Bob Harris\, OBE BBC 2 Country \n“They’re a brilliant mash-up of old-time Appalachia and British folk traditions\, and just a good time party vibe. And they’re spectacular live” \nRalph McLean – Country\, BBC Radio Ulster \n“The Orange Circus Band appear to have been lifted from another time. They’ve attracted favourable attention from the likes of Bob Harris and Roger Daltrey\, and on this showing\, the plaudits from such greats of the music world are wholly justified.” \nAmericana UK \nhttps://www.theorangecircus.com/\nhttps://www.facebook.com/theorangecircus\nhttps://www.instagram.com/orangecircusband/ \nThe Ackerleys \nJoe Ackerley\, Cyrano frontman (previous Local & Live headliners) and his younger sister Alice sing uplifting\, moody and soulful songs featuring close harmony\, strong chord structure and catchy melody. Joe employs his prodigious song writing skills and his own rich baritone to complement and showcase Alice‘s striking voice. Joe’s influences include Pearl Jam/ Radiohead/ Elbow/Crowded House/Jeff Buckley. Alice provides a more contemporary vibe – Laura Marling\, The Staves\, Haim\, Pierces. \nListen to their stunning music via \nwww.soundcloud.com/theackerleys \n\nTickets can be purchased by clicking here.
URL:https://www.70-72thepantiles.co.uk/event/the-grey-lady-sessions/
LOCATION:The Grey Lady\, 70-72 The Pantiles\, Tunbridge Wells\, Kent\, TN2 5TW\, United Kingdom
ATTACH;FMTTYPE=image/jpeg:https://media.70-72thepantiles.co.uk/wp-content/uploads/2026/02/24132730/TGL-10May26.jpg
ORGANIZER;CN="Paul Dunton":MAILTO:paul@pauldunton.co.uk
END:VEVENT
BEGIN:VEVENT
DTSTART;TZID=Europe/London:20261126T190000
DTEND;TZID=Europe/London:20261126T233000
DTSTAMP:20260424T110028
CREATED:20260219T063145Z
LAST-MODIFIED:20260219T063145Z
UID:10001027-1795719600-1795735800@www.70-72thepantiles.co.uk
SUMMARY:The Grey Lady Sessions: Lineup TBC
DESCRIPTION:
URL:https://www.70-72thepantiles.co.uk/event/the-grey-lady-sessions-lineup-tbc-8/
LOCATION:The Grey Lady\, 70-72 The Pantiles\, Tunbridge Wells\, Kent\, TN2 5TW\, United Kingdom
ORGANIZER;CN="Paul Dunton":MAILTO:paul@pauldunton.co.uk
END:VEVENT
END:VCALENDAR