BEGIN:VCALENDAR
VERSION:2.0
PRODID:-//La Casa Vecchia &amp; The Grey Lady - ECPv6.15.18//NONSGML v1.0//EN
CALSCALE:GREGORIAN
METHOD:PUBLISH
X-ORIGINAL-URL:https://www.70-72thepantiles.co.uk
X-WR-CALDESC:Events for La Casa Vecchia &amp; The Grey Lady
REFRESH-INTERVAL;VALUE=DURATION:PT1H
X-Robots-Tag:noindex
X-PUBLISHED-TTL:PT1H
BEGIN:VTIMEZONE
TZID:Europe/London
BEGIN:DAYLIGHT
TZOFFSETFROM:+0000
TZOFFSETTO:+0100
TZNAME:BST
DTSTART:20220327T010000
END:DAYLIGHT
BEGIN:STANDARD
TZOFFSETFROM:+0100
TZOFFSETTO:+0000
TZNAME:GMT
DTSTART:20221030T010000
END:STANDARD
BEGIN:DAYLIGHT
TZOFFSETFROM:+0000
TZOFFSETTO:+0100
TZNAME:BST
DTSTART:20230326T010000
END:DAYLIGHT
BEGIN:STANDARD
TZOFFSETFROM:+0100
TZOFFSETTO:+0000
TZNAME:GMT
DTSTART:20231029T010000
END:STANDARD
BEGIN:DAYLIGHT
TZOFFSETFROM:+0000
TZOFFSETTO:+0100
TZNAME:BST
DTSTART:20240331T010000
END:DAYLIGHT
BEGIN:STANDARD
TZOFFSETFROM:+0100
TZOFFSETTO:+0000
TZNAME:GMT
DTSTART:20241027T010000
END:STANDARD
END:VTIMEZONE
BEGIN:VEVENT
DTSTART;TZID=Europe/London:20230910T190000
DTEND;TZID=Europe/London:20230910T233000
DTSTAMP:20260424T212857
CREATED:20230802T224724Z
LAST-MODIFIED:20230904T214651Z
UID:10000340-1694372400-1694388600@www.70-72thepantiles.co.uk
SUMMARY:The Grey Lady Sessions: Zoë Nicol + Doris Amy
DESCRIPTION:Experience the magic of Grey Lady Sessions\, a cherished tradition at our venue since August 2005! Our intimate\, candlelit shows offer an exceptional live music experience steeped in atmosphere and ambience. Enjoy the best local original acts all in one bill\, carefully curated just for you. Quench your thirst with our full bar. \nPlease note that tickets must be purchased in advance\, and we kindly request a listening etiquette during performances to ensure the music remains centre stage. Doors open at 7:15 pm\, and the music starts at 8 pm sharp. Join us as we celebrate new\, original music and support local artists. We are incredibly grateful for your continued support! \nTickets can be purchased by clicking here.
URL:https://www.70-72thepantiles.co.uk/event/the-grey-lady-sessions-zoe-nicol-doris-amy/
LOCATION:The Grey Lady\, 70-72 The Pantiles\, Tunbridge Wells\, Kent\, TN2 5TW\, United Kingdom
ATTACH;FMTTYPE=image/jpeg:https://media.70-72thepantiles.co.uk/wp-content/uploads/2023/08/04224552/TGL-10Sep23.jpg
ORGANIZER;CN="Paul Dunton":MAILTO:paul@pauldunton.co.uk
END:VEVENT
BEGIN:VEVENT
DTSTART;TZID=Europe/London:20230804T190000
DTEND;TZID=Europe/London:20230804T233000
DTSTAMP:20260424T212857
CREATED:20230715T205608Z
LAST-MODIFIED:20230715T205727Z
UID:10000329-1691175600-1691191800@www.70-72thepantiles.co.uk
SUMMARY:The Grey Lady Sessions: LUKE FRASER + WILL LOCKE + SEAN ALEXANDER
DESCRIPTION:Experience the magic of Grey Lady Sessions\, a cherished tradition at our venue since August 2005! Our intimate\, candlelit shows offer an exceptional live music experience steeped in atmosphere and ambience. Enjoy the best local original acts all in one bill\, carefully curated just for you. Quench your thirst with our full bar and indulge in our delectable Mediterranean menu.</a \nPlease note that tickets must be purchased in advance\, and we kindly request a listening etiquette during performances to ensure the music remains centre stage. Doors open at 7:15 pm\, and the music starts at 8 pm sharp. Join us as we celebrate new\, original music and support local artists. We are incredibly grateful for your continued support! \nTickets can be purchased by clicking here.
URL:https://www.70-72thepantiles.co.uk/event/the-grey-lady-sessions-luke-fraser-will-locke-sean-alexander/
LOCATION:The Grey Lady\, 70-72 The Pantiles\, Tunbridge Wells\, Kent\, TN2 5TW\, United Kingdom
ATTACH;FMTTYPE=image/jpeg:https://media.70-72thepantiles.co.uk/wp-content/uploads/2023/07/15215541/TGL-4Aug23.jpg
ORGANIZER;CN="Paul Dunton":MAILTO:paul@pauldunton.co.uk
END:VEVENT
BEGIN:VEVENT
DTSTART;TZID=Europe/London:20230730T190000
DTEND;TZID=Europe/London:20230730T233000
DTSTAMP:20260424T212857
CREATED:20230516T074710Z
LAST-MODIFIED:20230723T055448Z
UID:10000310-1690743600-1690759800@www.70-72thepantiles.co.uk
SUMMARY:Grey Lady Sessions: David Migden & The Twisted Roots + Reptile Kin
DESCRIPTION:Experience the magic of Grey Lady Sessions\, a cherished tradition at our venue since August 2005! Our intimate\, candlelit shows offer an exceptional live music experience steeped in atmosphere and ambience. Enjoy the best local original acts all in one bill\, carefully curated just for you. Quench your thirst with our full bar and indulge in our delectable Mediterranean menu. \nPlease note that tickets must be purchased in advance\, and we kindly request a listening etiquette during performances to ensure the music remains centre stage. Doors open at 7:15 pm\, and the music starts at 8 pm sharp. Join us as we celebrate new\, original music and support local artists. We are incredibly grateful for your continued support! \nTickets can be purchased by clicking here.
URL:https://www.70-72thepantiles.co.uk/event/grey-lady-sessions-david-migden-the-twisted-roots-harry-whitty-band/
LOCATION:The Grey Lady\, 70-72 The Pantiles\, Tunbridge Wells\, Kent\, TN2 5TW\, United Kingdom
ATTACH;FMTTYPE=image/jpeg:https://media.70-72thepantiles.co.uk/wp-content/uploads/2023/05/23065325/TGL-30Jul23-1.jpg
ORGANIZER;CN="Paul Dunton":MAILTO:paul@pauldunton.co.uk
END:VEVENT
BEGIN:VEVENT
DTSTART;TZID=Europe/London:20230728T190000
DTEND;TZID=Europe/London:20230728T233000
DTSTAMP:20260424T212857
CREATED:20230516T074641Z
LAST-MODIFIED:20230611T120832Z
UID:10000309-1690570800-1690587000@www.70-72thepantiles.co.uk
SUMMARY:The Grey Lady Sessions: The Paul Dunton Orchestra
DESCRIPTION:Experience the magic of Grey Lady Sessions\, a cherished tradition at our venue since August 2005! Our intimate\, candlelit shows offer an exceptional live music experience steeped in atmosphere and ambience. Enjoy the best local original acts all in one bill\, carefully curated just for you. Quench your thirst with our full bar and indulge in our delectable Mediterranean menu.
URL:https://www.70-72thepantiles.co.uk/event/the-grey-lady-sessions-the-paul-dunton-orchestra/
LOCATION:The Grey Lady\, 70-72 The Pantiles\, Tunbridge Wells\, Kent\, TN2 5TW\, United Kingdom
ATTACH;FMTTYPE=image/jpeg:https://media.70-72thepantiles.co.uk/wp-content/uploads/2023/05/11130758/TGL-28Jul23.jpg
ORGANIZER;CN="Paul Dunton":MAILTO:paul@pauldunton.co.uk
END:VEVENT
BEGIN:VEVENT
DTSTART;TZID=Europe/London:20230514T190000
DTEND;TZID=Europe/London:20230514T230000
DTSTAMP:20260424T212857
CREATED:20230407T082827Z
LAST-MODIFIED:20230424T165954Z
UID:10000295-1684090800-1684105200@www.70-72thepantiles.co.uk
SUMMARY:The Grey Lady Sessions: Jez Harley + The Ackerleys
DESCRIPTION:Join us for superb Grey Lady Sessions from popular local acts Jez Harley and The Ackerleys \nExperience the magic of Grey Lady Sessions\, a cherished tradition at our venue since August 2005! Our intimate\, candlelit shows offer an exceptional live music experience steeped in atmosphere and ambience. Enjoy the best local original acts all in one bill\, carefully curated just for you. Quench your thirst with our full bar and indulge in our delectable Mediterranean menu. \nPlease note that tickets must be purchased in advance\, and we kindly request a listening etiquette during performances to ensure the music remains centre stage. Doors open at 7:15 pm\, and the music starts at 8 pm sharp. Join us as we celebrate new\, original music and support local artists. We are incredibly grateful for your continued support! \nTickets can be purchased by clicking here.
URL:https://www.70-72thepantiles.co.uk/event/the-grey-lady-sessions-jez-harley-the-ackerleys/
ATTACH;FMTTYPE=image/jpeg:https://media.70-72thepantiles.co.uk/wp-content/uploads/2023/04/24175802/TGL-14May23.jpg
ORGANIZER;CN="Paul Dunton":MAILTO:paul@pauldunton.co.uk
END:VEVENT
BEGIN:VEVENT
DTSTART;TZID=Europe/London:20230428T190000
DTEND;TZID=Europe/London:20230428T233000
DTSTAMP:20260424T212857
CREATED:20230223T165631Z
LAST-MODIFIED:20230329T173314Z
UID:10000276-1682708400-1682724600@www.70-72thepantiles.co.uk
SUMMARY:The Grey Lady Sessions: Summit of The Big Low + Steffan James
DESCRIPTION:Join us for superb Grey Lady Sessions featuring a headline set from SUMMIT OF THE BIG LOW and support from STEFFAN JAMES. \nExperience the magic of Grey Lady Sessions\, a cherished tradition at our venue since August 2005! Our intimate\, candlelit shows offer an exceptional live music experience steeped in atmosphere and ambience. Enjoy the best local original acts all in one bill\, carefully curated just for you. Quench your thirst with our full bar and indulge in our delectable Mediterranean menu. \nPlease note that tickets must be purchased in advance\, and we kindly request a listening etiquette during performances to ensure the music remains centre stage. Doors open at 7:15 pm\, and the music starts at 8 pm sharp. Join us as we celebrate new\, original music and support local artists. We are incredibly grateful for your continued support! \nTickets can be purchased by clicking here.
URL:https://www.70-72thepantiles.co.uk/event/the-grey-lady-sessions-summit-of-the-big-low-steffan-james/
LOCATION:The Grey Lady\, 70-72 The Pantiles\, Tunbridge Wells\, Kent\, TN2 5TW\, United Kingdom
ATTACH;FMTTYPE=image/jpeg:https://media.70-72thepantiles.co.uk/wp-content/uploads/2023/02/29182931/TGL-28Apr23.jpg
ORGANIZER;CN="Paul Dunton":MAILTO:paul@pauldunton.co.uk
END:VEVENT
BEGIN:VEVENT
DTSTART;TZID=Europe/London:20230317T190000
DTEND;TZID=Europe/London:20230317T233000
DTSTAMP:20260424T212857
CREATED:20230223T165455Z
LAST-MODIFIED:20230228T230320Z
UID:10000275-1679079600-1679095800@www.70-72thepantiles.co.uk
SUMMARY:St Patrick’s Day concert with Paul Dunton & Special Guests
DESCRIPTION:Join us at The Grey Lady Music Lounge on St Patrick’s Day ☘️ March 17th for A superb live music concert from a selection of superb local bands. Full bar and kitchen menu available. Doors open 7.15 music from 7.45pm. It also happens to be somebody’s birthday gig! 🥳🤫🎶 \nTickets can be purchased by clicking here.
URL:https://www.70-72thepantiles.co.uk/event/st-patricks-day-concert/
LOCATION:The Grey Lady\, 70-72 The Pantiles\, Tunbridge Wells\, Kent\, TN2 5TW\, United Kingdom
ATTACH;FMTTYPE=image/jpeg:https://media.70-72thepantiles.co.uk/wp-content/uploads/2023/02/28225937/TGL-17Mar23-V2.jpg
ORGANIZER;CN="Paul Dunton":MAILTO:paul@pauldunton.co.uk
END:VEVENT
BEGIN:VEVENT
DTSTART;TZID=Europe/London:20230303T190000
DTEND;TZID=Europe/London:20230303T233000
DTSTAMP:20260424T212857
CREATED:20230214T200441Z
LAST-MODIFIED:20230223T182934Z
UID:10000272-1677870000-1677886200@www.70-72thepantiles.co.uk
SUMMARY:The Grey Lady Sessions: Songwriters Relay Concert
DESCRIPTION:Join us for a unique Grey Lady Sessions featuring six exceptional local singer/songwriters performing in a relay-style candlelit concert. \nExperience the magic of Grey Lady Sessions\, a cherished tradition at our venue since August 2005! Our intimate\, candlelit shows offer an exceptional live music experience steeped in atmosphere and ambience. Enjoy the best local original acts all in one bill\, carefully curated just for you. Quench your thirst with our full bar and indulge in our delectable Mediterranean menu. \nPlease note that tickets must be purchased in advance\, and we kindly request a listening etiquette during performances to ensure the music remains centre stage. Doors open at 7:15 pm\, and the music starts at 8 pm sharp. Join us as we celebrate new\, original music and support local artists. We are incredibly grateful for your continued support! \nClick here to purchase tickets.
URL:https://www.70-72thepantiles.co.uk/event/the-grey-lady-sessions-songwriters-relay-concert/
LOCATION:The Grey Lady\, 70-72 The Pantiles\, Tunbridge Wells\, Kent\, TN2 5TW\, United Kingdom
ATTACH;FMTTYPE=image/jpeg:https://media.70-72thepantiles.co.uk/wp-content/uploads/2023/02/14195401/TGL-3Mar23.jpg
ORGANIZER;CN="Paul Dunton":MAILTO:paul@pauldunton.co.uk
END:VEVENT
END:VCALENDAR